BEGIN:VCALENDAR
VERSION:2.0
PRODID:-//OCV.ca - ECPv6.15.13.1//NONSGML v1.0//EN
CALSCALE:GREGORIAN
METHOD:PUBLISH
X-WR-CALNAME:OCV.ca
X-ORIGINAL-URL:https://ocv.ca
X-WR-CALDESC:Events for OCV.ca
REFRESH-INTERVAL;VALUE=DURATION:PT1H
X-Robots-Tag:noindex
X-PUBLISHED-TTL:PT1H
BEGIN:VTIMEZONE
TZID:America/Vancouver
BEGIN:DAYLIGHT
TZOFFSETFROM:-0800
TZOFFSETTO:-0700
TZNAME:PDT
DTSTART:20240310T100000
END:DAYLIGHT
BEGIN:STANDARD
TZOFFSETFROM:-0700
TZOFFSETTO:-0800
TZNAME:PST
DTSTART:20241103T090000
END:STANDARD
BEGIN:DAYLIGHT
TZOFFSETFROM:-0800
TZOFFSETTO:-0700
TZNAME:PDT
DTSTART:20250309T100000
END:DAYLIGHT
BEGIN:STANDARD
TZOFFSETFROM:-0700
TZOFFSETTO:-0800
TZNAME:PST
DTSTART:20251102T090000
END:STANDARD
BEGIN:DAYLIGHT
TZOFFSETFROM:-0800
TZOFFSETTO:-0700
TZNAME:PDT
DTSTART:20260308T100000
END:DAYLIGHT
BEGIN:STANDARD
TZOFFSETFROM:-0700
TZOFFSETTO:-0800
TZNAME:PST
DTSTART:20261101T090000
END:STANDARD
END:VTIMEZONE
BEGIN:VEVENT
DTSTART;TZID=America/Vancouver:20251221T160000
DTEND;TZID=America/Vancouver:20251221T180000
DTSTAMP:20260424T011443
CREATED:20251213T230207Z
LAST-MODIFIED:20251213T230207Z
UID:9031-1766332800-1766340000@ocv.ca
SUMMARY:OCV Solstice Walk & Lights of Wonder
DESCRIPTION:Meet on the west side of the Johnson Street Bridge (Blue Bridge) near the blue Adirondack Chairs at 4:00pm. \nPark behind or beside the Delta Hotel. \nWalk first goes west along the water\, then returns to the Inner Harbour and ends at the Lights of Wonder exhibit in Centennial Square. \nDress warmly and bring a flashlight. \nNo need to sign-up\, simply show up.
URL:https://ocv.ca/event/ocv-solstice-walk-lights-of-wonder/
END:VEVENT
BEGIN:VEVENT
DTSTART;TZID=America/Vancouver:20251221T090000
DTEND;TZID=America/Vancouver:20251221T113000
DTSTAMP:20260424T011443
CREATED:20251120T171610Z
LAST-MODIFIED:20251120T171610Z
UID:8822-1766307600-1766316600@ocv.ca
SUMMARY:A1b PKOLS / Mt Doug
DESCRIPTION:Meet at parking lot near washrooms. Hike is 220 m – 7 km – 2.5 hrs. Email leader Lorraine L if coming.
URL:https://ocv.ca/event/a1b-pkols-mt-doug-4/
END:VEVENT
BEGIN:VEVENT
DTSTART;TZID=America/Vancouver:20251219T100000
DTEND;TZID=America/Vancouver:20251219T123000
DTSTAMP:20260424T011443
CREATED:20251120T171502Z
LAST-MODIFIED:20251219T211119Z
UID:8819-1766138400-1766147400@ocv.ca
SUMMARY:**UPDATE**Hike Cancelled**A1b Tod Inlet\, Oak Haven Park\, Gore Park
DESCRIPTION:This hike cancelled due to poor weather conditions.
URL:https://ocv.ca/event/a1b-tod-inlet-oak-haven-park-gore-park-4/
END:VEVENT
BEGIN:VEVENT
DTSTART;VALUE=DATE:20251219
DTEND;VALUE=DATE:20251220
DTSTAMP:20260424T011443
CREATED:20251120T173029Z
LAST-MODIFIED:20251219T211020Z
UID:8848-1766102400-1766188799@ocv.ca
SUMMARY:**UPDATE**Hike Cancelled**B2b Elbow Point via Emma Dixon
DESCRIPTION:This hike cancelled due to poor weather conditions.
URL:https://ocv.ca/event/b2b-elbow-point-via-emma-dixon/
CATEGORIES:B2b Hike
END:VEVENT
BEGIN:VEVENT
DTSTART;TZID=America/Vancouver:20251217T090000
DTEND;TZID=America/Vancouver:20251217T110000
DTSTAMP:20260424T011443
CREATED:20251120T171358Z
LAST-MODIFIED:20251120T171358Z
UID:8817-1765962000-1765969200@ocv.ca
SUMMARY:A1b Killarney Lake – Mt Work
DESCRIPTION:Meet at Hartland Rd parking lot used by mountain bikers. Hike is 100 m – 5 km – 2 hrs. Slow pace. Email leader Ken M if coming.
URL:https://ocv.ca/event/a1b-killarney-lake-mt-work-8/
END:VEVENT
BEGIN:VEVENT
DTSTART;VALUE=DATE:20251217
DTEND;VALUE=DATE:20251218
DTSTAMP:20260424T011443
CREATED:20251120T172833Z
LAST-MODIFIED:20251120T172833Z
UID:8846-1765929600-1766015999@ocv.ca
SUMMARY:B2b Stewart Mtn. -Scafe Hill
DESCRIPTION:Meet at the Mt. Work parking lot on Munn Road (Highlands). \nHike starts at 10:00. \nHike is 300m – 10 kms- 4 hrs. \nBring lunch. \nMust email Helen V. if coming.
URL:https://ocv.ca/event/b2b-stewart-mtn-scafe-hill-3/
CATEGORIES:B2b Hike
END:VEVENT
BEGIN:VEVENT
DTSTART;VALUE=DATE:20251216
DTEND;VALUE=DATE:20251217
DTSTAMP:20260424T011443
CREATED:20251120T172744Z
LAST-MODIFIED:20251120T172744Z
UID:8844-1765843200-1765929599@ocv.ca
SUMMARY:B2b Jocelyn Hill Loop
DESCRIPTION:Contact leader for start time and start location. \nMust email Elizabeth S. if coming.
URL:https://ocv.ca/event/b2b-jocelyn-hill-loop/
CATEGORIES:B2b Hike
END:VEVENT
BEGIN:VEVENT
DTSTART;VALUE=DATE:20251215
DTEND;VALUE=DATE:20251216
DTSTAMP:20260424T011443
CREATED:20251120T170317Z
LAST-MODIFIED:20251120T170317Z
UID:8793-1765756800-1765843199@ocv.ca
SUMMARY:B1b PKOLS (Mt. Doug)
DESCRIPTION:Meet at the oceanside lower parking lot. \nHike starts at 9:30. \nHike is 310m – 9 kms – 3 hrs. \nMust email Chris D. if coming.
URL:https://ocv.ca/event/b1b-pkols-mt-doug-3/
CATEGORIES:B1b Hike
END:VEVENT
BEGIN:VEVENT
DTSTART;TZID=America/Vancouver:20251214T093000
DTEND;TZID=America/Vancouver:20251214T130000
DTSTAMP:20260424T011443
CREATED:20251120T174818Z
LAST-MODIFIED:20251120T174818Z
UID:8856-1765704600-1765717200@ocv.ca
SUMMARY:A2b Woodridge Loop
DESCRIPTION:Meet at the end of Woodridge Place. \nHike starts at 9:30. \nHike is 223m – 10 kms – 3-3.5 hrs. \nMust email Cathy G. if coming.
URL:https://ocv.ca/event/a2b-woodridge-loop-6/
CATEGORIES:A2b Hike
END:VEVENT
BEGIN:VEVENT
DTSTART;VALUE=DATE:20251214
DTEND;VALUE=DATE:20251215
DTSTAMP:20260424T011443
CREATED:20251120T172524Z
LAST-MODIFIED:20251120T172524Z
UID:8837-1765670400-1765756799@ocv.ca
SUMMARY:B2b John Stick - Mt. Malcolm
DESCRIPTION:Meet at the Sooke Hills Wilderness parking lot on Sooke Road. \nStart time to be announced. \nHike is 400 m-11 kms – 4-5 hrs. \nHike goes along the flowline or similar route to the Amigos Carriageway\, then up to the peaks and back over one of the Amigos – exact route is weather-dependent. \nMust email Will A. if coming. \n** at least 2 Nifty 50’s**
URL:https://ocv.ca/event/b2b-john-stick-mt-malcolm/
CATEGORIES:B2b Hike
END:VEVENT
BEGIN:VEVENT
DTSTART;TZID=America/Vancouver:20251213T100000
DTEND;TZID=America/Vancouver:20251213T123000
DTSTAMP:20260424T011443
CREATED:20251120T171255Z
LAST-MODIFIED:20251120T171255Z
UID:8813-1765620000-1765629000@ocv.ca
SUMMARY:A1b Christmas Hill
DESCRIPTION:Meet at Beckwith Park. Hike is 150 m – 6.5 km – 2.5 hrs. Could be slippery so please bring poles. Email leader Paula M if coming.
URL:https://ocv.ca/event/a1b-christmas-hill-5/
END:VEVENT
BEGIN:VEVENT
DTSTART;VALUE=DATE:20251213
DTEND;VALUE=DATE:20251214
DTSTAMP:20260424T011443
CREATED:20251120T172051Z
LAST-MODIFIED:20251120T172051Z
UID:8831-1765584000-1765670399@ocv.ca
SUMMARY:B2b John Dean Park
DESCRIPTION:Meet at the trailhead at Halden Rd./Thompson Place (8233 Thompson Pl.). \nHike starts at 9:00. \nHike is 552 m-11 kms -3.5-4 hrs. \nMust email Liz B. if coming.
URL:https://ocv.ca/event/b2b-john-dean-park-3/
CATEGORIES:B2b Hike
END:VEVENT
BEGIN:VEVENT
DTSTART;TZID=America/Vancouver:20251212T100000
DTEND;TZID=America/Vancouver:20251212T130000
DTSTAMP:20260424T011443
CREATED:20251120T171147Z
LAST-MODIFIED:20251120T171147Z
UID:8811-1765533600-1765544400@ocv.ca
SUMMARY:A1b Centennial Park\, Butterfield Park\, Brown’s Woods Trail
DESCRIPTION:Meet at Centennial Park by washrooms. Hike is 225 m – 9.5 km – 3 hrs. Email leader Jan M if coming.
URL:https://ocv.ca/event/a1b-centennial-park-butterfield-park-browns-woods-trail-2/
END:VEVENT
BEGIN:VEVENT
DTSTART;VALUE=DATE:20251212
DTEND;VALUE=DATE:20251213
DTSTAMP:20260424T011443
CREATED:20251120T171816Z
LAST-MODIFIED:20251120T171816Z
UID:8823-1765497600-1765583999@ocv.ca
SUMMARY:B2b Mt. Work Connector - Scafe Hill - Stewart Mtn.
DESCRIPTION:Meet at the Mt. Work parking lot on Munn Road (Highlands). \nHike starts at 10:00. \nHike is 350 m- 11 kms – 4 hrs. \nMust email Whitney L. if coming.
URL:https://ocv.ca/event/b2b-mt-work-connector-scafe-hill-stewart-mtn/
CATEGORIES:B2b Hike
END:VEVENT
BEGIN:VEVENT
DTSTART;VALUE=DATE:20251212
DTEND;VALUE=DATE:20251213
DTSTAMP:20260424T011443
CREATED:20251120T171520Z
LAST-MODIFIED:20251213T230307Z
UID:8816-1765497600-1765583999@ocv.ca
SUMMARY:**UPDATE**Hike Cancelled**B2c Sensational Six Loop
DESCRIPTION:This hike cancelled due to the forecast of rain and wind.
URL:https://ocv.ca/event/b2c-sensational-six-loop/
CATEGORIES:B2c Hike
END:VEVENT
BEGIN:VEVENT
DTSTART;VALUE=DATE:20251210
DTEND;VALUE=DATE:20251211
DTSTAMP:20260424T011443
CREATED:20251120T171214Z
LAST-MODIFIED:20251120T171214Z
UID:8808-1765324800-1765411199@ocv.ca
SUMMARY:B2b Martha's Mounds -False Summit (Mt. Work) - Laughing Trail
DESCRIPTION:Meet at the Mt. Work parking lot on Munn Road. \nHike starts at 10:00. \nHike is 350m – 10kms – 4 hrs. \nBring lunch. \nMust email Helen V. if coming.
URL:https://ocv.ca/event/b2b-marthas-mounds-false-summit-mt-work-laughing-trail/
CATEGORIES:B2b Hike
END:VEVENT
BEGIN:VEVENT
DTSTART;TZID=America/Vancouver:20251209T100000
DTEND;TZID=America/Vancouver:20251209T123000
DTSTAMP:20260424T011443
CREATED:20251120T171039Z
LAST-MODIFIED:20251208T225233Z
UID:8809-1765274400-1765283400@ocv.ca
SUMMARY:**UPDATE**Change of Hike** A1b Oak Bay Ramble
DESCRIPTION:Meet at the Windsor Park Pavillion (2451 Windsor Rd.) main entrance. \nHike starts at 10:00. \nHike is 2 hrs. \nEmail leader Wendy E if coming. \n**Original hike was Francis King Park**
URL:https://ocv.ca/event/a1b-francis-king-park-3/
CATEGORIES:A1b Hike
END:VEVENT
BEGIN:VEVENT
DTSTART;TZID=America/Vancouver:20251208T100000
DTEND;TZID=America/Vancouver:20251208T130000
DTSTAMP:20260424T011443
CREATED:20251120T170854Z
LAST-MODIFIED:20251120T170854Z
UID:8805-1765188000-1765198800@ocv.ca
SUMMARY:A1a Broadmead Loop – Lower Trails
DESCRIPTION:Meet at Dalewood Lane off Chatterton Way. Hike is 65 m – 8 km – 3 hrs. Around Rithet’s Bog to Lohbrunner & Outerbridge Parks. Slow pace. Email leader Shirley T if coming.
URL:https://ocv.ca/event/a1a-broadmead-loop-lower-trails-2/
END:VEVENT
BEGIN:VEVENT
DTSTART;VALUE=DATE:20251208
DTEND;VALUE=DATE:20251209
DTSTAMP:20260424T011443
CREATED:20251120T170040Z
LAST-MODIFIED:20251208T174927Z
UID:8789-1765152000-1765238399@ocv.ca
SUMMARY:**UPDATE**Hike Cancelled**B1b 4 Amigos
DESCRIPTION:This hike is cancelled due to forecasted wind and rain.
URL:https://ocv.ca/event/b1b-4-amigos/
CATEGORIES:B1b Hike
END:VEVENT
BEGIN:VEVENT
DTSTART;TZID=America/Vancouver:20251207T093000
DTEND;TZID=America/Vancouver:20251207T123000
DTSTAMP:20260424T011443
CREATED:20251120T170745Z
LAST-MODIFIED:20251120T172512Z
UID:8801-1765099800-1765110600@ocv.ca
SUMMARY:A1a Esquimalt Marine Parks
DESCRIPTION:Meet at Spinnakers Pub\, 308 Catherine St. Hike is 130 m – 9.5 km – 3 hrs. Moderate pace. Email leader Lyn A if coming.
URL:https://ocv.ca/event/a1a-esquimalt-marine-parks/
END:VEVENT
BEGIN:VEVENT
DTSTART;VALUE=DATE:20251206
DTEND;VALUE=DATE:20251207
DTSTAMP:20260424T011443
CREATED:20251120T170859Z
LAST-MODIFIED:20251120T170859Z
UID:8803-1764979200-1765065599@ocv.ca
SUMMARY:B2b Mt. Work - Up Sidewinder - Down Westside
DESCRIPTION:Meet at the Mt. Work parking lot on Ross-Durrance Road. \nHike starts at 9:00. \nHike is 500m – 10.6 kms -4.5 hrs. \nMust email Liz B. if coming.
URL:https://ocv.ca/event/b2b-mt-work-up-sidewinder-down-westside/
CATEGORIES:B2b Hike
END:VEVENT
BEGIN:VEVENT
DTSTART;TZID=America/Vancouver:20251205T100000
DTEND;TZID=America/Vancouver:20251205T123000
DTSTAMP:20260424T011443
CREATED:20251120T170449Z
LAST-MODIFIED:20251120T170449Z
UID:8799-1764928800-1764937800@ocv.ca
SUMMARY:A1b Mystic Vale\, Finnerty Gdns\, Mt Tolmie
DESCRIPTION:Meet at Gyro Park. Hike is 190 m – 9 km – 3 hrs. Email leader Jan M if coming.
URL:https://ocv.ca/event/a1b-mystic-vale-finnerty-gdns-mt-tolmie-2/
END:VEVENT
BEGIN:VEVENT
DTSTART;TZID=America/Vancouver:20251203T090000
DTEND;TZID=America/Vancouver:20251203T110000
DTSTAMP:20260424T011443
CREATED:20251120T170351Z
LAST-MODIFIED:20251120T170351Z
UID:8795-1764752400-1764759600@ocv.ca
SUMMARY:A1b NW Francis King Park
DESCRIPTION:Meet at Francis King parking lot. Hike is 80 m – 5 km – 2 hrs. Slow pace. Email leader Ken M if coming.
URL:https://ocv.ca/event/a1b-nw-francis-king-park-27/
END:VEVENT
BEGIN:VEVENT
DTSTART;TZID=America/Vancouver:20251202T100000
DTEND;TZID=America/Vancouver:20251202T123000
DTSTAMP:20260424T011443
CREATED:20251120T170240Z
LAST-MODIFIED:20251120T172329Z
UID:8792-1764669600-1764678600@ocv.ca
SUMMARY:A1b Thetis Lake Park
DESCRIPTION:Meet at main Thetis Lake parking lot. Hike is 2.5 hrs. Around both lakes. Email leader Wendy E if coming.
URL:https://ocv.ca/event/a1b-thetis-lake-regional-park/
END:VEVENT
BEGIN:VEVENT
DTSTART;VALUE=DATE:20251202
DTEND;VALUE=DATE:20251203
DTSTAMP:20260424T011443
CREATED:20251120T170616Z
LAST-MODIFIED:20251120T170616Z
UID:8797-1764633600-1764719999@ocv.ca
SUMMARY:B2b 'Naughty in December' Naughty Hill -Flatty Hill - Mt. Wells
DESCRIPTION:Meet at the Mt. Wells parking lot. \nStart time to be announced. \nHike is 440m – 10 kms -4 hrs. \nMust email Jim N. if coming. \n**3 Nifty Fifty peaks**
URL:https://ocv.ca/event/b2b-naughty-in-december-naughty-hill-flatty-hill-mt-wells/
CATEGORIES:B2b Hike
END:VEVENT
BEGIN:VEVENT
DTSTART;VALUE=DATE:20251201
DTEND;VALUE=DATE:20251202
DTSTAMP:20260424T011443
CREATED:20251120T165710Z
LAST-MODIFIED:20251120T170128Z
UID:8787-1764547200-1764633599@ocv.ca
SUMMARY:B1b PKOLS (Mt. Doug)
DESCRIPTION:Meet at the oceanside lower parking lot. \nHike starts at 9:30. \nHike is 310m – 9kms -3 hrs. \nMust email Chris D. if coming.
URL:https://ocv.ca/event/b1b-pkols-mt-doug-2/
CATEGORIES:B1b Hike
END:VEVENT
BEGIN:VEVENT
DTSTART;VALUE=DATE:20251130
DTEND;VALUE=DATE:20251201
DTSTAMP:20260424T011443
CREATED:20250924T043809Z
LAST-MODIFIED:20250924T043809Z
UID:8714-1764460800-1764547199@ocv.ca
SUMMARY:B1b Partridge Hills
DESCRIPTION:Meet at the Durrance Lake parking lot. \nHike starts at 9:30. \nHike is 350m – 9.7 kms -3.5-4 hrs. \nMust email Cathy G. if coming.
URL:https://ocv.ca/event/b1b-partridge-hills-3/
CATEGORIES:B1b Hike
END:VEVENT
BEGIN:VEVENT
DTSTART;TZID=America/Vancouver:20251128T090000
DTEND;TZID=America/Vancouver:20251128T120000
DTSTAMP:20260424T011443
CREATED:20251120T171909Z
LAST-MODIFIED:20251120T171909Z
UID:8830-1764320400-1764331200@ocv.ca
SUMMARY:A1b Killarney Lake – Mt Work
DESCRIPTION:Meet at end of Woodridge Place. Hike is 260 m – 9 km – 3 hrs. Moderate pace. Email leader Lorraine L if coming.
URL:https://ocv.ca/event/a1b-killarney-lake-mt-work-9/
END:VEVENT
BEGIN:VEVENT
DTSTART;TZID=America/Vancouver:20251125T100000
DTEND;TZID=America/Vancouver:20251125T130000
DTSTAMP:20260424T011443
CREATED:20250921T194522Z
LAST-MODIFIED:20250921T194522Z
UID:8656-1764064800-1764075600@ocv.ca
SUMMARY:A1b Royal Roads
DESCRIPTION:Meet at Aldeane Rd parking lot. Hike is 9.5 km – 3 hrs. Snack/lunch break at Japanese Garden. Email leader Wendy E if coming.
URL:https://ocv.ca/event/a1b-royal-roads/
END:VEVENT
BEGIN:VEVENT
DTSTART;VALUE=DATE:20251125
DTEND;VALUE=DATE:20251126
DTSTAMP:20260424T011443
CREATED:20250924T041121Z
LAST-MODIFIED:20251125T035329Z
UID:8702-1764028800-1764115199@ocv.ca
SUMMARY:**UPDATE**Hike Cancelled**B1b The Three Bears
DESCRIPTION:This hike is cancelled due to  rain. \n 
URL:https://ocv.ca/event/b1b-the-three-bears/
CATEGORIES:B1b Hike
END:VEVENT
END:VCALENDAR