BEGIN:VCALENDAR
VERSION:2.0
PRODID:-//OCV.ca - ECPv6.15.13.1//NONSGML v1.0//EN
CALSCALE:GREGORIAN
METHOD:PUBLISH
X-WR-CALNAME:OCV.ca
X-ORIGINAL-URL:https://ocv.ca
X-WR-CALDESC:Events for OCV.ca
REFRESH-INTERVAL;VALUE=DURATION:PT1H
X-Robots-Tag:noindex
X-PUBLISHED-TTL:PT1H
BEGIN:VTIMEZONE
TZID:America/Vancouver
BEGIN:DAYLIGHT
TZOFFSETFROM:-0800
TZOFFSETTO:-0700
TZNAME:PDT
DTSTART:20250309T100000
END:DAYLIGHT
BEGIN:STANDARD
TZOFFSETFROM:-0700
TZOFFSETTO:-0800
TZNAME:PST
DTSTART:20251102T090000
END:STANDARD
BEGIN:DAYLIGHT
TZOFFSETFROM:-0800
TZOFFSETTO:-0700
TZNAME:PDT
DTSTART:20260308T100000
END:DAYLIGHT
BEGIN:STANDARD
TZOFFSETFROM:-0700
TZOFFSETTO:-0800
TZNAME:PST
DTSTART:20261101T090000
END:STANDARD
BEGIN:DAYLIGHT
TZOFFSETFROM:-0800
TZOFFSETTO:-0700
TZNAME:PDT
DTSTART:20270314T100000
END:DAYLIGHT
BEGIN:STANDARD
TZOFFSETFROM:-0700
TZOFFSETTO:-0800
TZNAME:PST
DTSTART:20271107T090000
END:STANDARD
END:VTIMEZONE
BEGIN:VEVENT
DTSTART;VALUE=DATE:20260128
DTEND;VALUE=DATE:20260129
DTSTAMP:20260423T093929
CREATED:20251219T220150Z
LAST-MODIFIED:20251219T220150Z
UID:9115-1769558400-1769644799@ocv.ca
SUMMARY:B2b Martha's Mounds - False Summit - Laughing Trail
DESCRIPTION:Meet at the Mt. Work parking lot on Munn Road. \nHike starts at 10:00. \nHike is 350m – 10 kms – 4 hrs. \nMust email Helen V. if coming.
URL:https://ocv.ca/event/b2b-marthas-mounds-false-summit-laughing-trail/
CATEGORIES:B2b Hike
END:VEVENT
BEGIN:VEVENT
DTSTART;VALUE=DATE:20260127
DTEND;VALUE=DATE:20260128
DTSTAMP:20260423T093929
CREATED:20251219T215946Z
LAST-MODIFIED:20251219T215946Z
UID:9113-1769472000-1769558399@ocv.ca
SUMMARY:B2b Jocelyn Hill from Caleb Pike
DESCRIPTION:Meet at the Caleb Pike parking lot. \nHike starts at 10:00. \nMust email Carol M. if coming.
URL:https://ocv.ca/event/b2b-jocelyn-hill-from-caleb-pike/
CATEGORIES:B2b Hike
END:VEVENT
BEGIN:VEVENT
DTSTART;TZID=America/Vancouver:20260125T093000
DTEND;TZID=America/Vancouver:20260125T123000
DTSTAMP:20260423T093929
CREATED:20251219T214750Z
LAST-MODIFIED:20251219T214750Z
UID:9096-1769333400-1769344200@ocv.ca
SUMMARY:A2a Esquimalt Parks including High Rock
DESCRIPTION:Meet at Spinnakers Pub\, 308 Catherine St. Urban walk is 130m – 10.8 km – 3 hrs. Moderate pace. Email leader Lyn A if coming.
URL:https://ocv.ca/event/a2a-esquimalt-parks-including-high-rock/
END:VEVENT
BEGIN:VEVENT
DTSTART;VALUE=DATE:20260125
DTEND;VALUE=DATE:20260126
DTSTAMP:20260423T093929
CREATED:20251219T215814Z
LAST-MODIFIED:20251219T215814Z
UID:9111-1769299200-1769385599@ocv.ca
SUMMARY:B2b Munn Road Connector - Scafe Hill - Stewart Mtn.
DESCRIPTION:Meet at the Mt. Work parking lot on Munn Road (Highlands). \nHike starts at 10:00. \nHike is 350m – 11 kms – 4 hrs. \nMust email Whitney L. if coming.
URL:https://ocv.ca/event/b2b-munn-road-connector-scafe-hill-stewart-mtn/
CATEGORIES:B2b Hike
END:VEVENT
BEGIN:VEVENT
DTSTART;VALUE=DATE:20260125
DTEND;VALUE=DATE:20260126
DTSTAMP:20260423T093929
CREATED:20251219T215548Z
LAST-MODIFIED:20251219T220609Z
UID:9108-1769299200-1769385599@ocv.ca
SUMMARY:B2b Emperor Mtn. & Emperor North
DESCRIPTION:Contact leader for start time and start location. \nHike is 600m – 15 kms – 5-6 hrs. \nMust email Laura A. if coming. \n**Nifty 50 peak(s)**
URL:https://ocv.ca/event/c2b-emperor-mtn-emperor-north/
CATEGORIES:B2b Hike
END:VEVENT
BEGIN:VEVENT
DTSTART;VALUE=DATE:20260124
DTEND;VALUE=DATE:20260125
DTSTAMP:20260423T093929
CREATED:20251219T215303Z
LAST-MODIFIED:20251219T215303Z
UID:9103-1769212800-1769299199@ocv.ca
SUMMARY:B2b John Dean Park
DESCRIPTION:Meet at trailhead at Halden Rd./Thompson Place (8233 Thompson Pl.) \nHike starts at 9:00. \nHike is 552m – 10.2 kms – 3.5-4 hrs. \nMust email Liz B. if coming.
URL:https://ocv.ca/event/b2b-john-dean-park-5/
CATEGORIES:B2b Hike
END:VEVENT
BEGIN:VEVENT
DTSTART;TZID=America/Vancouver:20260123T090000
DTEND;TZID=America/Vancouver:20260123T120000
DTSTAMP:20260423T093929
CREATED:20251219T214623Z
LAST-MODIFIED:20251226T164524Z
UID:9093-1769158800-1769169600@ocv.ca
SUMMARY:A/B1b John Dean Park
DESCRIPTION:Meet at TH at Cresswell Rd. Hike is 290 m – 9.5 km – 3 hrs. Moderate pace. Email leader Lorraine L if coming.
URL:https://ocv.ca/event/a1b-john-dean-park-6/
CATEGORIES:A1b Hike
END:VEVENT
BEGIN:VEVENT
DTSTART;VALUE=DATE:20260123
DTEND;VALUE=DATE:20260124
DTSTAMP:20260423T093929
CREATED:20251219T215021Z
LAST-MODIFIED:20251219T215021Z
UID:9097-1769126400-1769212799@ocv.ca
SUMMARY:B2b/c Mt. Braden - Castle Peak - 2 Blogg Brother Cabin Sites
DESCRIPTION:Meet at the Sooke Hills Wilderness parking lot on Sooke Road. \nContact leader for start time. \nHike is 500m – 15 kms – 5-6 hrs. \nMust email Joe M. if coming. \n**Nifty 50 peak(s)**
URL:https://ocv.ca/event/b2b-c-mt-braden-castle-peak-2-blogg-brother-cabin-sites/
CATEGORIES:B2b/c
END:VEVENT
BEGIN:VEVENT
DTSTART;TZID=America/Vancouver:20260122T100000
DTEND;TZID=America/Vancouver:20260122T130000
DTSTAMP:20260423T093929
CREATED:20251219T214520Z
LAST-MODIFIED:20251219T214520Z
UID:9090-1769076000-1769086800@ocv.ca
SUMMARY:A1b Centennial Park\, Butterfield Park\, Brown’s Woods Trail
DESCRIPTION:Meet at Centennial Park by washrooms. Hike is 220 m – 9.5 km – 3 hrs. Email leader Jan M if coming.
URL:https://ocv.ca/event/a1b-centennial-park-butterfield-park-browns-woods-trail-3/
CATEGORIES:A1b Hike
END:VEVENT
BEGIN:VEVENT
DTSTART;VALUE=DATE:20260121
DTEND;VALUE=DATE:20260122
DTSTAMP:20260423T093929
CREATED:20251219T214619Z
LAST-MODIFIED:20251219T214619Z
UID:9091-1768953600-1769039999@ocv.ca
SUMMARY:B2b John Dean Park
DESCRIPTION:Meet at trailhead near the end of Alec Road. \nHike starts at 10:00. \nHike is 400m – 10 kms – 4 hrs. \nMust email Helen V. if coming.
URL:https://ocv.ca/event/b2b-john-dean-park-4/
CATEGORIES:B2b Hike
END:VEVENT
BEGIN:VEVENT
DTSTART;TZID=America/Vancouver:20260120T100000
DTEND;TZID=America/Vancouver:20260120T123000
DTSTAMP:20260423T093929
CREATED:20251219T214422Z
LAST-MODIFIED:20251219T214422Z
UID:9087-1768903200-1768912200@ocv.ca
SUMMARY:A1b Oak Bay Ramble
DESCRIPTION:Meet at the Windsor Park Pavillion (2451 Windsor Rd.) main entrance. Hike is 2.5 hrs. Chinese Cemetery and 3 high points. Email leader Wendy E if coming..
URL:https://ocv.ca/event/a1b-oak-bay-ramble/
CATEGORIES:A1b Hike
END:VEVENT
BEGIN:VEVENT
DTSTART;VALUE=DATE:20260120
DTEND;VALUE=DATE:20260121
DTSTAMP:20260423T093929
CREATED:20251219T214420Z
LAST-MODIFIED:20251219T214420Z
UID:9086-1768867200-1768953599@ocv.ca
SUMMARY:B1b Anderson Hill - Squally Reach
DESCRIPTION:Meet at the Mt. Work parking lot on Ross-Durrance Road. \nHike starts at 10:00. \nMust email Carol M. if coming.
URL:https://ocv.ca/event/b1b-anderson-hill-squally-reach/
CATEGORIES:B1b Hike
END:VEVENT
BEGIN:VEVENT
DTSTART;VALUE=DATE:20260119
DTEND;VALUE=DATE:20260120
DTSTAMP:20260423T093929
CREATED:20251219T214221Z
LAST-MODIFIED:20251219T214221Z
UID:9081-1768780800-1768867199@ocv.ca
SUMMARY:B2b The Viking Tree
DESCRIPTION:Meet at the Sooke Hills Wilderness parking lot on Sooke Road. \nContact leader for start time. \nHike is 400m – 14 kms – 5 hrs. \nMust email Jim N. if coming.
URL:https://ocv.ca/event/b2b-the-viking-tree-2/
CATEGORIES:B2b Hike
END:VEVENT
BEGIN:VEVENT
DTSTART;TZID=America/Vancouver:20260118T090000
DTEND;TZID=America/Vancouver:20260118T123000
DTSTAMP:20260423T093929
CREATED:20251219T223655Z
LAST-MODIFIED:20251219T224020Z
UID:9123-1768726800-1768739400@ocv.ca
SUMMARY:A1b North Thetis Trails
DESCRIPTION:Meet at the end of Westoby Road. \nHike starts at 9:00. \nHike is 230m – 9.5 kms –  3-3.5 hrs. \nMust email Cathy G. if coming.
URL:https://ocv.ca/event/a1b-north-thetis-trails/
CATEGORIES:A1b Hike
END:VEVENT
BEGIN:VEVENT
DTSTART;VALUE=DATE:20260118
DTEND;VALUE=DATE:20260119
DTSTAMP:20260423T093929
CREATED:20251219T214023Z
LAST-MODIFIED:20251219T214023Z
UID:9077-1768694400-1768780799@ocv.ca
SUMMARY:B1c Sugarloaf - Townsend - (Dave's Delight\, if the Veitch crossing is safe) Loop
DESCRIPTION:Meet at the Sooke Hills Wilderness parking lot on Sooke Road. \nContact leader for start time. \nHike is 500m – 8 kms – 4 hrs. \nMust email Will A. if coming. \n**Nifty 50 peak(s)**
URL:https://ocv.ca/event/b1c-sugarloaf-townsend-daves-delight-if-the-veitch-crossing-is-safe-loop/
CATEGORIES:B1c Hike
END:VEVENT
BEGIN:VEVENT
DTSTART;VALUE=DATE:20260118
DTEND;VALUE=DATE:20260119
DTSTAMP:20260423T093929
CREATED:20251219T212246Z
LAST-MODIFIED:20260112T171732Z
UID:9058-1768694400-1768780799@ocv.ca
SUMMARY:B2b Mt. Tzouhalem
DESCRIPTION:Contact leader for start time and start location. \nMust email Mary H. if coming.
URL:https://ocv.ca/event/b2b-mt-tzouhalem-2/
CATEGORIES:B2b Hike
END:VEVENT
BEGIN:VEVENT
DTSTART;TZID=America/Vancouver:20260117T100000
DTEND;TZID=America/Vancouver:20260117T123000
DTSTAMP:20260423T093929
CREATED:20251219T214218Z
LAST-MODIFIED:20251219T214218Z
UID:9083-1768644000-1768653000@ocv.ca
SUMMARY:A1b Christmas Hill
DESCRIPTION:Meet at Beckwith Park. Hike is 150 m – 6.5 km – 2.5 hrs. Could be slippery so please bring poles. Email leader Paula M if coming.
URL:https://ocv.ca/event/a1b-christmas-hill-6/
CATEGORIES:A1b Hike
END:VEVENT
BEGIN:VEVENT
DTSTART;TZID=America/Vancouver:20260116T090000
DTEND;TZID=America/Vancouver:20260116T120000
DTSTAMP:20260423T093929
CREATED:20251219T214049Z
LAST-MODIFIED:20251219T214049Z
UID:9079-1768554000-1768564800@ocv.ca
SUMMARY:A1b Stewart Mt – N Thetis Park
DESCRIPTION:Meet at Mt Work Munn Rd parking lot. Hike is 280 m – 9 km – 3 hrs. Moderate pace. Email leader Lorraine L if coming.
URL:https://ocv.ca/event/a1b-stewart-mt-n-thetis-park-10/
CATEGORIES:A1b Hike
END:VEVENT
BEGIN:VEVENT
DTSTART;VALUE=DATE:20260116
DTEND;VALUE=DATE:20260117
DTSTAMP:20260423T093929
CREATED:20251219T213432Z
LAST-MODIFIED:20251219T213432Z
UID:9067-1768521600-1768607999@ocv.ca
SUMMARY:C2b/c McDonald Mtn. and Beyond
DESCRIPTION:Meet at the Humpback Reservoir parking lot. \nHike starts at 9:00. \nHike is 610m – 10 kms – 4.5-5 hrs. \nThe Loop – up McDonald\, down to Lucy’s Square\, short bushwhacking\, up and down Neil’s Knoll\, up John Stick and up and down McDonald. \nMust email Hélène W. if coming. \n**Nifty 50 peak(s)**
URL:https://ocv.ca/event/c2b-c-mcdonald-mtn-and-beyond/
CATEGORIES:C2b/c
END:VEVENT
BEGIN:VEVENT
DTSTART;VALUE=DATE:20260116
DTEND;VALUE=DATE:20260117
DTSTAMP:20260423T093929
CREATED:20251219T212018Z
LAST-MODIFIED:20260113T182521Z
UID:9056-1768521600-1768607999@ocv.ca
SUMMARY:B2b Mt. Work to Durrance Lake Loop
DESCRIPTION:Meet at the Mt. Work parking lot on Munn Road. \nContact leader for start time. \nHike is 580m – 12/13 kms – 4-5 hrs. \nMust email Will A. if coming. \n 
URL:https://ocv.ca/event/b2b-mt-work-to-durrance-lake-loop/
CATEGORIES:B2b Hike
END:VEVENT
BEGIN:VEVENT
DTSTART;TZID=America/Vancouver:20260114T090000
DTEND;TZID=America/Vancouver:20260114T110000
DTSTAMP:20260423T093929
CREATED:20251219T213947Z
LAST-MODIFIED:20251219T213947Z
UID:9076-1768381200-1768388400@ocv.ca
SUMMARY:A1b Killarney Lake – Mt Work
DESCRIPTION:Meet at Hartland Rd parking lot used by mountain bikers. Hike is 100 m – 5 km – 2 hrs. Slow pace. Email leader Ken M if coming.
URL:https://ocv.ca/event/a1b-killarney-lake-mt-work-10/
CATEGORIES:A1b Hike
END:VEVENT
BEGIN:VEVENT
DTSTART;VALUE=DATE:20260114
DTEND;VALUE=DATE:20260115
DTSTAMP:20260423T093929
CREATED:20251219T212853Z
LAST-MODIFIED:20251219T212853Z
UID:9062-1768348800-1768435199@ocv.ca
SUMMARY:B2b East Sooke Park - Coppermine
DESCRIPTION:Meet at the intersection of Coppermine and Valentine Roads. \nHike starts at 10:00. \nHike is 400m – 10kms – 4.5 hrs. \nMust email Helen V. if coming.
URL:https://ocv.ca/event/b2b-east-sooke-park-coppermine/
CATEGORIES:B2b Hike
END:VEVENT
BEGIN:VEVENT
DTSTART;TZID=America/Vancouver:20260113T093000
DTEND;TZID=America/Vancouver:20260113T130000
DTSTAMP:20260423T093929
CREATED:20251220T002651Z
LAST-MODIFIED:20260110T180544Z
UID:9128-1768296600-1768309200@ocv.ca
SUMMARY:**UPDATE**Hike Change**A1/2a/b Exploratory Ramble
DESCRIPTION:Meet at Cadboro Gyro Park. \nHike starts at 9:30. \nHike is approx 10 kms – mostly on pavement. \nMust email Denise T. if coming.
URL:https://ocv.ca/event/b1n-east-sooke-park-babbington-hill/
END:VEVENT
BEGIN:VEVENT
DTSTART;TZID=America/Vancouver:20260112T100000
DTEND;TZID=America/Vancouver:20260112T130000
DTSTAMP:20260423T093929
CREATED:20251219T213431Z
LAST-MODIFIED:20251219T213431Z
UID:9073-1768212000-1768222800@ocv.ca
SUMMARY:A1b Royal Roads
DESCRIPTION:Meet beside John Stubbs Memorial School (301 Zealous Crescent) on College Drive; GPS location 48.43592\, -123.46221\nSnack/lunch break at Esquimalt Lagoon below Hatley Gardens. Moderate pace. Email leader Lyn A if coming.
URL:https://ocv.ca/event/a1b-royal-roads-3/
CATEGORIES:A1b Hike
END:VEVENT
BEGIN:VEVENT
DTSTART;VALUE=DATE:20260112
DTEND;VALUE=DATE:20260113
DTSTAMP:20260423T093929
CREATED:20251219T212633Z
LAST-MODIFIED:20260111T173630Z
UID:9060-1768176000-1768262399@ocv.ca
SUMMARY:**UPDATE**Hike Cancelled**B1b PKOLS (Mt. Doug)
DESCRIPTION:This hike is cancelled due to the heavy rain forecast.
URL:https://ocv.ca/event/b1b-pkols-mt-doug-4/
CATEGORIES:B2b Hike
END:VEVENT
BEGIN:VEVENT
DTSTART;VALUE=DATE:20260111
DTEND;VALUE=DATE:20260112
DTSTAMP:20260423T093929
CREATED:20260112T172006Z
LAST-MODIFIED:20260112T172006Z
UID:9178-1768089600-1768175999@ocv.ca
SUMMARY:**UPDATE**Hike Date Changed**B2b Mt Tzouhalem
DESCRIPTION:Due to severe rain\, this hike has been moved to January 18th.
URL:https://ocv.ca/event/updatehike-date-changedb2b-mt-tzouhalem/
END:VEVENT
BEGIN:VEVENT
DTSTART;VALUE=DATE:20260110
DTEND;VALUE=DATE:20260111
DTSTAMP:20260423T093929
CREATED:20251219T211724Z
LAST-MODIFIED:20251219T211724Z
UID:9054-1768003200-1768089599@ocv.ca
SUMMARY:B2b Mt. Work - Up Sidewinder - Down Westside
DESCRIPTION:Meet at the Mt. Work parking lot on Ross-Durrance Road. \nHike starts at 9:00. \nHike is 500m – 10.6 kms – 4.5 hrs. \nMust email Liz B. if coming.
URL:https://ocv.ca/event/b2b-mt-work-up-sidewinder-down-westside-13/
CATEGORIES:B2b Hike
END:VEVENT
BEGIN:VEVENT
DTSTART;TZID=America/Vancouver:20260109T090000
DTEND;TZID=America/Vancouver:20260109T113000
DTSTAMP:20260423T093929
CREATED:20251219T213159Z
LAST-MODIFIED:20251219T213159Z
UID:9071-1767949200-1767958200@ocv.ca
SUMMARY:A1b PKOLS / Mt Doug
DESCRIPTION:Meet at parking lot near washrooms. Hike is 220 m – 7 km – 2.5 hrs. Email leader Lorraine L if coming.
URL:https://ocv.ca/event/a1b-pkols-mt-doug-5/
CATEGORIES:A1b Hike
END:VEVENT
BEGIN:VEVENT
DTSTART;TZID=America/Vancouver:20260108T100000
DTEND;TZID=America/Vancouver:20260108T120000
DTSTAMP:20260423T093929
CREATED:20251219T213047Z
LAST-MODIFIED:20251219T213047Z
UID:9069-1767866400-1767873600@ocv.ca
SUMMARY:A1b N Saanich Neighbourhood Trails
DESCRIPTION:Meet at Coles Bay Regional Park. Hike is 120 m – 7 km – 2 hrs. Email leader Jan M if coming.
URL:https://ocv.ca/event/a1b-n-saanich-neighbourhood-trails-7/
END:VEVENT
BEGIN:VEVENT
DTSTART;VALUE=DATE:20260107
DTEND;VALUE=DATE:20260108
DTSTAMP:20260423T093929
CREATED:20251219T211521Z
LAST-MODIFIED:20251219T220656Z
UID:9052-1767744000-1767830399@ocv.ca
SUMMARY:B2b Partridge Hills
DESCRIPTION:Contact leader for start time and start location. \nHike is 350m -10 kms – 4 hrs. \nMust email Jim N. if coming.
URL:https://ocv.ca/event/b2b-partridge-hills-5/
CATEGORIES:B2b Hike
END:VEVENT
END:VCALENDAR