BEGIN:VCALENDAR
VERSION:2.0
PRODID:-//OCV.ca - ECPv6.15.13.1//NONSGML v1.0//EN
CALSCALE:GREGORIAN
METHOD:PUBLISH
X-WR-CALNAME:OCV.ca
X-ORIGINAL-URL:https://ocv.ca
X-WR-CALDESC:Events for OCV.ca
REFRESH-INTERVAL;VALUE=DURATION:PT1H
X-Robots-Tag:noindex
X-PUBLISHED-TTL:PT1H
BEGIN:VTIMEZONE
TZID:America/Vancouver
BEGIN:DAYLIGHT
TZOFFSETFROM:-0800
TZOFFSETTO:-0700
TZNAME:PDT
DTSTART:20250309T100000
END:DAYLIGHT
BEGIN:STANDARD
TZOFFSETFROM:-0700
TZOFFSETTO:-0800
TZNAME:PST
DTSTART:20251102T090000
END:STANDARD
BEGIN:DAYLIGHT
TZOFFSETFROM:-0800
TZOFFSETTO:-0700
TZNAME:PDT
DTSTART:20260308T100000
END:DAYLIGHT
BEGIN:STANDARD
TZOFFSETFROM:-0700
TZOFFSETTO:-0800
TZNAME:PST
DTSTART:20261101T090000
END:STANDARD
BEGIN:DAYLIGHT
TZOFFSETFROM:-0800
TZOFFSETTO:-0700
TZNAME:PDT
DTSTART:20270314T100000
END:DAYLIGHT
BEGIN:STANDARD
TZOFFSETFROM:-0700
TZOFFSETTO:-0800
TZNAME:PST
DTSTART:20271107T090000
END:STANDARD
END:VTIMEZONE
BEGIN:VEVENT
DTSTART;TZID=America/Vancouver:20260311T083000
DTEND;TZID=America/Vancouver:20260311T103000
DTSTAMP:20260422T145830
CREATED:20260219T214034Z
LAST-MODIFIED:20260219T220259Z
UID:9408-1773217800-1773225000@ocv.ca
SUMMARY:A1b Killarney Lake – Mt Work
DESCRIPTION:Meet at Hartland Rd parking lot used by mountain bikers. Hike is 100 m – 5 km – 2 hrs. Slow pace. Email leader Ken M if coming.
URL:https://ocv.ca/event/a1b-killarney-lake-mt-work-14/
CATEGORIES:A1b Hike
END:VEVENT
BEGIN:VEVENT
DTSTART;VALUE=DATE:20260311
DTEND;VALUE=DATE:20260312
DTSTAMP:20260422T145830
CREATED:20260219T213945Z
LAST-MODIFIED:20260219T213945Z
UID:9403-1773187200-1773273599@ocv.ca
SUMMARY:B2b Grassy Lake - Monument Mountain
DESCRIPTION:Meet at the Charters Creek parking lot in Sooke. \nHike starts at 10:00. \nHike is 450m – 12.5 kms – 4.5-5 hrs. \nMust email Helen V. if coming. \n**Nifty 50 peak**
URL:https://ocv.ca/event/b2b-grassy-lake-monument-mountain/
CATEGORIES:B2b Hike
END:VEVENT
BEGIN:VEVENT
DTSTART;TZID=America/Vancouver:20260310T100000
DTEND;TZID=America/Vancouver:20260310T123000
DTSTAMP:20260422T145830
CREATED:20260219T213921Z
LAST-MODIFIED:20260220T034348Z
UID:9406-1773136800-1773145800@ocv.ca
SUMMARY:A1b PKOLS / Mt Doug
DESCRIPTION:Meet at parking lot near washrooms. Hike is 2.5 hrs. Whittaker and Norn trails. Email leader Wendy E if coming.
URL:https://ocv.ca/event/a1b-pkols-mt-doug-8/
CATEGORIES:A1b Hike
END:VEVENT
BEGIN:VEVENT
DTSTART;VALUE=DATE:20260310
DTEND;VALUE=DATE:20260311
DTSTAMP:20260422T145830
CREATED:20260219T213652Z
LAST-MODIFIED:20260219T213652Z
UID:9398-1773100800-1773187199@ocv.ca
SUMMARY:B2b Matheson Lake - Cougar Ridge
DESCRIPTION:Meet at Matheson Lake parking lot. \nHike starts at 10:00. \nHike is 300m – 10 kms – 3.5 hrs. \nMust email Denise T. if coming. \n 
URL:https://ocv.ca/event/b2b-matheson-lake-cougar-ridge-8/
CATEGORIES:B2b Hike
END:VEVENT
BEGIN:VEVENT
DTSTART;TZID=America/Vancouver:20260309T100000
DTEND;TZID=America/Vancouver:20260309T123000
DTSTAMP:20260422T145830
CREATED:20260219T213807Z
LAST-MODIFIED:20260219T213807Z
UID:9404-1773050400-1773059400@ocv.ca
SUMMARY:A1b Centennial Park\, Butterfield Park\, Brown’s Woods Trail
DESCRIPTION:Meet at Centennial Park by washrooms. Hike is 220 m – 9.5 km – 2.5 hrs. Email leader Jan M if coming.
URL:https://ocv.ca/event/a1b-centennial-park-butterfield-park-browns-woods-trail-4/
CATEGORIES:A1b Hike
END:VEVENT
BEGIN:VEVENT
DTSTART;TZID=America/Vancouver:20260308T093000
DTEND;TZID=America/Vancouver:20260308T120000
DTSTAMP:20260422T145830
CREATED:20260219T213658Z
LAST-MODIFIED:20260219T213658Z
UID:9400-1772962200-1772971200@ocv.ca
SUMMARY:A1b Bear Hill
DESCRIPTION:Meet at Hamsterly Beach Parking lot. Hike is 170 m – 7 km – 2.5 hrs. Email leader Diana D if coming.
URL:https://ocv.ca/event/a1b-bear-hill/
CATEGORIES:A1b Hike
END:VEVENT
BEGIN:VEVENT
DTSTART;VALUE=DATE:20260308
DTEND;VALUE=DATE:20260309
DTSTAMP:20260422T145830
CREATED:20260219T213456Z
LAST-MODIFIED:20260219T213456Z
UID:9391-1772928000-1773014399@ocv.ca
SUMMARY:B2b East Sooke Park - Babbington Hill - Cabin Point Loop
DESCRIPTION:Meet at the Aylard Farm parking lot on Beecher Bay Road. \nContact leader for start time. \nhike is 580 m – 11 kms -5 hrs. \nMust email Will A. if coming.
URL:https://ocv.ca/event/b2b-east-sooke-park-babbington-hill-cabin-point-loop/
CATEGORIES:B2b Hike
END:VEVENT
BEGIN:VEVENT
DTSTART;TZID=America/Vancouver:20260307T100000
DTEND;TZID=America/Vancouver:20260307T123000
DTSTAMP:20260422T145830
CREATED:20260219T213550Z
LAST-MODIFIED:20260219T213550Z
UID:9396-1772877600-1772886600@ocv.ca
SUMMARY:A1b Mystic Vale to Mt Tolmie
DESCRIPTION:Meet at Gyro Park. Hike is 120 m – 7.5 km – 2.5 hrs. Slow pace. Email leader Paula M if coming.
URL:https://ocv.ca/event/a1b-mystic-vale-to-mt-tolmie/
CATEGORIES:A1b Hike
END:VEVENT
BEGIN:VEVENT
DTSTART;VALUE=DATE:20260307
DTEND;VALUE=DATE:20260308
DTSTAMP:20260422T145830
CREATED:20260219T213205Z
LAST-MODIFIED:20260219T213205Z
UID:9387-1772841600-1772927999@ocv.ca
SUMMARY:B2b Mt. Braden
DESCRIPTION:Meet at the Sooke Hills Wilderness parking lot on Sooke Road. \nHike starts at 9:00. \nHike is 472m – 11kms – 4.5 hrs. \nMust email Liz B. if coming. \n**Nifty 50 peak**
URL:https://ocv.ca/event/b2b-mt-braden-6/
CATEGORIES:B2b Hike
END:VEVENT
BEGIN:VEVENT
DTSTART;TZID=America/Vancouver:20260306T090000
DTEND;TZID=America/Vancouver:20260306T113000
DTSTAMP:20260422T145830
CREATED:20260219T213348Z
LAST-MODIFIED:20260219T213348Z
UID:9394-1772787600-1772796600@ocv.ca
SUMMARY:A1b PKOLS / Mt Doug
DESCRIPTION:Meet at parking lot near washrooms. Hike is 180 m – 7 km – 2.5 hrs. Email leader Lorraine L if coming.
URL:https://ocv.ca/event/a1b-pkols-mt-doug-7/
CATEGORIES:A1b Hike
END:VEVENT
BEGIN:VEVENT
DTSTART;TZID=America/Vancouver:20260305T100000
DTEND;TZID=America/Vancouver:20260305T130000
DTSTAMP:20260422T145830
CREATED:20260220T034207Z
LAST-MODIFIED:20260220T034207Z
UID:9466-1772704800-1772715600@ocv.ca
SUMMARY:A2b Thetis and MacKenzie Lakes
DESCRIPTION:Meet at Thetis Lake main parking lot. Hike is 230 m – 10 km – 3 hrs. Email leader Elizabeth S-J if coming.
URL:https://ocv.ca/event/a2b-thetis-and-mackenzie-lakes/
END:VEVENT
BEGIN:VEVENT
DTSTART;VALUE=DATE:20260304
DTEND;VALUE=DATE:20260305
DTSTAMP:20260422T145830
CREATED:20260219T213018Z
LAST-MODIFIED:20260219T213018Z
UID:9383-1772582400-1772668799@ocv.ca
SUMMARY:B2b Jocelyn Hill from Caleb Pike
DESCRIPTION:Meet at the Gowlland Tod parking lot at 733 Caleb Pike Road. \nContact leader for start time. \nHike is 300m – 10 kms – 4 hrs. \nMust email Jim N. if coming.
URL:https://ocv.ca/event/b2b-jocelyn-hill-from-caleb-pike-2/
CATEGORIES:B2b Hike
END:VEVENT
BEGIN:VEVENT
DTSTART;TZID=America/Vancouver:20260303T100000
DTEND;TZID=America/Vancouver:20260303T123000
DTSTAMP:20260422T145830
CREATED:20260219T213242Z
LAST-MODIFIED:20260219T213242Z
UID:9389-1772532000-1772541000@ocv.ca
SUMMARY:A1b Francis King
DESCRIPTION:Meet at Munn Rd parking lot. Hike is 2.5 hrs. Email leader Wendy E if coming.
URL:https://ocv.ca/event/a1b-francis-king-7/
CATEGORIES:A1b Hike
END:VEVENT
BEGIN:VEVENT
DTSTART;VALUE=DATE:20260303
DTEND;VALUE=DATE:20260304
DTSTAMP:20260422T145830
CREATED:20260219T212749Z
LAST-MODIFIED:20260219T212749Z
UID:9381-1772496000-1772582399@ocv.ca
SUMMARY:B2b East Sooke Park - Cabin Point
DESCRIPTION:Meet at the Aylard Farm parking lot. \nHike starts at 10:00. \nHike is 400m – 10 kms. \nMust email Carol M. if coming.
URL:https://ocv.ca/event/b2b-east-sooke-park-cabin-point-2/
CATEGORIES:B2b Hike
END:VEVENT
BEGIN:VEVENT
DTSTART;VALUE=DATE:20260302
DTEND;VALUE=DATE:20260303
DTSTAMP:20260422T145830
CREATED:20260219T222739Z
LAST-MODIFIED:20260302T221328Z
UID:9458-1772409600-1772495999@ocv.ca
SUMMARY:B1b Scafe Hill - Stewart Mtn from Westoby Road
DESCRIPTION:Meet at the end of Westoby Road. \nHike starts at 10:00. \nHike is 320m – 8.5 kms – 3-3.5 hrs. \nMust email Cathy G. if coming. \n 
URL:https://ocv.ca/event/b2b-scafe-hill-stewart-mtn-from-westoby-road/
CATEGORIES:B2b Hike
END:VEVENT
BEGIN:VEVENT
DTSTART;TZID=America/Vancouver:20260301T090000
DTEND;TZID=America/Vancouver:20260301T110000
DTSTAMP:20260422T145830
CREATED:20260219T213125Z
LAST-MODIFIED:20260219T214734Z
UID:9385-1772355600-1772362800@ocv.ca
SUMMARY:A1b McKenzie Bight/Cascade Falls – Gowlland Tod Park
DESCRIPTION:Meet at Mt Work parking lot on Ross-Durrance Rd. Hike is 170 m – 5.5 km – 2 hrs. Email leader Diana D if coming.
URL:https://ocv.ca/event/a1b-mckenzie-bight-cascade-falls-gowlland-tod-park/
CATEGORIES:A1b Hike
END:VEVENT
BEGIN:VEVENT
DTSTART;TZID=America/Vancouver:20260228T100000
DTEND;TZID=America/Vancouver:20260228T123000
DTSTAMP:20260422T145830
CREATED:20260122T222150Z
LAST-MODIFIED:20260122T222150Z
UID:9236-1772272800-1772281800@ocv.ca
SUMMARY:A1b Swan Lake and Christmas Hill
DESCRIPTION:Meet at Beckwith Park. Hike is 120 m – 8.5 km – 2.5 hrs. Email leader Paula M if coming.
URL:https://ocv.ca/event/a1b-swan-lake-and-christmas-hill/
CATEGORIES:A1b Hike
END:VEVENT
BEGIN:VEVENT
DTSTART;VALUE=DATE:20260228
DTEND;VALUE=DATE:20260301
DTSTAMP:20260422T145830
CREATED:20260122T224052Z
LAST-MODIFIED:20260122T224052Z
UID:9250-1772236800-1772323199@ocv.ca
SUMMARY:B2b John Dean Park
DESCRIPTION:Meet at the Halden Road/Thompson Place trailhead (8233 Thompson Pl.) \nHike starts at 9:00. \nHike is 500m – 10.2 kms – 3.5-4 hrs. \nMust email Liz B. if coming.
URL:https://ocv.ca/event/b2b-john-dean-park-22/
CATEGORIES:B2b Hike
END:VEVENT
BEGIN:VEVENT
DTSTART;TZID=America/Vancouver:20260227T090000
DTEND;TZID=America/Vancouver:20260227T120000
DTSTAMP:20260422T145830
CREATED:20260122T222051Z
LAST-MODIFIED:20260122T222051Z
UID:9232-1772182800-1772193600@ocv.ca
SUMMARY:A1b Killarney Lake – Mt Work
DESCRIPTION:Meet at end of Woodridge Place. Hike is 260 m – 9 km – 3 hrs. Moderate pace. Email leader Lorraine L if coming.
URL:https://ocv.ca/event/a1b-killarney-lake-mt-work-13/
CATEGORIES:A1b Hike
END:VEVENT
BEGIN:VEVENT
DTSTART;TZID=America/Vancouver:20260225T083000
DTEND;TZID=America/Vancouver:20260225T103000
DTSTAMP:20260422T145830
CREATED:20260122T221953Z
LAST-MODIFIED:20260122T221953Z
UID:9230-1772008200-1772015400@ocv.ca
SUMMARY:A1b NW Francis King Park
DESCRIPTION:Meet at Francis King parking lot. Hike is 80 m – 5 km – 2 hrs. Slow pace. Email leader Ken M if coming.
URL:https://ocv.ca/event/a1b-nw-francis-king-park-30/
CATEGORIES:A1b Hike
END:VEVENT
BEGIN:VEVENT
DTSTART;VALUE=DATE:20260225
DTEND;VALUE=DATE:20260226
DTSTAMP:20260422T145830
CREATED:20260122T223849Z
LAST-MODIFIED:20260122T223849Z
UID:9248-1771977600-1772063999@ocv.ca
SUMMARY:B2b Matheson Lake - Cougar Ridge
DESCRIPTION:Meet at the Matheson Lake parking lot. \nHike starts at 10:00. \nHike is 300m – 10 kms – 3.5 hrs. \nMust email Helen V. if coming.
URL:https://ocv.ca/event/b2b-matheson-lake-cougar-ridge-7/
CATEGORIES:B2b Hike
END:VEVENT
BEGIN:VEVENT
DTSTART;TZID=America/Vancouver:20260224T100000
DTEND;TZID=America/Vancouver:20260224T123000
DTSTAMP:20260422T145830
CREATED:20260122T221738Z
LAST-MODIFIED:20260122T221738Z
UID:9226-1771927200-1771936200@ocv.ca
SUMMARY:A1a Esquimalt Urban Marine Parks
DESCRIPTION:Meet at Spinnakers Pub\, 308 Catherine St. Urban walk is 116 m – 9.8 km – 2.5 hrs. Email leader Lyn A if coming
URL:https://ocv.ca/event/a1a-esquimalt-urban-marine-parks/
CATEGORIES:A2b Hike
END:VEVENT
BEGIN:VEVENT
DTSTART;VALUE=DATE:20260224
DTEND;VALUE=DATE:20260225
DTSTAMP:20260422T145830
CREATED:20260122T223600Z
LAST-MODIFIED:20260122T223600Z
UID:9246-1771891200-1771977599@ocv.ca
SUMMARY:B1b Mount Finlayson from Caleb Pike
DESCRIPTION:Meet at the Caleb Pike parking lot on Millstream Road. \nHike starts at 10:00. \nHike is 400m – 8 kms. \nMust email Carol M. if coming.
URL:https://ocv.ca/event/b1b-mount-finlayson-from-caleb-pike/
CATEGORIES:B1b Hike
END:VEVENT
BEGIN:VEVENT
DTSTART;TZID=America/Vancouver:20260223T100000
DTEND;TZID=America/Vancouver:20260223T130000
DTSTAMP:20260422T145830
CREATED:20260122T221555Z
LAST-MODIFIED:20260122T221555Z
UID:9224-1771840800-1771851600@ocv.ca
SUMMARY:A1b Mystic Vale\, Finnerty Gdns\, Mt Tolmie
DESCRIPTION:Meet at Gyro Park. Hike is 190 m – 9 km – 3 hrs. Email leader Jan M if coming.
URL:https://ocv.ca/event/a1b-mystic-vale-finnerty-gdns-mt-tolmie-3/
CATEGORIES:A1b Hike
END:VEVENT
BEGIN:VEVENT
DTSTART;TZID=America/Vancouver:20260222T093000
DTEND;TZID=America/Vancouver:20260222T130000
DTSTAMP:20260422T145830
CREATED:20260122T224922Z
LAST-MODIFIED:20260122T224922Z
UID:9255-1771752600-1771765200@ocv.ca
SUMMARY:A1b Horth Hill and Area
DESCRIPTION:Meet at the Horth Hill parking lot on Tatlow Road. \nHike starts at 9:30. \nHike is 260m – 9.8 kms – 3-3.5 hrs. \nMust email Cathy G. if coming.
URL:https://ocv.ca/event/a1b-horth-hill-and-area-4/
CATEGORIES:A1b Hike
END:VEVENT
BEGIN:VEVENT
DTSTART;VALUE=DATE:20260222
DTEND;VALUE=DATE:20260223
DTSTAMP:20260422T145830
CREATED:20260122T222829Z
LAST-MODIFIED:20260122T224211Z
UID:9239-1771718400-1771804799@ocv.ca
SUMMARY:C2c Rick Peak - Grass Lake Loop
DESCRIPTION:Meet at the Charters Salmon Hatchery on Sooke River Road. \nHike starts at 9:00. \nHike is 675m – 13 kms – 5 hrs. \nNear the start\, 1.5 kms will either be on the Flowline or Amanda’s Trail (bushwhacky) over to Harrison Trail\, then the Connector to Rick Peak and the Plateau/Monument trails to Grass Lake. Return on the Grass Lake Trail. \nMust email Will A. if coming. \n**Nifty 50 peak(s)**
URL:https://ocv.ca/event/c2c-rick-peak-grass-lake-loop/
END:VEVENT
BEGIN:VEVENT
DTSTART;TZID=America/Vancouver:20260220T090000
DTEND;TZID=America/Vancouver:20260220T113000
DTSTAMP:20260422T145830
CREATED:20260122T221425Z
LAST-MODIFIED:20260122T221425Z
UID:9222-1771578000-1771587000@ocv.ca
SUMMARY:A1b PKOLS / Mt Doug
DESCRIPTION:Meet at parking lot near washrooms. Hike is 220 m – 7 km – 2.5 hrs. Email leader Lorraine L if coming.
URL:https://ocv.ca/event/a1b-pkols-mt-doug-6/
CATEGORIES:A1b Hike
END:VEVENT
BEGIN:VEVENT
DTSTART;VALUE=DATE:20260220
DTEND;VALUE=DATE:20260221
DTSTAMP:20260422T145830
CREATED:20260122T222526Z
LAST-MODIFIED:20260122T222526Z
UID:9234-1771545600-1771631999@ocv.ca
SUMMARY:B2b/c Mt. Finlayson & Goldstream Explore
DESCRIPTION:Leader will email a map for parking @ Bear Mountain. \nHike starts at 9:00. \nHike is 400m – 10 kms – 4-5 hrs. \nHike includes Copper Mines & Flying Firemen Waterbomber crash site. \nSome off-trail hiking. \nMust email Joe M. if coming. \n**Coffee\, tea\, hot chocolate or beer at Jack’s Place afterwards for those with time** \n 
URL:https://ocv.ca/event/b2b-c-mt-finlayson-goldstream-explore/
CATEGORIES:B2b/c
END:VEVENT
BEGIN:VEVENT
DTSTART;TZID=America/Vancouver:20260219T100000
DTEND;TZID=America/Vancouver:20260219T130000
DTSTAMP:20260422T145830
CREATED:20260122T222904Z
LAST-MODIFIED:20260122T222904Z
UID:9241-1771495200-1771506000@ocv.ca
SUMMARY:A1b – Royal Roads
DESCRIPTION:Meet at Aldean parking lot. Hike is 10 km. Hike along Charlies Trail through Royal Roads and back along the lagoon. Email Dave T if you’re coming.
URL:https://ocv.ca/event/a1b-royal-roads-6/
END:VEVENT
BEGIN:VEVENT
DTSTART;VALUE=DATE:20260219
DTEND;VALUE=DATE:20260220
DTSTAMP:20260422T145830
CREATED:20260122T222024Z
LAST-MODIFIED:20260122T222024Z
UID:9228-1771459200-1771545599@ocv.ca
SUMMARY:B2c McDonald Braden Traverse (7 Peak Day)
DESCRIPTION:Leader will provide meeting place info when signed-up. \nMeet at 8:45 for a 9:00 start. \nHike involves a car shuttle. \nHike is 575m – 10+kms – 5+ hrs. \nMust email Sylvia M. if coming. \n**Nifty 50 peak(s)**
URL:https://ocv.ca/event/b2c-mcdonald-braden-traverse-7-peak-day/
CATEGORIES:B2c Hike
END:VEVENT
END:VCALENDAR