BEGIN:VCALENDAR
VERSION:2.0
PRODID:-//OCV.ca - ECPv6.15.13.1//NONSGML v1.0//EN
CALSCALE:GREGORIAN
METHOD:PUBLISH
X-WR-CALNAME:OCV.ca
X-ORIGINAL-URL:https://ocv.ca
X-WR-CALDESC:Events for OCV.ca
REFRESH-INTERVAL;VALUE=DURATION:PT1H
X-Robots-Tag:noindex
X-PUBLISHED-TTL:PT1H
BEGIN:VTIMEZONE
TZID:America/Vancouver
BEGIN:DAYLIGHT
TZOFFSETFROM:-0800
TZOFFSETTO:-0700
TZNAME:PDT
DTSTART:20250309T100000
END:DAYLIGHT
BEGIN:STANDARD
TZOFFSETFROM:-0700
TZOFFSETTO:-0800
TZNAME:PST
DTSTART:20251102T090000
END:STANDARD
BEGIN:DAYLIGHT
TZOFFSETFROM:-0800
TZOFFSETTO:-0700
TZNAME:PDT
DTSTART:20260308T100000
END:DAYLIGHT
BEGIN:STANDARD
TZOFFSETFROM:-0700
TZOFFSETTO:-0800
TZNAME:PST
DTSTART:20261101T090000
END:STANDARD
BEGIN:DAYLIGHT
TZOFFSETFROM:-0800
TZOFFSETTO:-0700
TZNAME:PDT
DTSTART:20270314T100000
END:DAYLIGHT
BEGIN:STANDARD
TZOFFSETFROM:-0700
TZOFFSETTO:-0800
TZNAME:PST
DTSTART:20271107T090000
END:STANDARD
END:VTIMEZONE
BEGIN:VEVENT
DTSTART;TZID=America/Vancouver:20260420T100000
DTEND;TZID=America/Vancouver:20260420T123000
DTSTAMP:20260421T132332
CREATED:20260320T211657Z
LAST-MODIFIED:20260320T211657Z
UID:9592-1776679200-1776688200@ocv.ca
SUMMARY:A1b Mill Hill **Flower Hike**
DESCRIPTION:Meet at Mill Hill parking lot off Atkins Rd. Hike is 210 m – 5 km – 2.5 hrs. E-mail leader Wendy E if coming.
URL:https://ocv.ca/event/a1b-mill-hill-flower-hike/
CATEGORIES:A1b Hike
END:VEVENT
BEGIN:VEVENT
DTSTART;VALUE=DATE:20260421
DTEND;VALUE=DATE:20260422
DTSTAMP:20260421T132332
CREATED:20260320T212132Z
LAST-MODIFIED:20260320T214620Z
UID:9598-1776729600-1776815999@ocv.ca
SUMMARY:B1b Mt. McDonald - Mt. Malcolm **Wildflower Hike**
DESCRIPTION:Meet at the Mount Wells parking lot on Humpback Road. \nHike starts at 9:30. \nHike is 500m – 9 kms. \nMust email Carol M. if coming. \n**Nifty 50 peak(s)**
URL:https://ocv.ca/event/b1b-wildflower-hikemt-mcdonald-mt-malcolm/
CATEGORIES:B1b Hike
END:VEVENT
BEGIN:VEVENT
DTSTART;VALUE=DATE:20260421
DTEND;VALUE=DATE:20260422
DTSTAMP:20260421T132332
CREATED:20260320T212345Z
LAST-MODIFIED:20260320T212345Z
UID:9606-1776729600-1776815999@ocv.ca
SUMMARY:C2b Peden Lake - Mary's Peak - Empress Mtn. Loop
DESCRIPTION:Contact leader for start time and start location. \nHike is 17 kms. \nMust email Mary H. if coming. \n**Nifty 50 peak(s)**
URL:https://ocv.ca/event/c2b-peden-lake-marys-peak-empress-mtn-loop/
CATEGORIES:C2b
END:VEVENT
BEGIN:VEVENT
DTSTART;VALUE=DATE:20260422
DTEND;VALUE=DATE:20260423
DTSTAMP:20260421T132332
CREATED:20260320T212551Z
LAST-MODIFIED:20260320T212551Z
UID:9612-1776816000-1776902399@ocv.ca
SUMMARY:B1b 3 Amigos
DESCRIPTION:Meet at the Sooke Hills Wilderness parking lot on Sooke Road. \nHike starts at 9:30. \nHike is 350m – 9 kms – 3.5 hrs. \nMust email Helen V. if coming. \n**Nifty 50 peak(s)**
URL:https://ocv.ca/event/b1b-3-amigos/
CATEGORIES:B1b Hike
END:VEVENT
BEGIN:VEVENT
DTSTART;TZID=America/Vancouver:20260422T083000
DTEND;TZID=America/Vancouver:20260422T103000
DTSTAMP:20260421T132332
CREATED:20260320T211925Z
LAST-MODIFIED:20260320T211925Z
UID:9596-1776846600-1776853800@ocv.ca
SUMMARY:A1b NW Francis King Park
DESCRIPTION:Meet at Francis King parking lot. Hike is 80 m – 5 km – 2 hrs. Slow pace. Email leader Ken M if coming.
URL:https://ocv.ca/event/a1b-nw-francis-king-park-32/
CATEGORIES:A1b Hike
END:VEVENT
BEGIN:VEVENT
DTSTART;TZID=America/Vancouver:20260423T100000
DTEND;TZID=America/Vancouver:20260423T123000
DTSTAMP:20260421T132332
CREATED:20260320T212023Z
LAST-MODIFIED:20260320T213122Z
UID:9600-1776938400-1776947400@ocv.ca
SUMMARY:A1b Mystic Vale\, Finnerty Gdns\, Mt Tolmie **Flower hike**
DESCRIPTION:Meet at Gyro Park. Hike is 180 m – 9 km – 2.5 hrs. Email leader Jan M if coming.
URL:https://ocv.ca/event/a1b-mystic-vale-finnerty-gdns-mt-tolmieflower-hike/
CATEGORIES:A1b Hike
END:VEVENT
BEGIN:VEVENT
DTSTART;TZID=America/Vancouver:20260424T090000
DTEND;TZID=America/Vancouver:20260424T120000
DTSTAMP:20260421T132332
CREATED:20260320T212123Z
LAST-MODIFIED:20260320T212123Z
UID:9602-1777021200-1777032000@ocv.ca
SUMMARY:A1b John Dean Park
DESCRIPTION:Meet at TH at Cresswell Rd. Hike is 260 m – 9 km – 3 hrs. Moderate pace. Email leader Lorraine L if coming.
URL:https://ocv.ca/event/a1b-john-dean-park-8/
CATEGORIES:A1b Hike
END:VEVENT
BEGIN:VEVENT
DTSTART;VALUE=DATE:20260425
DTEND;VALUE=DATE:20260426
DTSTAMP:20260421T132332
CREATED:20260320T212825Z
LAST-MODIFIED:20260320T212825Z
UID:9616-1777075200-1777161599@ocv.ca
SUMMARY:B2b Sugarlump & Sugarloaf via Fishponds and Sue's Trails
DESCRIPTION:Meet at the Sooke Hills Wilderness parking lot on Sooke Road. \nHike starts at 9:00. \nHike is 400m – 10 kms. \nMust email Joe M. if coming. \n**Nifty 50 peak(s)**
URL:https://ocv.ca/event/b2b-sugarlump-sugarloaf-via-fishponds-and-sues-trails/
CATEGORIES:B2b Hike
END:VEVENT
BEGIN:VEVENT
DTSTART;VALUE=DATE:20260426
DTEND;VALUE=DATE:20260427
DTSTAMP:20260421T132332
CREATED:20260320T213000Z
LAST-MODIFIED:20260320T213000Z
UID:9619-1777161600-1777247999@ocv.ca
SUMMARY:B2b Matheson Lake - Cougar Ridge
DESCRIPTION:Meet at the Matheson Lake parking lot. \nHike starts at 10:00. \nHike is 375m – 10 kms – 4 hrs. \nMust email Whitney L. if coming.
URL:https://ocv.ca/event/b2b-matheson-lake-cougar-ridge-10/
CATEGORIES:B2b Hike
END:VEVENT
BEGIN:VEVENT
DTSTART;VALUE=DATE:20260427
DTEND;VALUE=DATE:20260428
DTSTAMP:20260421T132332
CREATED:20260320T215949Z
LAST-MODIFIED:20260320T220038Z
UID:9628-1777248000-1777334399@ocv.ca
SUMMARY:B1b Scafe Hill - Stewart Mountain
DESCRIPTION:Meet at the parking lot at the end of Westoby Road. \nHike starts at 9:00. \nHike is 320m – 8.5 kms – 3-3.5 hrs. \nMust email Cathy G. if coming.
URL:https://ocv.ca/event/a1b-scafe-hill-stewart-mountain/
CATEGORIES:B1b Hike
END:VEVENT
BEGIN:VEVENT
DTSTART;TZID=America/Vancouver:20260427T100000
DTEND;TZID=America/Vancouver:20260427T120000
DTSTAMP:20260421T132332
CREATED:20260320T212238Z
LAST-MODIFIED:20260320T212238Z
UID:9604-1777284000-1777291200@ocv.ca
SUMMARY:A1a Oak Bay Ramble **Flower hike**
DESCRIPTION:Meet at the Windsor Park Pavillion main entrance (2451 Windsor Rd.). Hike is 6 km – 2 hrs. Windsor Park to Uplands Park. Email leader Wendy E if coming.
URL:https://ocv.ca/event/a1a-oak-bay-ramble-flower-hike/
CATEGORIES:A1a Hike
END:VEVENT
BEGIN:VEVENT
DTSTART;TZID=America/Vancouver:20260428T103000
DTEND;TZID=America/Vancouver:20260428T133000
DTSTAMP:20260421T132332
CREATED:20260320T212339Z
LAST-MODIFIED:20260320T212339Z
UID:9608-1777372200-1777383000@ocv.ca
SUMMARY:A1a James Bay Walk
DESCRIPTION:Meet on Dallas Rd\, East of Cook St. Hike is 60 m – 8.5 km – 3 hrs. Moderate pace. Email leader Lorraine L if coming.
URL:https://ocv.ca/event/a1a-james-bay-walk/
CATEGORIES:A1a Hike
END:VEVENT
BEGIN:VEVENT
DTSTART;VALUE=DATE:20260429
DTEND;VALUE=DATE:20260430
DTSTAMP:20260421T132332
CREATED:20260320T213311Z
LAST-MODIFIED:20260320T213410Z
UID:9621-1777420800-1777507199@ocv.ca
SUMMARY:C2b Thunderbird Mtn - Ragged Mtn - Crow's Nest
DESCRIPTION:Meet at Camp Thunderbird on Glinz Lake Road. \nStart time to be determined. \nHike is 600m – 11 kms – 6 hrs. \nMust email Jim N. if coming. \n**Nifty 50 peak(s)**
URL:https://ocv.ca/event/c2b-thunderbird-mtn-ragged-mtn-crows-nest-2/
CATEGORIES:C2b
END:VEVENT
BEGIN:VEVENT
DTSTART;TZID=America/Vancouver:20260429T100000
DTEND;TZID=America/Vancouver:20260429T130000
DTSTAMP:20260421T132332
CREATED:20260320T212506Z
LAST-MODIFIED:20260320T212506Z
UID:9611-1777456800-1777467600@ocv.ca
SUMMARY:A1b PKOLS / Mt Doug
DESCRIPTION:Meet at Mt. Doug beach/washroom parking lot. Hike is 260 m – 3 hrs. Slow pace.  Includes summit. Email leader Shirley T if coming.
URL:https://ocv.ca/event/a1b-pkols-mt-doug-10/
CATEGORIES:A1b Hike
END:VEVENT
BEGIN:VEVENT
DTSTART;TZID=America/Vancouver:20260430T100000
DTEND;TZID=America/Vancouver:20260430T123000
DTSTAMP:20260421T132332
CREATED:20260320T212622Z
LAST-MODIFIED:20260320T212622Z
UID:9614-1777543200-1777552200@ocv.ca
SUMMARY:A1b Tod Inlet\, Oak Haven Park\, Gore Park**Flower hike**
DESCRIPTION:Meet at Tod Inlet TH on Wallace Drive. Hike is 120 m – 7 km – 2.5 hrs. Email leader Jan M if coming.
URL:https://ocv.ca/event/a1b-tod-inlet-oak-haven-park-gore-parkflower-hike/
CATEGORIES:A1b Hike
END:VEVENT
BEGIN:VEVENT
DTSTART;TZID=America/Vancouver:20260501T090000
DTEND;TZID=America/Vancouver:20260501T113000
DTSTAMP:20260421T132332
CREATED:20260420T163051Z
LAST-MODIFIED:20260420T163051Z
UID:9641-1777626000-1777635000@ocv.ca
SUMMARY:A1b PKOLS / Mt Doug
DESCRIPTION:Meet at parking lot near washrooms. Hike is 180 m – 7 km – 2.5 hrs. Email leader Lorraine L if coming.
URL:https://ocv.ca/event/a1b-pkols-mt-doug-11/
CATEGORIES:A1b Hike
END:VEVENT
BEGIN:VEVENT
DTSTART;VALUE=DATE:20260502
DTEND;VALUE=DATE:20260503
DTSTAMP:20260421T132332
CREATED:20260420T175501Z
LAST-MODIFIED:20260420T175501Z
UID:9722-1777680000-1777766399@ocv.ca
SUMMARY:B2b Mt. Work - False Summit
DESCRIPTION:Meet at the Mt. Work parking lot on Munn Road. \nHike starts at 9:00. \nHike is 400m – 10 kms – 4 hrs. \nMust email Cathy G. if coming.
URL:https://ocv.ca/event/b2b-mt-work-false-summit-4/
CATEGORIES:B2b Hike
END:VEVENT
BEGIN:VEVENT
DTSTART;VALUE=DATE:20260503
DTEND;VALUE=DATE:20260504
DTSTAMP:20260421T132332
CREATED:20260420T162437Z
LAST-MODIFIED:20260420T162437Z
UID:9638-1777766400-1777852799@ocv.ca
SUMMARY:B2b Mt. Manuel Quimper
DESCRIPTION:Meet at the Harbourview Rd. parking lot in SASEENOS (Sooke). \nHike starts at 10:00. \nHike is 550m – 11 kms – 5 hrs. \nModerate pace. \nMust email Whitney L. if coming.
URL:https://ocv.ca/event/b2b-mt-manuel-quimper-5/
CATEGORIES:B2b Hike
END:VEVENT
BEGIN:VEVENT
DTSTART;VALUE=DATE:20260504
DTEND;VALUE=DATE:20260507
DTSTAMP:20260421T132332
CREATED:20251127T185509Z
LAST-MODIFIED:20260224T051222Z
UID:8866-1777852800-1778111999@ocv.ca
SUMMARY:Lake Cowichan Outing
DESCRIPTION:Coordinator – Lorraine L.
URL:https://ocv.ca/event/lake-cowichan-outing/
CATEGORIES:OCV Outing
END:VEVENT
BEGIN:VEVENT
DTSTART;VALUE=DATE:20260504
DTEND;VALUE=DATE:20260505
DTSTAMP:20260421T132332
CREATED:20260420T162915Z
LAST-MODIFIED:20260420T162915Z
UID:9640-1777852800-1777939199@ocv.ca
SUMMARY:B2c May the Fourth Shields be With You
DESCRIPTION:Meet at the Charters River Fish Hatchery. \nStart time to be determined. \nHike is 550m – 15 kms – 6.5 hrs. \nA loop around Grass Lake to Shields Lake\, passing over Devastation Hill and climbing Pleasant Peak. \nSome scrambling and overgrown trails involved. \nMust email Will A. if coming. \n**Nifty 50 peak(s)**
URL:https://ocv.ca/event/b2c-may-the-fourth-shields-be-with-you/
CATEGORIES:B2c Hike
END:VEVENT
BEGIN:VEVENT
DTSTART;TZID=America/Vancouver:20260504T100000
DTEND;TZID=America/Vancouver:20260504T123000
DTSTAMP:20260421T132332
CREATED:20260420T163219Z
LAST-MODIFIED:20260420T220441Z
UID:9645-1777888800-1777897800@ocv.ca
SUMMARY:A1b Mt Doug
DESCRIPTION:Meet at parking lot near washrooms. Hike is 2.5 hrs. Email leader Wendy E if coming.
URL:https://ocv.ca/event/a1b-wittys-lagoon-8/
CATEGORIES:A1b Hike
END:VEVENT
BEGIN:VEVENT
DTSTART;VALUE=DATE:20260505
DTEND;VALUE=DATE:20260506
DTSTAMP:20260421T132332
CREATED:20260420T163218Z
LAST-MODIFIED:20260420T163218Z
UID:9643-1777939200-1778025599@ocv.ca
SUMMARY:B1b Los Cuatro Amigos el Cinco de Mayo
DESCRIPTION:Meet at the Sooke Hills Wilderness South parking lot. \nStart time to be determined. \nHike is 350m – 8 kms – 5 hrs. \nMust email Jim N. if coming. \n** 3 Nifty 50 peaks**
URL:https://ocv.ca/event/b1b-los-cuatro-amigos-el-cinco-de-mayo/
CATEGORIES:B1b Hike
END:VEVENT
BEGIN:VEVENT
DTSTART;VALUE=DATE:20260505
DTEND;VALUE=DATE:20260506
DTSTAMP:20260421T132332
CREATED:20260420T163442Z
LAST-MODIFIED:20260420T163442Z
UID:9648-1777939200-1778025599@ocv.ca
SUMMARY:B2b East Sooke Park - Mt. Maguire - Coast Trail - Pike Point
DESCRIPTION:Meet at the Pike Road parking lot . \nHike starts at 10:00. \nHike is 450m – 10 kms. \nMust email Carol M. if coming.
URL:https://ocv.ca/event/b2b-east-sooke-park-mt-maguire-coast-trail-pike-point/
CATEGORIES:B2b Hike
END:VEVENT
BEGIN:VEVENT
DTSTART;VALUE=DATE:20260506
DTEND;VALUE=DATE:20260507
DTSTAMP:20260421T132332
CREATED:20260420T163754Z
LAST-MODIFIED:20260420T165639Z
UID:9655-1778025600-1778111999@ocv.ca
SUMMARY:B2b Mt. Wells - 4 Bumps
DESCRIPTION:Meet at the Humpback Reservoir parking lot. \nHike starts at 9:00. \nHike is 350m – 10 kms – 3.5 hrs. \nLimit of 10 hikers. \nMust email Helen V. if coming. \n**Nifty 50 peak(s)** \n 
URL:https://ocv.ca/event/b2b-mt-wells-4-bumps/
CATEGORIES:B2b Hike
END:VEVENT
BEGIN:VEVENT
DTSTART;TZID=America/Vancouver:20260506T083000
DTEND;TZID=America/Vancouver:20260506T103000
DTSTAMP:20260421T132332
CREATED:20260420T163328Z
LAST-MODIFIED:20260420T163328Z
UID:9649-1778056200-1778063400@ocv.ca
SUMMARY:A1b Killarney Lake – Mt Work
DESCRIPTION:Meet at Hartland Rd parking lot used by mountain bikers. Hike is 100 m – 5 km – 2 hrs. Slow pace. Email leader Ken M if coming.
URL:https://ocv.ca/event/a1b-killarney-lake-mt-work-18/
CATEGORIES:A1b Hike
END:VEVENT
BEGIN:VEVENT
DTSTART;VALUE=DATE:20260507
DTEND;VALUE=DATE:20260508
DTSTAMP:20260421T132332
CREATED:20260420T173132Z
LAST-MODIFIED:20260420T173713Z
UID:9715-1778112000-1778198399@ocv.ca
SUMMARY:B1b Mt. Maxwell - Salt Spring Island
DESCRIPTION:Hikers will take the 9:00 ferry from Swartz Bay – return at 4:30. \nHike is 360m – 9.5 kms – 4.5 hrs. \nMust email Chris D. if coming.
URL:https://ocv.ca/event/b1b-mt-maxwell-salt-spring-island/
END:VEVENT
BEGIN:VEVENT
DTSTART;VALUE=DATE:20260508
DTEND;VALUE=DATE:20260511
DTSTAMP:20260421T132332
CREATED:20260224T051136Z
LAST-MODIFIED:20260224T051136Z
UID:9476-1778198400-1778457599@ocv.ca
SUMMARY:OCV Backpack Outing - Flores Island (Tofino)
DESCRIPTION:Coordinator – Laura A.
URL:https://ocv.ca/event/ocv-backpack-outing-flores-island-tofino/
CATEGORIES:OCV Outing
END:VEVENT
BEGIN:VEVENT
DTSTART;TZID=America/Vancouver:20260508T090000
DTEND;TZID=America/Vancouver:20260508T120000
DTSTAMP:20260421T132332
CREATED:20260420T163521Z
LAST-MODIFIED:20260420T163521Z
UID:9651-1778230800-1778241600@ocv.ca
SUMMARY:A1b John Dean Park
DESCRIPTION:Meet at TH at Cresswell Rd. Hike is 260 m – 9.5 km – 3 hrs. Moderate pace. Email leader Lorraine L if coming.
URL:https://ocv.ca/event/a1b-john-dean-park-9/
CATEGORIES:A1b Hike
END:VEVENT
BEGIN:VEVENT
DTSTART;TZID=America/Vancouver:20260509T093000
DTEND;TZID=America/Vancouver:20260509T123000
DTSTAMP:20260421T132332
CREATED:20260420T163640Z
LAST-MODIFIED:20260420T163640Z
UID:9654-1778319000-1778329800@ocv.ca
SUMMARY:A1b Scafe Hill
DESCRIPTION:TH Bellamy Rd. Hike is 200 m – 9 km – 3 hrs. Email leader Paula M if coming.
URL:https://ocv.ca/event/a1b-scafe-hill/
CATEGORIES:A1b Hike
END:VEVENT
BEGIN:VEVENT
DTSTART;TZID=America/Vancouver:20260511T100000
DTEND;TZID=America/Vancouver:20260511T133000
DTSTAMP:20260421T132332
CREATED:20260420T163758Z
LAST-MODIFIED:20260420T163758Z
UID:9657-1778493600-1778506200@ocv.ca
SUMMARY:A/B1b Martha's Mounds - Mt Work Park
DESCRIPTION:Meet at Mt. Work Munn Rd parking lot. Hike is 290 m – 6.5 km – 3.5 hrs. Slow pace. \nEmail leader Shirley T if coming.
URL:https://ocv.ca/event/a-b1b-marthas-mounds-mt-work-park-2/
CATEGORIES:A1b Hike
END:VEVENT
END:VCALENDAR