BEGIN:VCALENDAR
VERSION:2.0
PRODID:-//OCV.ca - ECPv6.15.13.1//NONSGML v1.0//EN
CALSCALE:GREGORIAN
METHOD:PUBLISH
X-WR-CALNAME:OCV.ca
X-ORIGINAL-URL:https://ocv.ca
X-WR-CALDESC:Events for OCV.ca
REFRESH-INTERVAL;VALUE=DURATION:PT1H
X-Robots-Tag:noindex
X-PUBLISHED-TTL:PT1H
BEGIN:VTIMEZONE
TZID:America/Vancouver
BEGIN:DAYLIGHT
TZOFFSETFROM:-0800
TZOFFSETTO:-0700
TZNAME:PDT
DTSTART:20230312T100000
END:DAYLIGHT
BEGIN:STANDARD
TZOFFSETFROM:-0700
TZOFFSETTO:-0800
TZNAME:PST
DTSTART:20231105T090000
END:STANDARD
BEGIN:DAYLIGHT
TZOFFSETFROM:-0800
TZOFFSETTO:-0700
TZNAME:PDT
DTSTART:20240310T100000
END:DAYLIGHT
BEGIN:STANDARD
TZOFFSETFROM:-0700
TZOFFSETTO:-0800
TZNAME:PST
DTSTART:20241103T090000
END:STANDARD
BEGIN:DAYLIGHT
TZOFFSETFROM:-0800
TZOFFSETTO:-0700
TZNAME:PDT
DTSTART:20250309T100000
END:DAYLIGHT
BEGIN:STANDARD
TZOFFSETFROM:-0700
TZOFFSETTO:-0800
TZNAME:PST
DTSTART:20251102T090000
END:STANDARD
BEGIN:DAYLIGHT
TZOFFSETFROM:-0800
TZOFFSETTO:-0700
TZNAME:PDT
DTSTART:20260308T100000
END:DAYLIGHT
BEGIN:STANDARD
TZOFFSETFROM:-0700
TZOFFSETTO:-0800
TZNAME:PST
DTSTART:20261101T090000
END:STANDARD
END:VTIMEZONE
BEGIN:VEVENT
DTSTART;TZID=America/Vancouver:20251116T114500
DTEND;TZID=America/Vancouver:20251116T143000
DTSTAMP:20260424T202303
CREATED:20250930T160734Z
LAST-MODIFIED:20251012T182540Z
UID:8721-1763293500-1763303400@ocv.ca
SUMMARY:OCV Festive Potluck & Fall General Meeting
DESCRIPTION:Location : Scout House 505 Marigold Road\, Victoria. \nTime: 11:45 – 2:30. \nBring potluck food item for sharing  + personal cutlery\, plate & cup/mug. \nFall General Meeting + presentations of OCV outings to Flores Island & Manning Park. \nPresentation by Metchosin Search and Rescue.
URL:https://ocv.ca/event/ocv-festive-potluck-fall-general-meeting/
CATEGORIES:General Meeting
END:VEVENT
BEGIN:VEVENT
DTSTART;VALUE=DATE:20241117
DTEND;VALUE=DATE:20241118
DTSTAMP:20260424T202303
CREATED:20240826T231147Z
LAST-MODIFIED:20241017T191724Z
UID:7367-1731801600-1731887999@ocv.ca
SUMMARY:OCV Fall General Meeting and Festive Potluck
DESCRIPTION:This event will be held at the Scout House at 505 Marigold Street\, Victoria. \nDoors open at 11:45. \nBring a dish to share\, your own plate\, cutlery & cup. \nBook giveaway\, Potluck\, Fall General Meeting\, Presentations on the Cowichan Valley and U.S. Canyons Outings. \n 
URL:https://ocv.ca/event/ocv-fall-general-meeting-and-festive-potluck/
CATEGORIES:General Meeting
END:VEVENT
END:VCALENDAR