BEGIN:VCALENDAR
VERSION:2.0
PRODID:-//OCV.ca - ECPv6.15.13.1//NONSGML v1.0//EN
CALSCALE:GREGORIAN
METHOD:PUBLISH
X-ORIGINAL-URL:https://ocv.ca
X-WR-CALDESC:Events for OCV.ca
REFRESH-INTERVAL;VALUE=DURATION:PT1H
X-Robots-Tag:noindex
X-PUBLISHED-TTL:PT1H
BEGIN:VTIMEZONE
TZID:America/Vancouver
BEGIN:DAYLIGHT
TZOFFSETFROM:-0800
TZOFFSETTO:-0700
TZNAME:PDT
DTSTART:20240310T100000
END:DAYLIGHT
BEGIN:STANDARD
TZOFFSETFROM:-0700
TZOFFSETTO:-0800
TZNAME:PST
DTSTART:20241103T090000
END:STANDARD
BEGIN:DAYLIGHT
TZOFFSETFROM:-0800
TZOFFSETTO:-0700
TZNAME:PDT
DTSTART:20250309T100000
END:DAYLIGHT
BEGIN:STANDARD
TZOFFSETFROM:-0700
TZOFFSETTO:-0800
TZNAME:PST
DTSTART:20251102T090000
END:STANDARD
BEGIN:DAYLIGHT
TZOFFSETFROM:-0800
TZOFFSETTO:-0700
TZNAME:PDT
DTSTART:20260308T100000
END:DAYLIGHT
BEGIN:STANDARD
TZOFFSETFROM:-0700
TZOFFSETTO:-0800
TZNAME:PST
DTSTART:20261101T090000
END:STANDARD
END:VTIMEZONE
BEGIN:VEVENT
DTSTART;VALUE=DATE:20250924
DTEND;VALUE=DATE:20250925
DTSTAMP:20260421T232331
CREATED:20250819T171606Z
LAST-MODIFIED:20250819T171606Z
UID:8590-1758672000-1758758399@ocv.ca
SUMMARY:C2b Thunderbird Mtn. - Ragged Mtn. - Crow's Nest
DESCRIPTION:Meet at YMCA Camp Thunderbird on Glintz Lake Road\, Sooke. \n**Maximum of 10 hikers – no waitlist as names need to be submitted to the Camp prior to the hike** \nHike starts at 9:00. \nHike is 600m – 12 kms – 6 hrs. \n*Need to carpool* \nMust email Jim N. if coming. \n**Nifty 50 Peak(s).
URL:https://ocv.ca/event/c2b-thunderbird-mtn-ragged-mtn-crows-nest/
CATEGORIES:C2b
END:VEVENT
END:VCALENDAR