BEGIN:VCALENDAR
VERSION:2.0
PRODID:-//OCV.ca - ECPv6.15.13.1//NONSGML v1.0//EN
CALSCALE:GREGORIAN
METHOD:PUBLISH
X-ORIGINAL-URL:https://ocv.ca
X-WR-CALDESC:Events for OCV.ca
REFRESH-INTERVAL;VALUE=DURATION:PT1H
X-Robots-Tag:noindex
X-PUBLISHED-TTL:PT1H
BEGIN:VTIMEZONE
TZID:America/Vancouver
BEGIN:DAYLIGHT
TZOFFSETFROM:-0800
TZOFFSETTO:-0700
TZNAME:PDT
DTSTART:20240310T100000
END:DAYLIGHT
BEGIN:STANDARD
TZOFFSETFROM:-0700
TZOFFSETTO:-0800
TZNAME:PST
DTSTART:20241103T090000
END:STANDARD
BEGIN:DAYLIGHT
TZOFFSETFROM:-0800
TZOFFSETTO:-0700
TZNAME:PDT
DTSTART:20250309T100000
END:DAYLIGHT
BEGIN:STANDARD
TZOFFSETFROM:-0700
TZOFFSETTO:-0800
TZNAME:PST
DTSTART:20251102T090000
END:STANDARD
BEGIN:DAYLIGHT
TZOFFSETFROM:-0800
TZOFFSETTO:-0700
TZNAME:PDT
DTSTART:20260308T100000
END:DAYLIGHT
BEGIN:STANDARD
TZOFFSETFROM:-0700
TZOFFSETTO:-0800
TZNAME:PST
DTSTART:20261101T090000
END:STANDARD
END:VTIMEZONE
BEGIN:VEVENT
DTSTART;VALUE=DATE:20250416
DTEND;VALUE=DATE:20250417
DTSTAMP:20260422T084401
CREATED:20250321T022900Z
LAST-MODIFIED:20250321T022900Z
UID:7966-1744761600-1744847999@ocv.ca
SUMMARY:C2b Anderson- Buxey - Bonsai - Jocelyn Hills
DESCRIPTION:Meet at the Mt. Work parking lot on Ross-Durrance Road. \nHike starts at 9:00. \nHike is 650m – 14 kms – 6 hrs. \nMust email Liz B. if coming.
URL:https://ocv.ca/event/c2b-anderson-buxey-bonsai-jocelyn-hills/
CATEGORIES:C2b
END:VEVENT
BEGIN:VEVENT
DTSTART;VALUE=DATE:20250419
DTEND;VALUE=DATE:20250420
DTSTAMP:20260422T084401
CREATED:20250321T023739Z
LAST-MODIFIED:20250321T023739Z
UID:7972-1745020800-1745107199@ocv.ca
SUMMARY:C2b Mt. McDonald and Beyond
DESCRIPTION:Meet at the Humpback Reservoir parking lot. \nHike starts at 9:00. \nHike is 625m – 4-4.5 hrs. \nHike goes up McDonald\, down to Lucy’s Plateau\, up and down Neil’s Knoll\, up John Stick and up and down McDonald. Some rough trails. \nMust email Hélène W. if coming. \n**Nifty 50 peak(s)**
URL:https://ocv.ca/event/c2b-mt-mcdonald-and-beyond-6/
CATEGORIES:C2b
END:VEVENT
BEGIN:VEVENT
DTSTART;VALUE=DATE:20250423
DTEND;VALUE=DATE:20250424
DTSTAMP:20260422T084401
CREATED:20250321T025551Z
LAST-MODIFIED:20250321T025551Z
UID:7983-1745366400-1745452799@ocv.ca
SUMMARY:C2b Princess Peak
DESCRIPTION:Contact leader for start time and start location. \nHike is 650m – 18 kms. \nMust email Will A. if coming.
URL:https://ocv.ca/event/c2b-princess-peak/
CATEGORIES:C2b
END:VEVENT
BEGIN:VEVENT
DTSTART;VALUE=DATE:20250426
DTEND;VALUE=DATE:20250427
DTSTAMP:20260422T084401
CREATED:20250321T030052Z
LAST-MODIFIED:20250321T030052Z
UID:7989-1745625600-1745711999@ocv.ca
SUMMARY:C2b **New Hike** Horse Monument from Burnt Bridge
DESCRIPTION:Contact leader for start time and start location. \nHike is 666m – 14 kms. \nMust email Mary H. if coming.
URL:https://ocv.ca/event/c2b-new-hike-horse-monument-from-burnt-bridge/
CATEGORIES:C2b
END:VEVENT
END:VCALENDAR