BEGIN:VCALENDAR
VERSION:2.0
PRODID:-//OCV.ca - ECPv6.15.13.1//NONSGML v1.0//EN
CALSCALE:GREGORIAN
METHOD:PUBLISH
X-ORIGINAL-URL:https://ocv.ca
X-WR-CALDESC:Events for OCV.ca
REFRESH-INTERVAL;VALUE=DURATION:PT1H
X-Robots-Tag:noindex
X-PUBLISHED-TTL:PT1H
BEGIN:VTIMEZONE
TZID:America/Vancouver
BEGIN:DAYLIGHT
TZOFFSETFROM:-0800
TZOFFSETTO:-0700
TZNAME:PDT
DTSTART:20240310T100000
END:DAYLIGHT
BEGIN:STANDARD
TZOFFSETFROM:-0700
TZOFFSETTO:-0800
TZNAME:PST
DTSTART:20241103T090000
END:STANDARD
BEGIN:DAYLIGHT
TZOFFSETFROM:-0800
TZOFFSETTO:-0700
TZNAME:PDT
DTSTART:20250309T100000
END:DAYLIGHT
BEGIN:STANDARD
TZOFFSETFROM:-0700
TZOFFSETTO:-0800
TZNAME:PST
DTSTART:20251102T090000
END:STANDARD
BEGIN:DAYLIGHT
TZOFFSETFROM:-0800
TZOFFSETTO:-0700
TZNAME:PDT
DTSTART:20260308T100000
END:DAYLIGHT
BEGIN:STANDARD
TZOFFSETFROM:-0700
TZOFFSETTO:-0800
TZNAME:PST
DTSTART:20261101T090000
END:STANDARD
END:VTIMEZONE
BEGIN:VEVENT
DTSTART;VALUE=DATE:20250301
DTEND;VALUE=DATE:20250302
DTSTAMP:20260422T071930
CREATED:20250123T015812Z
LAST-MODIFIED:20250227T171656Z
UID:7760-1740787200-1740873599@ocv.ca
SUMMARY:**UPDATE**Cancelled**C2b/c  Snowshoe Mt. Elma
DESCRIPTION:Due to extensive rainfall\, this event has been cancelled.
URL:https://ocv.ca/event/c2b-c-snowshoe-mt-elma/
CATEGORIES:C2b/c
END:VEVENT
BEGIN:VEVENT
DTSTART;VALUE=DATE:20250222
DTEND;VALUE=DATE:20250223
DTSTAMP:20260422T071930
CREATED:20250123T014639Z
LAST-MODIFIED:20250222T022310Z
UID:7740-1740182400-1740268799@ocv.ca
SUMMARY:**UPDATE**Hike Cancelled**C2b/c Anderson Hill - Buxey - Bonsai - Jocelyn
DESCRIPTION:Hike cancelled due to rainy/windy forecast.
URL:https://ocv.ca/event/c2b-c-anderson-hill-buxey-bonsai-jocelyn/
CATEGORIES:C2b/c
END:VEVENT
BEGIN:VEVENT
DTSTART;VALUE=DATE:20250214
DTEND;VALUE=DATE:20250215
DTSTAMP:20260422T071930
CREATED:20250123T013409Z
LAST-MODIFIED:20250213T213417Z
UID:7713-1739491200-1739577599@ocv.ca
SUMMARY:**UPDATE**Hike Cancelled**C2b/c Mt. McDonald -Ryder -Stick -Malcolm -Amigos - Carriageway Loop
DESCRIPTION:Hike cancelled due to poor trail conditions.
URL:https://ocv.ca/event/c2b-c-mt-mcdonald-ryder-stick-malcolm-amigos-carriageway-loop/
CATEGORIES:C2b/c
END:VEVENT
BEGIN:VEVENT
DTSTART;VALUE=DATE:20250212
DTEND;VALUE=DATE:20250213
DTSTAMP:20260422T071930
CREATED:20250123T013720Z
LAST-MODIFIED:20250123T013720Z
UID:7724-1739318400-1739404799@ocv.ca
SUMMARY:C2b/c Sooke Mountain Loop
DESCRIPTION:Contact leader for start time and start location. \nHike is 800m – 16 kms. \nMust email Laura A. if coming.
URL:https://ocv.ca/event/c2b-c-sooke-mountain-loop/
CATEGORIES:C2b/c
END:VEVENT
END:VCALENDAR