BEGIN:VCALENDAR
VERSION:2.0
PRODID:-//OCV.ca - ECPv6.15.13.1//NONSGML v1.0//EN
CALSCALE:GREGORIAN
METHOD:PUBLISH
X-WR-CALNAME:OCV.ca
X-ORIGINAL-URL:https://ocv.ca
X-WR-CALDESC:Events for OCV.ca
REFRESH-INTERVAL;VALUE=DURATION:PT1H
X-Robots-Tag:noindex
X-PUBLISHED-TTL:PT1H
BEGIN:VTIMEZONE
TZID:America/Vancouver
BEGIN:DAYLIGHT
TZOFFSETFROM:-0800
TZOFFSETTO:-0700
TZNAME:PDT
DTSTART:20250309T100000
END:DAYLIGHT
BEGIN:STANDARD
TZOFFSETFROM:-0700
TZOFFSETTO:-0800
TZNAME:PST
DTSTART:20251102T090000
END:STANDARD
BEGIN:DAYLIGHT
TZOFFSETFROM:-0800
TZOFFSETTO:-0700
TZNAME:PDT
DTSTART:20260308T100000
END:DAYLIGHT
BEGIN:STANDARD
TZOFFSETFROM:-0700
TZOFFSETTO:-0800
TZNAME:PST
DTSTART:20261101T090000
END:STANDARD
BEGIN:DAYLIGHT
TZOFFSETFROM:-0800
TZOFFSETTO:-0700
TZNAME:PDT
DTSTART:20270314T100000
END:DAYLIGHT
BEGIN:STANDARD
TZOFFSETFROM:-0700
TZOFFSETTO:-0800
TZNAME:PST
DTSTART:20271107T090000
END:STANDARD
END:VTIMEZONE
BEGIN:VEVENT
DTSTART;VALUE=DATE:20260116
DTEND;VALUE=DATE:20260117
DTSTAMP:20260422T071602
CREATED:20251219T213432Z
LAST-MODIFIED:20251219T213432Z
UID:9067-1768521600-1768607999@ocv.ca
SUMMARY:C2b/c McDonald Mtn. and Beyond
DESCRIPTION:Meet at the Humpback Reservoir parking lot. \nHike starts at 9:00. \nHike is 610m – 10 kms – 4.5-5 hrs. \nThe Loop – up McDonald\, down to Lucy’s Square\, short bushwhacking\, up and down Neil’s Knoll\, up John Stick and up and down McDonald. \nMust email Hélène W. if coming. \n**Nifty 50 peak(s)**
URL:https://ocv.ca/event/c2b-c-mcdonald-mtn-and-beyond/
CATEGORIES:C2b/c
END:VEVENT
END:VCALENDAR