BEGIN:VCALENDAR
VERSION:2.0
PRODID:-//OCV.ca - ECPv6.15.13.1//NONSGML v1.0//EN
CALSCALE:GREGORIAN
METHOD:PUBLISH
X-WR-CALNAME:OCV.ca
X-ORIGINAL-URL:https://ocv.ca
X-WR-CALDESC:Events for OCV.ca
REFRESH-INTERVAL;VALUE=DURATION:PT1H
X-Robots-Tag:noindex
X-PUBLISHED-TTL:PT1H
BEGIN:VTIMEZONE
TZID:America/Vancouver
BEGIN:DAYLIGHT
TZOFFSETFROM:-0800
TZOFFSETTO:-0700
TZNAME:PDT
DTSTART:20240310T100000
END:DAYLIGHT
BEGIN:STANDARD
TZOFFSETFROM:-0700
TZOFFSETTO:-0800
TZNAME:PST
DTSTART:20241103T090000
END:STANDARD
BEGIN:DAYLIGHT
TZOFFSETFROM:-0800
TZOFFSETTO:-0700
TZNAME:PDT
DTSTART:20250309T100000
END:DAYLIGHT
BEGIN:STANDARD
TZOFFSETFROM:-0700
TZOFFSETTO:-0800
TZNAME:PST
DTSTART:20251102T090000
END:STANDARD
BEGIN:DAYLIGHT
TZOFFSETFROM:-0800
TZOFFSETTO:-0700
TZNAME:PDT
DTSTART:20260308T100000
END:DAYLIGHT
BEGIN:STANDARD
TZOFFSETFROM:-0700
TZOFFSETTO:-0800
TZNAME:PST
DTSTART:20261101T090000
END:STANDARD
END:VTIMEZONE
BEGIN:VEVENT
DTSTART;VALUE=DATE:20251110
DTEND;VALUE=DATE:20251111
DTSTAMP:20260421T192437
CREATED:20250924T040122Z
LAST-MODIFIED:20251001T233308Z
UID:8692-1762732800-1762819199@ocv.ca
SUMMARY:B2c Viking Tree to Land's End & Dinosaur Ridge
DESCRIPTION:Meet at the Sooke Hills Wilderness parking lot on Sooke Road. \nStart time to be determined. \nHike is 450m – 18 kms – 6.5 hrs. \nSome bushwhacking involved. \nMust email Jim N. if coming. \n**Nifty 50 peak(s)** \n 
URL:https://ocv.ca/event/b2c-bushwhack-from-viking-tree-to-lands-end/
CATEGORIES:B2c Hike
END:VEVENT
BEGIN:VEVENT
DTSTART;VALUE=DATE:20250622
DTEND;VALUE=DATE:20250623
DTSTAMP:20260421T192437
CREATED:20250523T025243Z
LAST-MODIFIED:20250523T025243Z
UID:8237-1750550400-1750636799@ocv.ca
SUMMARY:B2c  East Rampart (the unvisited one) over Manuel Quimper
DESCRIPTION:Meet at the Sea-to-Sea parking lot on Harbourview Road. \nHike starts at 8:30. \nHike is 600m – 14 kms – 6 hrs. \nSome bushwhacking involved. \nMust email Will A. if coming. \n**Nifty 50 hike(s)**
URL:https://ocv.ca/event/b2c-east-rampart-the-unvisited-one-over-manuel-quimper/
CATEGORIES:B2c Hike
END:VEVENT
BEGIN:VEVENT
DTSTART;VALUE=DATE:20250323
DTEND;VALUE=DATE:20250324
DTSTAMP:20260421T192437
CREATED:20250220T042729Z
LAST-MODIFIED:20250220T042729Z
UID:7856-1742688000-1742774399@ocv.ca
SUMMARY:B2c Plateau Peak - Mt. Braden - Castle Peaks
DESCRIPTION:Meet at the Sooke Hills Wilderness parking lot on Sooke Road. \nHike starts at 9:00. \nHike is 550m – 13.5 kms – 5 hrs. \nMust email Will A. if coming. \n**Nifty 50 peak(s)**
URL:https://ocv.ca/event/b2c-plateau-peak-mt-braden-castle-peaks/
CATEGORIES:B2c Hike
END:VEVENT
BEGIN:VEVENT
DTSTART;VALUE=DATE:20250312
DTEND;VALUE=DATE:20250313
DTSTAMP:20260421T192437
CREATED:20250220T040430Z
LAST-MODIFIED:20250220T040430Z
UID:7816-1741737600-1741823999@ocv.ca
SUMMARY:B2c Mt. Finlayson - Prospector's Trail
DESCRIPTION:Meet at Goldstream Prov. Park day-use area. \nHike starts at 9:00. \nHike is 525m – 10 kms – 4.5 hrs. \nHike is a figure-8 loop that uses the middle and back routes over Finlayson\, NOT the steep scramble route. \nMust email Will A. if coming.
URL:https://ocv.ca/event/b2c-mt-finlayson-prospectors-trail/
CATEGORIES:B2c Hike
END:VEVENT
END:VCALENDAR