BEGIN:VCALENDAR
VERSION:2.0
PRODID:-//OCV.ca - ECPv6.15.13.1//NONSGML v1.0//EN
CALSCALE:GREGORIAN
METHOD:PUBLISH
X-ORIGINAL-URL:https://ocv.ca
X-WR-CALDESC:Events for OCV.ca
REFRESH-INTERVAL;VALUE=DURATION:PT1H
X-Robots-Tag:noindex
X-PUBLISHED-TTL:PT1H
BEGIN:VTIMEZONE
TZID:America/Vancouver
BEGIN:DAYLIGHT
TZOFFSETFROM:-0800
TZOFFSETTO:-0700
TZNAME:PDT
DTSTART:20250309T100000
END:DAYLIGHT
BEGIN:STANDARD
TZOFFSETFROM:-0700
TZOFFSETTO:-0800
TZNAME:PST
DTSTART:20251102T090000
END:STANDARD
BEGIN:DAYLIGHT
TZOFFSETFROM:-0800
TZOFFSETTO:-0700
TZNAME:PDT
DTSTART:20260308T100000
END:DAYLIGHT
BEGIN:STANDARD
TZOFFSETFROM:-0700
TZOFFSETTO:-0800
TZNAME:PST
DTSTART:20261101T090000
END:STANDARD
BEGIN:DAYLIGHT
TZOFFSETFROM:-0800
TZOFFSETTO:-0700
TZNAME:PDT
DTSTART:20270314T100000
END:DAYLIGHT
BEGIN:STANDARD
TZOFFSETFROM:-0700
TZOFFSETTO:-0800
TZNAME:PST
DTSTART:20271107T090000
END:STANDARD
END:VTIMEZONE
BEGIN:VEVENT
DTSTART;VALUE=DATE:20260408
DTEND;VALUE=DATE:20260409
DTSTAMP:20260423T142414
CREATED:20260320T210200Z
LAST-MODIFIED:20260320T210200Z
UID:9555-1775606400-1775692799@ocv.ca
SUMMARY:B2b Monument Mtn - Grassy Hill
DESCRIPTION:Meet at the Charters Creek parking lot in Sooke. \nHike starts at 9:30. \nHike is 450m – 12 kms – 4.5 hrs. \nMust email Helen V. if coming. \n**Nifty 50 peak(s)**
URL:https://ocv.ca/event/b2b-monument-mtn-grassy-hill/
CATEGORIES:B2b Hike
END:VEVENT
BEGIN:VEVENT
DTSTART;VALUE=DATE:20260407
DTEND;VALUE=DATE:20260408
DTSTAMP:20260423T142414
CREATED:20260320T205941Z
LAST-MODIFIED:20260320T214436Z
UID:9548-1775520000-1775606399@ocv.ca
SUMMARY:B2b Lone Tree - Jocelyn - Andersen - Hazlet Loop **Wildflower Hike**
DESCRIPTION:Meet at the Lone Tree Hill parking lot. \nHike starts at 10:00. \nHike is 450m – 12 kms. \nMust email Carol M. if coming. \n 
URL:https://ocv.ca/event/b2b-wildflower-hike-lone-tree-jocelyn-andersen-hazlet-loop/
CATEGORIES:B2b Hike
END:VEVENT
BEGIN:VEVENT
DTSTART;VALUE=DATE:20260404
DTEND;VALUE=DATE:20260405
DTSTAMP:20260423T142414
CREATED:20260320T205225Z
LAST-MODIFIED:20260320T205225Z
UID:9543-1775260800-1775347199@ocv.ca
SUMMARY:B2b John Dean Park
DESCRIPTION:Meet at the Halden Rd./Thompson Place (8233 Thompson Pl.) trailhead. \nHike starts at 9:00. \nHike is 552 m – 10.2 kms – 3.5-4 hrs. \nMust email Liz B. if coming. \n 
URL:https://ocv.ca/event/b2b-john-dean-park-23/
CATEGORIES:B2b Hike
END:VEVENT
BEGIN:VEVENT
DTSTART;VALUE=DATE:20260403
DTEND;VALUE=DATE:20260404
DTSTAMP:20260423T142414
CREATED:20260320T204957Z
LAST-MODIFIED:20260320T204957Z
UID:9541-1775174400-1775260799@ocv.ca
SUMMARY:B2b Sugarloaf and Amigos
DESCRIPTION:Meet at the Sooke Hills Wilderness parking lot on Sooke Road. \nHike starts at 8:45. \nHike is 500m – 10 kms – 4 hrs. \nMust email Laura A. if coming. \n**Nifty 50 peak(s)**
URL:https://ocv.ca/event/b2b-sugarloaf-and-amigos/
CATEGORIES:B2b Hike
END:VEVENT
BEGIN:VEVENT
DTSTART;VALUE=DATE:20260401
DTEND;VALUE=DATE:20260402
DTSTAMP:20260423T142414
CREATED:20260320T204746Z
LAST-MODIFIED:20260320T204746Z
UID:9539-1775001600-1775087999@ocv.ca
SUMMARY:B2b Journey to Land's End (No fooling!)
DESCRIPTION:Meet at the Sooke Hills Wilderness parking lot on Sooke Road. \nStart time to be determined. \nHike is 450m -18 kms – 6.5 hrs. \nMust email Jim N. if coming. \n**Nifty 50 peak(s)**
URL:https://ocv.ca/event/b2b-journey-to-lands-end-no-fooling/
CATEGORIES:B2b Hike
END:VEVENT
BEGIN:VEVENT
DTSTART;VALUE=DATE:20260331
DTEND;VALUE=DATE:20260401
DTSTAMP:20260423T142414
CREATED:20260219T221252Z
LAST-MODIFIED:20260219T221400Z
UID:9456-1774915200-1775001599@ocv.ca
SUMMARY:B2b Three Amigos Flower Hike
DESCRIPTION:Meet at the Sooke Hills Wilderness parking lot on Sooke Road. \nHike starts at 10:00. \nHike is 400m – 10 kms. \nMust email Carol M. if coming. \n**Nifty 50 peaks**
URL:https://ocv.ca/event/b2b-three-amigos-flower-hike/
CATEGORIES:B2b Hike
END:VEVENT
BEGIN:VEVENT
DTSTART;VALUE=DATE:20260329
DTEND;VALUE=DATE:20260330
DTSTAMP:20260423T142414
CREATED:20260219T221111Z
LAST-MODIFIED:20260219T221111Z
UID:9454-1774742400-1774828799@ocv.ca
SUMMARY:B2b Maple Mountain (Duncan)
DESCRIPTION:Contact leader for start time and start location. \nHike is 12 kms – 4-5 hrs. \nMust email Mary H. if coming.
URL:https://ocv.ca/event/b2b-maple-mountain-duncan/
CATEGORIES:B2b Hike
END:VEVENT
BEGIN:VEVENT
DTSTART;VALUE=DATE:20260329
DTEND;VALUE=DATE:20260330
DTSTAMP:20260423T142414
CREATED:20260219T220905Z
LAST-MODIFIED:20260219T220905Z
UID:9452-1774742400-1774828799@ocv.ca
SUMMARY:B2b Mt. Manuel Quimper
DESCRIPTION:Meet at the Harbourview Road parking lot\, Saseenos. \nHike starts at 10:00. \nHike is 550m – 11 kms – 5 hrs. Moderate pace. \nMust email Whitney L. if coming. \n 
URL:https://ocv.ca/event/b2b-mt-manuel-quimper-4/
CATEGORIES:B2b Hike
END:VEVENT
BEGIN:VEVENT
DTSTART;VALUE=DATE:20260325
DTEND;VALUE=DATE:20260326
DTSTAMP:20260423T142414
CREATED:20260219T220649Z
LAST-MODIFIED:20260219T220649Z
UID:9450-1774396800-1774483199@ocv.ca
SUMMARY:B2b Mt. Manuel Quimper
DESCRIPTION:Meet at the Mt. Manuel Quimper trailhead on Harbourview Road. \nHike starts at 10:00. \nHike is 475 m – 12 kms – 4.5-5 hrs. \nMust email Helen V. if coming.
URL:https://ocv.ca/event/b2b-mt-manuel-quimper-3/
CATEGORIES:B2b Hike
END:VEVENT
BEGIN:VEVENT
DTSTART;VALUE=DATE:20260324
DTEND;VALUE=DATE:20260325
DTSTAMP:20260423T142414
CREATED:20260219T220324Z
LAST-MODIFIED:20260219T220324Z
UID:9448-1774310400-1774396799@ocv.ca
SUMMARY:B2b Metchosin Wilderness
DESCRIPTION:Trailhead directions will be sent later to participants. \nHike starts at 9:30. \nHike is 400m – 11 kms – 4-4.5 hrs. \nMust email Denise T. if coming.
URL:https://ocv.ca/event/b2b-metchosin-wilderness-4/
CATEGORIES:B2b Hike
END:VEVENT
BEGIN:VEVENT
DTSTART;VALUE=DATE:20260314
DTEND;VALUE=DATE:20260315
DTSTAMP:20260423T142414
CREATED:20260219T214412Z
LAST-MODIFIED:20260219T214412Z
UID:9410-1773446400-1773532799@ocv.ca
SUMMARY:B2b Laughing Loop.
DESCRIPTION:Meet at the Mt. Work parking lot on Munn Road. \nContact leader for start time. \nHike is 330m – 10.7 kms – 3.5+ hrs. \nMust email Elizabeth S J.
URL:https://ocv.ca/event/b2b-laughing-loop/
CATEGORIES:B2b Hike
END:VEVENT
BEGIN:VEVENT
DTSTART;VALUE=DATE:20260314
DTEND;VALUE=DATE:20260315
DTSTAMP:20260423T142414
CREATED:20260219T214635Z
LAST-MODIFIED:20260219T214635Z
UID:9418-1773446400-1773532799@ocv.ca
SUMMARY:B2b Mt. Work - Up Sidewinder - Down Westside
DESCRIPTION:Meet at the Mt. Work parking lot on Ross-Durrance Road. \nHike starts at 9:00. \nHike is 500m- 10.6 kms -4.5 hrs. \nMust email Liz B. if coming. \n 
URL:https://ocv.ca/event/b2b-mt-work-up-sidewinder-down-westside-14/
CATEGORIES:B2b Hike
END:VEVENT
BEGIN:VEVENT
DTSTART;VALUE=DATE:20260311
DTEND;VALUE=DATE:20260312
DTSTAMP:20260423T142414
CREATED:20260219T213945Z
LAST-MODIFIED:20260219T213945Z
UID:9403-1773187200-1773273599@ocv.ca
SUMMARY:B2b Grassy Lake - Monument Mountain
DESCRIPTION:Meet at the Charters Creek parking lot in Sooke. \nHike starts at 10:00. \nHike is 450m – 12.5 kms – 4.5-5 hrs. \nMust email Helen V. if coming. \n**Nifty 50 peak**
URL:https://ocv.ca/event/b2b-grassy-lake-monument-mountain/
CATEGORIES:B2b Hike
END:VEVENT
BEGIN:VEVENT
DTSTART;VALUE=DATE:20260310
DTEND;VALUE=DATE:20260311
DTSTAMP:20260423T142414
CREATED:20260219T213652Z
LAST-MODIFIED:20260219T213652Z
UID:9398-1773100800-1773187199@ocv.ca
SUMMARY:B2b Matheson Lake - Cougar Ridge
DESCRIPTION:Meet at Matheson Lake parking lot. \nHike starts at 10:00. \nHike is 300m – 10 kms – 3.5 hrs. \nMust email Denise T. if coming. \n 
URL:https://ocv.ca/event/b2b-matheson-lake-cougar-ridge-8/
CATEGORIES:B2b Hike
END:VEVENT
BEGIN:VEVENT
DTSTART;VALUE=DATE:20260308
DTEND;VALUE=DATE:20260309
DTSTAMP:20260423T142414
CREATED:20260219T213456Z
LAST-MODIFIED:20260219T213456Z
UID:9391-1772928000-1773014399@ocv.ca
SUMMARY:B2b East Sooke Park - Babbington Hill - Cabin Point Loop
DESCRIPTION:Meet at the Aylard Farm parking lot on Beecher Bay Road. \nContact leader for start time. \nhike is 580 m – 11 kms -5 hrs. \nMust email Will A. if coming.
URL:https://ocv.ca/event/b2b-east-sooke-park-babbington-hill-cabin-point-loop/
CATEGORIES:B2b Hike
END:VEVENT
BEGIN:VEVENT
DTSTART;VALUE=DATE:20260307
DTEND;VALUE=DATE:20260308
DTSTAMP:20260423T142414
CREATED:20260219T213205Z
LAST-MODIFIED:20260219T213205Z
UID:9387-1772841600-1772927999@ocv.ca
SUMMARY:B2b Mt. Braden
DESCRIPTION:Meet at the Sooke Hills Wilderness parking lot on Sooke Road. \nHike starts at 9:00. \nHike is 472m – 11kms – 4.5 hrs. \nMust email Liz B. if coming. \n**Nifty 50 peak**
URL:https://ocv.ca/event/b2b-mt-braden-6/
CATEGORIES:B2b Hike
END:VEVENT
BEGIN:VEVENT
DTSTART;VALUE=DATE:20260304
DTEND;VALUE=DATE:20260305
DTSTAMP:20260423T142414
CREATED:20260219T213018Z
LAST-MODIFIED:20260219T213018Z
UID:9383-1772582400-1772668799@ocv.ca
SUMMARY:B2b Jocelyn Hill from Caleb Pike
DESCRIPTION:Meet at the Gowlland Tod parking lot at 733 Caleb Pike Road. \nContact leader for start time. \nHike is 300m – 10 kms – 4 hrs. \nMust email Jim N. if coming.
URL:https://ocv.ca/event/b2b-jocelyn-hill-from-caleb-pike-2/
CATEGORIES:B2b Hike
END:VEVENT
BEGIN:VEVENT
DTSTART;VALUE=DATE:20260303
DTEND;VALUE=DATE:20260304
DTSTAMP:20260423T142414
CREATED:20260219T212749Z
LAST-MODIFIED:20260219T212749Z
UID:9381-1772496000-1772582399@ocv.ca
SUMMARY:B2b East Sooke Park - Cabin Point
DESCRIPTION:Meet at the Aylard Farm parking lot. \nHike starts at 10:00. \nHike is 400m – 10 kms. \nMust email Carol M. if coming.
URL:https://ocv.ca/event/b2b-east-sooke-park-cabin-point-2/
CATEGORIES:B2b Hike
END:VEVENT
BEGIN:VEVENT
DTSTART;VALUE=DATE:20260302
DTEND;VALUE=DATE:20260303
DTSTAMP:20260423T142414
CREATED:20260219T222739Z
LAST-MODIFIED:20260302T221328Z
UID:9458-1772409600-1772495999@ocv.ca
SUMMARY:B1b Scafe Hill - Stewart Mtn from Westoby Road
DESCRIPTION:Meet at the end of Westoby Road. \nHike starts at 10:00. \nHike is 320m – 8.5 kms – 3-3.5 hrs. \nMust email Cathy G. if coming. \n 
URL:https://ocv.ca/event/b2b-scafe-hill-stewart-mtn-from-westoby-road/
CATEGORIES:B2b Hike
END:VEVENT
BEGIN:VEVENT
DTSTART;VALUE=DATE:20260228
DTEND;VALUE=DATE:20260301
DTSTAMP:20260423T142414
CREATED:20260122T224052Z
LAST-MODIFIED:20260122T224052Z
UID:9250-1772236800-1772323199@ocv.ca
SUMMARY:B2b John Dean Park
DESCRIPTION:Meet at the Halden Road/Thompson Place trailhead (8233 Thompson Pl.) \nHike starts at 9:00. \nHike is 500m – 10.2 kms – 3.5-4 hrs. \nMust email Liz B. if coming.
URL:https://ocv.ca/event/b2b-john-dean-park-22/
CATEGORIES:B2b Hike
END:VEVENT
BEGIN:VEVENT
DTSTART;VALUE=DATE:20260225
DTEND;VALUE=DATE:20260226
DTSTAMP:20260423T142414
CREATED:20260122T223849Z
LAST-MODIFIED:20260122T223849Z
UID:9248-1771977600-1772063999@ocv.ca
SUMMARY:B2b Matheson Lake - Cougar Ridge
DESCRIPTION:Meet at the Matheson Lake parking lot. \nHike starts at 10:00. \nHike is 300m – 10 kms – 3.5 hrs. \nMust email Helen V. if coming.
URL:https://ocv.ca/event/b2b-matheson-lake-cougar-ridge-7/
CATEGORIES:B2b Hike
END:VEVENT
BEGIN:VEVENT
DTSTART;VALUE=DATE:20260218
DTEND;VALUE=DATE:20260219
DTSTAMP:20260423T142414
CREATED:20260122T221603Z
LAST-MODIFIED:20260122T221603Z
UID:9220-1771372800-1771459199@ocv.ca
SUMMARY:B2b Mt. Braden - Plateau Peak - Castle Peak
DESCRIPTION:Meet at the Sooke Hills Wilderness parking lot on Sooke Road. \nHike starts at 9:30. \nHike is 450m – 11.5 kms – 4 hrs. \nMust email Anne O. if coming. \n**Nifty 50 peak(s)**
URL:https://ocv.ca/event/b2b-mt-braden-plateau-peak-castle-peak/
CATEGORIES:B2b Hike
END:VEVENT
BEGIN:VEVENT
DTSTART;VALUE=DATE:20260217
DTEND;VALUE=DATE:20260218
DTSTAMP:20260423T142414
CREATED:20260122T221310Z
LAST-MODIFIED:20260122T221310Z
UID:9216-1771286400-1771372799@ocv.ca
SUMMARY:B2b Gowland Todd
DESCRIPTION:Meet at the Mt. Work parking lot on Ross-Durrance Road. \nHike starts at 9:30. \nHike is 500m – 11 kms – 5 hrs. \nMust email Denise T. if coming.
URL:https://ocv.ca/event/b2b-gowland-todd/
CATEGORIES:B2b Hike
END:VEVENT
BEGIN:VEVENT
DTSTART;VALUE=DATE:20260214
DTEND;VALUE=DATE:20260215
DTSTAMP:20260423T142414
CREATED:20260122T220126Z
LAST-MODIFIED:20260122T220126Z
UID:9192-1771027200-1771113599@ocv.ca
SUMMARY:B2b Valentine's Day Hike - Mt. Work - Up Sidewinder - Down Westside
DESCRIPTION:Meet at the Mt. Work parking lot on Ross-Durrance Road. \nHike starts at 9:00. \nHike is 450m – 10.6 kms – 4.5 hrs. \nMust email Liz B. if coming.
URL:https://ocv.ca/event/b2b-valentines-day-hike-mt-work-up-sidewinder-down-westside/
CATEGORIES:B2b Hike
END:VEVENT
BEGIN:VEVENT
DTSTART;VALUE=DATE:20260213
DTEND;VALUE=DATE:20260214
DTSTAMP:20260423T142414
CREATED:20260122T220501Z
LAST-MODIFIED:20260122T220501Z
UID:9195-1770940800-1771027199@ocv.ca
SUMMARY:B2b East Sooke Park - Cabin Point via Babbington Hill
DESCRIPTION:Meet at 9:15 at the Aldean Road parking lot to carpool. \nHike starts at 10:00 from the Aylard Farm parking lot. \nHike returns along the Coastal Trail back to Aylard Farm. \nMust email David T. if coming.
URL:https://ocv.ca/event/b2b-east-sooke-park-cabin-point-via-babbington-hill/
CATEGORIES:B2b Hike
END:VEVENT
BEGIN:VEVENT
DTSTART;VALUE=DATE:20260211
DTEND;VALUE=DATE:20260212
DTSTAMP:20260423T142414
CREATED:20260122T215830Z
LAST-MODIFIED:20260122T215830Z
UID:9190-1770768000-1770854399@ocv.ca
SUMMARY:B2b John Dean Park
DESCRIPTION:Meet at the trailhead near the end of Alec Road. \nStart time to be determined. \nHike is 400 m – 10 kms- 3.5 hrs. \nParking is limited\, so carpooling is encouraged. \nMust email Jim N. if coming.
URL:https://ocv.ca/event/b2b-john-dean-park-21/
CATEGORIES:B2b Hike
END:VEVENT
BEGIN:VEVENT
DTSTART;VALUE=DATE:20260207
DTEND;VALUE=DATE:20260208
DTSTAMP:20260423T142414
CREATED:20260122T224638Z
LAST-MODIFIED:20260122T224638Z
UID:9253-1770422400-1770508799@ocv.ca
SUMMARY:B2b False Summit of Mt. Work
DESCRIPTION:Meet at the Mt. Work parking lot on Munn Road. \nHike starts at 9:00. \nHike is 400m – 10.5 kms – 3.5 hrs. \nMust email Cathy G. if coming.
URL:https://ocv.ca/event/b2b-false-summit-of-mt-work-8/
CATEGORIES:B2b Hike
END:VEVENT
BEGIN:VEVENT
DTSTART;VALUE=DATE:20260204
DTEND;VALUE=DATE:20260205
DTSTAMP:20260423T142414
CREATED:20260122T214939Z
LAST-MODIFIED:20260122T214939Z
UID:9184-1770163200-1770249599@ocv.ca
SUMMARY:B2b Jocelyn Hill from Ross-Durrance
DESCRIPTION:Meet at the Mt. Work parking lot on Ross-Durrance Road. \nStart time to be determined. \nHike is 450m – 11kms – 5 hrs. \nMust email Jim N. if coming.
URL:https://ocv.ca/event/b2b-jocelyn-hill-from-ross-durrance/
CATEGORIES:B2b Hike
END:VEVENT
BEGIN:VEVENT
DTSTART;VALUE=DATE:20260203
DTEND;VALUE=DATE:20260204
DTSTAMP:20260423T142414
CREATED:20260122T214732Z
LAST-MODIFIED:20260122T214732Z
UID:9182-1770076800-1770163199@ocv.ca
SUMMARY:B2b East Sooke - Babbington Hill
DESCRIPTION:Meet at the corner of Parkheights Drive & Leda Road. \nHike starts at 10:00. \nHike is 400m – 10 kms -4 hrs. \nMust email Denise T. if coming.
URL:https://ocv.ca/event/b2b-east-sooke-babbington-hill/
CATEGORIES:B2b Hike
END:VEVENT
BEGIN:VEVENT
DTSTART;VALUE=DATE:20260128
DTEND;VALUE=DATE:20260129
DTSTAMP:20260423T142414
CREATED:20251219T220150Z
LAST-MODIFIED:20251219T220150Z
UID:9115-1769558400-1769644799@ocv.ca
SUMMARY:B2b Martha's Mounds - False Summit - Laughing Trail
DESCRIPTION:Meet at the Mt. Work parking lot on Munn Road. \nHike starts at 10:00. \nHike is 350m – 10 kms – 4 hrs. \nMust email Helen V. if coming.
URL:https://ocv.ca/event/b2b-marthas-mounds-false-summit-laughing-trail/
CATEGORIES:B2b Hike
END:VEVENT
END:VCALENDAR