BEGIN:VCALENDAR
VERSION:2.0
PRODID:-//OCV.ca - ECPv6.15.13.1//NONSGML v1.0//EN
CALSCALE:GREGORIAN
METHOD:PUBLISH
X-ORIGINAL-URL:https://ocv.ca
X-WR-CALDESC:Events for OCV.ca
REFRESH-INTERVAL;VALUE=DURATION:PT1H
X-Robots-Tag:noindex
X-PUBLISHED-TTL:PT1H
BEGIN:VTIMEZONE
TZID:America/Vancouver
BEGIN:DAYLIGHT
TZOFFSETFROM:-0800
TZOFFSETTO:-0700
TZNAME:PDT
DTSTART:20250309T100000
END:DAYLIGHT
BEGIN:STANDARD
TZOFFSETFROM:-0700
TZOFFSETTO:-0800
TZNAME:PST
DTSTART:20251102T090000
END:STANDARD
BEGIN:DAYLIGHT
TZOFFSETFROM:-0800
TZOFFSETTO:-0700
TZNAME:PDT
DTSTART:20260308T100000
END:DAYLIGHT
BEGIN:STANDARD
TZOFFSETFROM:-0700
TZOFFSETTO:-0800
TZNAME:PST
DTSTART:20261101T090000
END:STANDARD
BEGIN:DAYLIGHT
TZOFFSETFROM:-0800
TZOFFSETTO:-0700
TZNAME:PDT
DTSTART:20270314T100000
END:DAYLIGHT
BEGIN:STANDARD
TZOFFSETFROM:-0700
TZOFFSETTO:-0800
TZNAME:PST
DTSTART:20271107T090000
END:STANDARD
END:VTIMEZONE
BEGIN:VEVENT
DTSTART;VALUE=DATE:20260519
DTEND;VALUE=DATE:20260520
DTSTAMP:20260423T124500
CREATED:20260420T170516Z
LAST-MODIFIED:20260420T170516Z
UID:9698-1779148800-1779235199@ocv.ca
SUMMARY:B2b Jocelyn Hill
DESCRIPTION:Meet at the Mt. Work parking lot on Ross-Durrance Road. \nStart time to be determined. \nHike is 540m – 12 kms- 5 hrs. \nMust email Denise T. if coming.
URL:https://ocv.ca/event/b2b-jocelyn-hill/
CATEGORIES:B2b Hike
END:VEVENT
BEGIN:VEVENT
DTSTART;VALUE=DATE:20260519
DTEND;VALUE=DATE:20260520
DTSTAMP:20260423T124500
CREATED:20260420T171156Z
LAST-MODIFIED:20260420T171156Z
UID:9703-1779148800-1779235199@ocv.ca
SUMMARY:B2b Cowichan River 'Wildflower Hike'
DESCRIPTION:Meet at the Skutz Falls trailhead at Riverbottom & Mayo Roads. \nHike starts at 10:00. \nHike is 400m – 14 kms. \nMust email Carol M. if coming.
URL:https://ocv.ca/event/b2b-cowichan-river-wildflower-hike/
CATEGORIES:B2b Hike
END:VEVENT
END:VCALENDAR