BEGIN:VCALENDAR
VERSION:2.0
PRODID:-//OCV.ca - ECPv6.15.13.1//NONSGML v1.0//EN
CALSCALE:GREGORIAN
METHOD:PUBLISH
X-ORIGINAL-URL:https://ocv.ca
X-WR-CALDESC:Events for OCV.ca
REFRESH-INTERVAL;VALUE=DURATION:PT1H
X-Robots-Tag:noindex
X-PUBLISHED-TTL:PT1H
BEGIN:VTIMEZONE
TZID:America/Vancouver
BEGIN:DAYLIGHT
TZOFFSETFROM:-0800
TZOFFSETTO:-0700
TZNAME:PDT
DTSTART:20250309T100000
END:DAYLIGHT
BEGIN:STANDARD
TZOFFSETFROM:-0700
TZOFFSETTO:-0800
TZNAME:PST
DTSTART:20251102T090000
END:STANDARD
BEGIN:DAYLIGHT
TZOFFSETFROM:-0800
TZOFFSETTO:-0700
TZNAME:PDT
DTSTART:20260308T100000
END:DAYLIGHT
BEGIN:STANDARD
TZOFFSETFROM:-0700
TZOFFSETTO:-0800
TZNAME:PST
DTSTART:20261101T090000
END:STANDARD
BEGIN:DAYLIGHT
TZOFFSETFROM:-0800
TZOFFSETTO:-0700
TZNAME:PDT
DTSTART:20270314T100000
END:DAYLIGHT
BEGIN:STANDARD
TZOFFSETFROM:-0700
TZOFFSETTO:-0800
TZNAME:PST
DTSTART:20271107T090000
END:STANDARD
END:VTIMEZONE
BEGIN:VEVENT
DTSTART;VALUE=DATE:20260512
DTEND;VALUE=DATE:20260513
DTSTAMP:20260423T130051
CREATED:20260420T164101Z
LAST-MODIFIED:20260420T164101Z
UID:9661-1778544000-1778630399@ocv.ca
SUMMARY:B2b Mt. Braden via Plateau Peak - 'Wildflower Hike'
DESCRIPTION:Meet at the Sooke Hills Wilderness parking lot on Sooke Rd. \nHike starts at 10:00. \nHike is 530m – 11 kms. \nMust email Carol M. if coming. \n**Nifty 50 peak(s)**
URL:https://ocv.ca/event/b2b-mt-braden-via-plateau-peak-wildflower-hike/
CATEGORIES:B2b Hike
END:VEVENT
BEGIN:VEVENT
DTSTART;VALUE=DATE:20260512
DTEND;VALUE=DATE:20260513
DTSTAMP:20260423T130051
CREATED:20260420T164329Z
LAST-MODIFIED:20260420T164329Z
UID:9667-1778544000-1778630399@ocv.ca
SUMMARY:B2b Mt. Tzouhalem - Daniel's Memorial Flower Hike
DESCRIPTION:Contact leader for start time and start location. \nHike includes Flower Reserve. \nHike is 12 kms – 4.5 hrs. \nMust email Mary H. if coming.
URL:https://ocv.ca/event/b2b-mt-tzouhalem-daniels-memorial-flower-hike/
CATEGORIES:B2b Hike
END:VEVENT
END:VCALENDAR