BEGIN:VCALENDAR
VERSION:2.0
PRODID:-//OCV.ca - ECPv6.15.13.1//NONSGML v1.0//EN
CALSCALE:GREGORIAN
METHOD:PUBLISH
X-ORIGINAL-URL:https://ocv.ca
X-WR-CALDESC:Events for OCV.ca
REFRESH-INTERVAL;VALUE=DURATION:PT1H
X-Robots-Tag:noindex
X-PUBLISHED-TTL:PT1H
BEGIN:VTIMEZONE
TZID:America/Vancouver
BEGIN:DAYLIGHT
TZOFFSETFROM:-0800
TZOFFSETTO:-0700
TZNAME:PDT
DTSTART:20230312T100000
END:DAYLIGHT
BEGIN:STANDARD
TZOFFSETFROM:-0700
TZOFFSETTO:-0800
TZNAME:PST
DTSTART:20231105T090000
END:STANDARD
BEGIN:DAYLIGHT
TZOFFSETFROM:-0800
TZOFFSETTO:-0700
TZNAME:PDT
DTSTART:20240310T100000
END:DAYLIGHT
BEGIN:STANDARD
TZOFFSETFROM:-0700
TZOFFSETTO:-0800
TZNAME:PST
DTSTART:20241103T090000
END:STANDARD
BEGIN:DAYLIGHT
TZOFFSETFROM:-0800
TZOFFSETTO:-0700
TZNAME:PDT
DTSTART:20250309T100000
END:DAYLIGHT
BEGIN:STANDARD
TZOFFSETFROM:-0700
TZOFFSETTO:-0800
TZNAME:PST
DTSTART:20251102T090000
END:STANDARD
BEGIN:DAYLIGHT
TZOFFSETFROM:-0800
TZOFFSETTO:-0700
TZNAME:PDT
DTSTART:20260308T100000
END:DAYLIGHT
BEGIN:STANDARD
TZOFFSETFROM:-0700
TZOFFSETTO:-0800
TZNAME:PST
DTSTART:20261101T090000
END:STANDARD
BEGIN:DAYLIGHT
TZOFFSETFROM:-0800
TZOFFSETTO:-0700
TZNAME:PDT
DTSTART:20270314T100000
END:DAYLIGHT
BEGIN:STANDARD
TZOFFSETFROM:-0700
TZOFFSETTO:-0800
TZNAME:PST
DTSTART:20271107T090000
END:STANDARD
END:VTIMEZONE
BEGIN:VEVENT
DTSTART;TZID=America/Vancouver:20260328T120000
DTEND;TZID=America/Vancouver:20260328T140000
DTSTAMP:20260421T183040
CREATED:20260219T223905Z
LAST-MODIFIED:20260219T223905Z
UID:9464-1774699200-1774706400@ocv.ca
SUMMARY:Annual General Meeting & Pizza Lunch
DESCRIPTION:Location: Scout House at 505 Marigold Road. \nTime: 12:00 – 2:00 \nLunch: Free Pizza \nAGM: Update on club activities\, voting on budget and executive positions. \n 
URL:https://ocv.ca/event/annual-general-meeting-pizza-lunch/
CATEGORIES:Annual General Meeting
END:VEVENT
BEGIN:VEVENT
DTSTART;TZID=America/Vancouver:20250315T114500
DTEND;TZID=America/Vancouver:20250315T140000
DTSTAMP:20260421T183040
CREATED:20250121T010527Z
LAST-MODIFIED:20250220T192501Z
UID:7688-1742039100-1742047200@ocv.ca
SUMMARY:Annual General Meeting
DESCRIPTION:Location: Scout House at 505 Marigold Road. \nTime: 11:45 – 2:00. \nPizza\, drinks and cake provided. \nAnnual General Meeting. \nPresentations: Olympic National Park Outing & Newfoundland’s East Coast Trail.
URL:https://ocv.ca/event/annual-general-meeting/
CATEGORIES:Annual General Meeting
END:VEVENT
BEGIN:VEVENT
DTSTART;TZID=America/Vancouver:20240323T140000
DTEND;TZID=America/Vancouver:20240323T160000
DTSTAMP:20260421T183040
CREATED:20240220T015938Z
LAST-MODIFIED:20240311T054657Z
UID:6684-1711202400-1711209600@ocv.ca
SUMMARY:OCV Annual General Meeting
DESCRIPTION:Time: 2:00 PM. \nLocation : Scout House at 505 Marigold Road\, Victoria. \nRefreshments served. \nWest Coast Trail Presentation.
URL:https://ocv.ca/event/ocv-annual-general-meeting-2/
CATEGORIES:Annual General Meeting
END:VEVENT
END:VCALENDAR