BEGIN:VCALENDAR
VERSION:2.0
PRODID:-//OCV.ca - ECPv6.15.13.1//NONSGML v1.0//EN
CALSCALE:GREGORIAN
METHOD:PUBLISH
X-WR-CALNAME:OCV.ca
X-ORIGINAL-URL:https://ocv.ca
X-WR-CALDESC:Events for OCV.ca
REFRESH-INTERVAL;VALUE=DURATION:PT1H
X-Robots-Tag:noindex
X-PUBLISHED-TTL:PT1H
BEGIN:VTIMEZONE
TZID:America/Vancouver
BEGIN:DAYLIGHT
TZOFFSETFROM:-0800
TZOFFSETTO:-0700
TZNAME:PDT
DTSTART:20230312T100000
END:DAYLIGHT
BEGIN:STANDARD
TZOFFSETFROM:-0700
TZOFFSETTO:-0800
TZNAME:PST
DTSTART:20231105T090000
END:STANDARD
BEGIN:DAYLIGHT
TZOFFSETFROM:-0800
TZOFFSETTO:-0700
TZNAME:PDT
DTSTART:20240310T100000
END:DAYLIGHT
BEGIN:STANDARD
TZOFFSETFROM:-0700
TZOFFSETTO:-0800
TZNAME:PST
DTSTART:20241103T090000
END:STANDARD
BEGIN:DAYLIGHT
TZOFFSETFROM:-0800
TZOFFSETTO:-0700
TZNAME:PDT
DTSTART:20250309T100000
END:DAYLIGHT
BEGIN:STANDARD
TZOFFSETFROM:-0700
TZOFFSETTO:-0800
TZNAME:PST
DTSTART:20251102T090000
END:STANDARD
END:VTIMEZONE
BEGIN:VEVENT
DTSTART;TZID=America/Vancouver:20240121T093000
DTEND;TZID=America/Vancouver:20240121T130000
DTSTAMP:20260422T083406
CREATED:20231217T015929Z
LAST-MODIFIED:20240120T013547Z
UID:6522-1705829400-1705842000@ocv.ca
SUMMARY:**UPDATE**Hike Cancelled**A2b North Thetis Trails
DESCRIPTION:This hike has been cancelled due to weather conditions.
URL:https://ocv.ca/event/a2b-north-thetis-trails/
CATEGORIES:A2b Hike
END:VEVENT
BEGIN:VEVENT
DTSTART;TZID=America/Vancouver:20240109T100000
DTEND;TZID=America/Vancouver:20240109T133000
DTSTAMP:20260422T083406
CREATED:20231217T011032Z
LAST-MODIFIED:20240111T012646Z
UID:6473-1704794400-1704807000@ocv.ca
SUMMARY:**UPDATE** HIKE Cancelled**A2b Tod Inlet / Oak Haven Park
DESCRIPTION:Hike cancelled due to high winds.
URL:https://ocv.ca/event/a2b-tod-inlet-oak-haven-park/
CATEGORIES:A2b Hike
END:VEVENT
END:VCALENDAR