BEGIN:VCALENDAR
VERSION:2.0
PRODID:-//OCV.ca - ECPv6.15.13.1//NONSGML v1.0//EN
CALSCALE:GREGORIAN
METHOD:PUBLISH
X-ORIGINAL-URL:https://ocv.ca
X-WR-CALDESC:Events for OCV.ca
REFRESH-INTERVAL;VALUE=DURATION:PT1H
X-Robots-Tag:noindex
X-PUBLISHED-TTL:PT1H
BEGIN:VTIMEZONE
TZID:America/Vancouver
BEGIN:DAYLIGHT
TZOFFSETFROM:-0800
TZOFFSETTO:-0700
TZNAME:PDT
DTSTART:20230312T100000
END:DAYLIGHT
BEGIN:STANDARD
TZOFFSETFROM:-0700
TZOFFSETTO:-0800
TZNAME:PST
DTSTART:20231105T090000
END:STANDARD
BEGIN:DAYLIGHT
TZOFFSETFROM:-0800
TZOFFSETTO:-0700
TZNAME:PDT
DTSTART:20240310T100000
END:DAYLIGHT
BEGIN:STANDARD
TZOFFSETFROM:-0700
TZOFFSETTO:-0800
TZNAME:PST
DTSTART:20241103T090000
END:STANDARD
BEGIN:DAYLIGHT
TZOFFSETFROM:-0800
TZOFFSETTO:-0700
TZNAME:PDT
DTSTART:20250309T100000
END:DAYLIGHT
BEGIN:STANDARD
TZOFFSETFROM:-0700
TZOFFSETTO:-0800
TZNAME:PST
DTSTART:20251102T090000
END:STANDARD
BEGIN:DAYLIGHT
TZOFFSETFROM:-0800
TZOFFSETTO:-0700
TZNAME:PDT
DTSTART:20260308T100000
END:DAYLIGHT
BEGIN:STANDARD
TZOFFSETFROM:-0700
TZOFFSETTO:-0800
TZNAME:PST
DTSTART:20261101T090000
END:STANDARD
END:VTIMEZONE
BEGIN:VEVENT
DTSTART;TZID=America/Vancouver:20251005T093000
DTEND;TZID=America/Vancouver:20251005T130000
DTSTAMP:20260422T032709
CREATED:20250924T042120Z
LAST-MODIFIED:20250924T042120Z
UID:8706-1759656600-1759669200@ocv.ca
SUMMARY:A2b Woodridge Loop
DESCRIPTION:Meet at the end of Woodridge Place. \nHike starts at 9:30. \nHike is 225m – 10kms -3-3.5 hrs. \nMust email Cathy G. if coming.
URL:https://ocv.ca/event/a2b-woodridge-loop-5/
CATEGORIES:A2b Hike
END:VEVENT
BEGIN:VEVENT
DTSTART;VALUE=DATE:20250929
DTEND;VALUE=DATE:20250930
DTSTAMP:20260422T032709
CREATED:20250909T232246Z
LAST-MODIFIED:20250909T232246Z
UID:8600-1759104000-1759190399@ocv.ca
SUMMARY:A2b Salt Spring Is.- Charles Hatfield Trail to Hilltop Loop (North part of Ruckle Park)
DESCRIPTION:  \nMeet at the Elk Lake Park and Ride at 7:30am to carpool. \nFerry leaves Swartz Bay at 8:35. Return ferry at 3:10. \nHike is 250m -10 kms – 4 hrs. \nMust email Chris D. if coming. \n 
URL:https://ocv.ca/event/a2b-salt-spring-is-charles-hatfield-trail-to-hilltop-loop-north-part-of-ruckle-park/
CATEGORIES:A2b Hike
END:VEVENT
BEGIN:VEVENT
DTSTART;TZID=America/Vancouver:20250810T090000
DTEND;TZID=America/Vancouver:20250810T123000
DTSTAMP:20260422T032709
CREATED:20250724T172117Z
LAST-MODIFIED:20250724T172117Z
UID:8498-1754816400-1754829000@ocv.ca
SUMMARY:A2b Woodridge Loop
DESCRIPTION:Meet at the end of Woodridge Place. \nHike starts at 9:00. \nHike is 223m -10.2 kms – 3-3.5 hrs. \nMust email Cathy G. if coming.
URL:https://ocv.ca/event/a2b-woodridge-loop-4/
CATEGORIES:A2b Hike
END:VEVENT
BEGIN:VEVENT
DTSTART;TZID=America/Vancouver:20250728T083000
DTEND;TZID=America/Vancouver:20250728T123000
DTSTAMP:20260422T032709
CREATED:20250621T220506Z
LAST-MODIFIED:20250621T220506Z
UID:8363-1753691400-1753705800@ocv.ca
SUMMARY:A2b North Thetis Trails
DESCRIPTION:Meet at the end of Westoby Road. \nHike starts at 8:30. \nHike is 250m – 10.5 kms – 3.5-4 hrs. \nMust email Cathy G. if coming.
URL:https://ocv.ca/event/a2b-north-thetis-trails-3/
CATEGORIES:A2b Hike
END:VEVENT
BEGIN:VEVENT
DTSTART;TZID=America/Vancouver:20250629T090000
DTEND;TZID=America/Vancouver:20250629T123000
DTSTAMP:20260422T032709
CREATED:20250523T032751Z
LAST-MODIFIED:20250523T032751Z
UID:8256-1751187600-1751200200@ocv.ca
SUMMARY:A2b Fun Trail Extended Version
DESCRIPTION:Meet at the end of Woodridge Place. \nHike starts at 9:00. \nHike is 240m – 11 kms – 3.5 hrs. \nMust email Cathy G. if coming.
URL:https://ocv.ca/event/a2b-fun-trail-extended-version/
CATEGORIES:A2b Hike
END:VEVENT
BEGIN:VEVENT
DTSTART;TZID=America/Vancouver:20250511T090000
DTEND;TZID=America/Vancouver:20250511T123000
DTSTAMP:20260422T032709
CREATED:20250421T170038Z
LAST-MODIFIED:20250421T170038Z
UID:8105-1746954000-1746966600@ocv.ca
SUMMARY:A2b Woodridge Loop
DESCRIPTION:Meet at the end of Woodridge Place. \nHike starts at 9:00. \nHike is 220m- 10 kms – 3-3.5 hrs. \nMust email Cathy G. if coming.
URL:https://ocv.ca/event/a2b-woodridge-loop-3/
CATEGORIES:A2b Hike
END:VEVENT
BEGIN:VEVENT
DTSTART;TZID=America/Vancouver:20250413T090000
DTEND;TZID=America/Vancouver:20250413T123000
DTSTAMP:20260422T032709
CREATED:20250321T034725Z
LAST-MODIFIED:20250321T034725Z
UID:8007-1744534800-1744547400@ocv.ca
SUMMARY:A2b Woodridge Loop
DESCRIPTION:meet at the end of Woodridge Place. \nHike starts at 9:00. \nHike is 223m -10.2 kms – 3-3.5 hrs. \nMust email Cathy G. if coming.
URL:https://ocv.ca/event/a2b-woodridge-loop-2/
CATEGORIES:A2b Hike
END:VEVENT
BEGIN:VEVENT
DTSTART;TZID=America/Vancouver:20250119T093000
DTEND;TZID=America/Vancouver:20250119T130000
DTSTAMP:20260422T032709
CREATED:20241225T012454Z
LAST-MODIFIED:20241225T012454Z
UID:7660-1737279000-1737291600@ocv.ca
SUMMARY:A2b Woodridge Loop
DESCRIPTION:Meet at the end of Woodridge Place. \nHike starts at 9:30. \nHike is 225m – 10 kms -3-3.5 hrs. \nMust email Cathy G. if coming.
URL:https://ocv.ca/event/a2b-woodridge-loop/
CATEGORIES:A2b Hike
END:VEVENT
BEGIN:VEVENT
DTSTART;TZID=America/Vancouver:20240811T083000
DTEND;TZID=America/Vancouver:20240811T123000
DTSTAMP:20260422T032709
CREATED:20240724T011642Z
LAST-MODIFIED:20240724T011642Z
UID:7190-1723365000-1723379400@ocv.ca
SUMMARY:A2b North Thetis Trails
DESCRIPTION:Meet at the end of Westoby Road. \nHike starts at 8:30. \nHike is 250m – 10.5 kms – 3.5-4 hrs. \nMust email Cathy G. if coming.
URL:https://ocv.ca/event/a2b-north-thetis-trails-2/
CATEGORIES:A2b Hike
END:VEVENT
BEGIN:VEVENT
DTSTART;TZID=America/Vancouver:20240620T090000
DTEND;TZID=America/Vancouver:20240620T130000
DTSTAMP:20260422T032709
CREATED:20240522T155114Z
LAST-MODIFIED:20240522T155114Z
UID:6977-1718874000-1718888400@ocv.ca
SUMMARY:A2b/c East Sooke Park to Cabin Point
DESCRIPTION:Meet at Aylard Farm parking lot. Hike is 250 m – 11.5 km – 4 hrs. Tricky cliff edges at a couple spots. Email Elizabeth S-J if coming.
URL:https://ocv.ca/event/a2b-c-east-sooke-park-to-cabin-point/
CATEGORIES:A2b Hike
END:VEVENT
BEGIN:VEVENT
DTSTART;TZID=America/Vancouver:20240309T093000
DTEND;TZID=America/Vancouver:20240309T130000
DTSTAMP:20260422T032709
CREATED:20240222T045255Z
LAST-MODIFIED:20240309T225305Z
UID:6763-1709976600-1709989200@ocv.ca
SUMMARY:A2b Fun Trail - the extended version
DESCRIPTION:Meet at the end of Woodridge Place. \nHike starts at 9:30. \nHike is 240m – 11.4 kms – 3.5 hrs. \nMust email Cathy G. if coming.
URL:https://ocv.ca/event/a2b-fun-trail-the-extended-version/
CATEGORIES:A2b Hike
END:VEVENT
BEGIN:VEVENT
DTSTART;TZID=America/Vancouver:20240301T100000
DTEND;TZID=America/Vancouver:20240301T133000
DTSTAMP:20260422T032709
CREATED:20240222T045847Z
LAST-MODIFIED:20240222T045847Z
UID:6765-1709287200-1709299800@ocv.ca
SUMMARY:A2b Horth Hill and Area
DESCRIPTION:Meet at the Horth Hill parking Lot on Tatlow Road. \nHike starts at 10:00. \nHike is 260m – 10 kms – 3.5 hrs. \nMust email Cathy G. if coming.
URL:https://ocv.ca/event/a2b-horth-hill-and-area-2/
CATEGORIES:A2b Hike
END:VEVENT
BEGIN:VEVENT
DTSTART;TZID=America/Vancouver:20240209T100000
DTEND;TZID=America/Vancouver:20240209T140000
DTSTAMP:20260422T032709
CREATED:20240122T020252Z
LAST-MODIFIED:20240122T020252Z
UID:6671-1707472800-1707487200@ocv.ca
SUMMARY:A2b Trails north of Thetis Lakes
DESCRIPTION:Meet at the end of Westoby Road. \nHike starts at 10:00. \nHike is 250m – 10.5 kms -3.5-4hrs. \nMust email Cathy G. if coming.
URL:https://ocv.ca/event/a2b-trails-north-of-thetis-lakes/
CATEGORIES:A2b Hike
END:VEVENT
BEGIN:VEVENT
DTSTART;TZID=America/Vancouver:20240206T100000
DTEND;TZID=America/Vancouver:20240206T133000
DTSTAMP:20260422T032709
CREATED:20240122T010642Z
LAST-MODIFIED:20240122T010642Z
UID:6608-1707213600-1707226200@ocv.ca
SUMMARY:A2b  Tod Inlet -Oak Haven Park
DESCRIPTION:Meet at the trailhead near 6537 Wallace Drive (Tod Inlet Trailhead on Google Maps). \nHike starts at 10:00. \nHike is 10kms – 230m  -3.5 hrs. \nMust email Denise T. if coming. \n 
URL:https://ocv.ca/event/a2b-tod-inlet-oak-haven-park-2/
CATEGORIES:A2b Hike
END:VEVENT
BEGIN:VEVENT
DTSTART;TZID=America/Vancouver:20240128T100000
DTEND;TZID=America/Vancouver:20240128T140000
DTSTAMP:20260422T032709
CREATED:20231217T020348Z
LAST-MODIFIED:20231227T035540Z
UID:6526-1706436000-1706450400@ocv.ca
SUMMARY:A1b Horth Hill and area
DESCRIPTION:Meet at the Horth Hill parking lot on Tatlow Road. \nHike starts at 10:00. \nHike is 260m – 9.9 kms- 3-3.5 hrs. \nMust email leader Cathy G. if coming.
URL:https://ocv.ca/event/a2b-horth-hill-and-area/
CATEGORIES:A2b Hike
END:VEVENT
BEGIN:VEVENT
DTSTART;TZID=America/Vancouver:20240121T093000
DTEND;TZID=America/Vancouver:20240121T130000
DTSTAMP:20260422T032709
CREATED:20231217T015929Z
LAST-MODIFIED:20240120T013547Z
UID:6522-1705829400-1705842000@ocv.ca
SUMMARY:**UPDATE**Hike Cancelled**A2b North Thetis Trails
DESCRIPTION:This hike has been cancelled due to weather conditions.
URL:https://ocv.ca/event/a2b-north-thetis-trails/
CATEGORIES:A2b Hike
END:VEVENT
BEGIN:VEVENT
DTSTART;TZID=America/Vancouver:20240109T100000
DTEND;TZID=America/Vancouver:20240109T133000
DTSTAMP:20260422T032709
CREATED:20231217T011032Z
LAST-MODIFIED:20240111T012646Z
UID:6473-1704794400-1704807000@ocv.ca
SUMMARY:**UPDATE** HIKE Cancelled**A2b Tod Inlet / Oak Haven Park
DESCRIPTION:Hike cancelled due to high winds.
URL:https://ocv.ca/event/a2b-tod-inlet-oak-haven-park/
CATEGORIES:A2b Hike
END:VEVENT
END:VCALENDAR