BEGIN:VCALENDAR
VERSION:2.0
PRODID:-//OCV.ca - ECPv6.15.13.1//NONSGML v1.0//EN
CALSCALE:GREGORIAN
METHOD:PUBLISH
X-ORIGINAL-URL:https://ocv.ca
X-WR-CALDESC:Events for OCV.ca
REFRESH-INTERVAL;VALUE=DURATION:PT1H
X-Robots-Tag:noindex
X-PUBLISHED-TTL:PT1H
BEGIN:VTIMEZONE
TZID:America/Vancouver
BEGIN:DAYLIGHT
TZOFFSETFROM:-0800
TZOFFSETTO:-0700
TZNAME:PDT
DTSTART:20250309T100000
END:DAYLIGHT
BEGIN:STANDARD
TZOFFSETFROM:-0700
TZOFFSETTO:-0800
TZNAME:PST
DTSTART:20251102T090000
END:STANDARD
BEGIN:DAYLIGHT
TZOFFSETFROM:-0800
TZOFFSETTO:-0700
TZNAME:PDT
DTSTART:20260308T100000
END:DAYLIGHT
BEGIN:STANDARD
TZOFFSETFROM:-0700
TZOFFSETTO:-0800
TZNAME:PST
DTSTART:20261101T090000
END:STANDARD
BEGIN:DAYLIGHT
TZOFFSETFROM:-0800
TZOFFSETTO:-0700
TZNAME:PDT
DTSTART:20270314T100000
END:DAYLIGHT
BEGIN:STANDARD
TZOFFSETFROM:-0700
TZOFFSETTO:-0800
TZNAME:PST
DTSTART:20271107T090000
END:STANDARD
END:VTIMEZONE
BEGIN:VEVENT
DTSTART;TZID=America/Vancouver:20260224T100000
DTEND;TZID=America/Vancouver:20260224T123000
DTSTAMP:20260422T012756
CREATED:20260122T221738Z
LAST-MODIFIED:20260122T221738Z
UID:9226-1771927200-1771936200@ocv.ca
SUMMARY:A1a Esquimalt Urban Marine Parks
DESCRIPTION:Meet at Spinnakers Pub\, 308 Catherine St. Urban walk is 116 m – 9.8 km – 2.5 hrs. Email leader Lyn A if coming
URL:https://ocv.ca/event/a1a-esquimalt-urban-marine-parks/
CATEGORIES:A2b Hike
END:VEVENT
END:VCALENDAR