BEGIN:VCALENDAR
VERSION:2.0
PRODID:-//OCV.ca - ECPv6.15.13.1//NONSGML v1.0//EN
CALSCALE:GREGORIAN
METHOD:PUBLISH
X-WR-CALNAME:OCV.ca
X-ORIGINAL-URL:https://ocv.ca
X-WR-CALDESC:Events for OCV.ca
REFRESH-INTERVAL;VALUE=DURATION:PT1H
X-Robots-Tag:noindex
X-PUBLISHED-TTL:PT1H
BEGIN:VTIMEZONE
TZID:America/Vancouver
BEGIN:DAYLIGHT
TZOFFSETFROM:-0800
TZOFFSETTO:-0700
TZNAME:PDT
DTSTART:20250309T100000
END:DAYLIGHT
BEGIN:STANDARD
TZOFFSETFROM:-0700
TZOFFSETTO:-0800
TZNAME:PST
DTSTART:20251102T090000
END:STANDARD
BEGIN:DAYLIGHT
TZOFFSETFROM:-0800
TZOFFSETTO:-0700
TZNAME:PDT
DTSTART:20260308T100000
END:DAYLIGHT
BEGIN:STANDARD
TZOFFSETFROM:-0700
TZOFFSETTO:-0800
TZNAME:PST
DTSTART:20261101T090000
END:STANDARD
BEGIN:DAYLIGHT
TZOFFSETFROM:-0800
TZOFFSETTO:-0700
TZNAME:PDT
DTSTART:20270314T100000
END:DAYLIGHT
BEGIN:STANDARD
TZOFFSETFROM:-0700
TZOFFSETTO:-0800
TZNAME:PST
DTSTART:20271107T090000
END:STANDARD
END:VTIMEZONE
BEGIN:VEVENT
DTSTART;TZID=America/Vancouver:20260413T100000
DTEND;TZID=America/Vancouver:20260413T133000
DTSTAMP:20260425T091341
CREATED:20260320T211126Z
LAST-MODIFIED:20260320T211126Z
UID:9578-1776074400-1776087000@ocv.ca
SUMMARY:A/B1b Jocelyn Hill - Gowlland Tod Park
DESCRIPTION:Meet at TH on Millstream Road just past Emma Dixon Rd. Hike is 290 m – 7 km – 3.5 hrs. Slow pace. Emma Dixon Trail\, Tai Chi\, Ridge Trail\, Jocelyn Hill. \nSome steep\, rocky sections. Email leader Shirley T if coming.
URL:https://ocv.ca/event/a-b1b-jocelyn-hill-gowlland-tod-park-2/
CATEGORIES:A1b Hike
END:VEVENT
BEGIN:VEVENT
DTSTART;TZID=America/Vancouver:20260415T090000
DTEND;TZID=America/Vancouver:20260415T123000
DTSTAMP:20260425T091341
CREATED:20260320T211229Z
LAST-MODIFIED:20260320T211229Z
UID:9582-1776243600-1776256200@ocv.ca
SUMMARY:A/B2b John Dean Park
DESCRIPTION:Meet at TH at Cresswell Rd. Hike is 290 m – 10 km – 3.5 hrs. Moderate pace. Email leader Lorraine L if coming.
URL:https://ocv.ca/event/a-b2b-john-dean-park/
CATEGORIES:A1b Hike
END:VEVENT
BEGIN:VEVENT
DTSTART;TZID=America/Vancouver:20260417T090000
DTEND;TZID=America/Vancouver:20260417T113000
DTSTAMP:20260425T091341
CREATED:20260320T211348Z
LAST-MODIFIED:20260320T211348Z
UID:9584-1776416400-1776425400@ocv.ca
SUMMARY:A1b Francis King
DESCRIPTION:Meet at Munn Rd parking lot. Hike is 220 m – 7.5 km – 2.5 hrs. Moderate pace. Email leader Lorraine L if coming.
URL:https://ocv.ca/event/a1b-francis-king-9/
CATEGORIES:A1b Hike
END:VEVENT
BEGIN:VEVENT
DTSTART;TZID=America/Vancouver:20260418T100000
DTEND;TZID=America/Vancouver:20260418T123000
DTSTAMP:20260425T091341
CREATED:20260320T211457Z
LAST-MODIFIED:20260320T211457Z
UID:9587-1776506400-1776515400@ocv.ca
SUMMARY:A1b Christmas Hill and Swan Lake
DESCRIPTION:Meet at Beckwith Park. Hike is 120 m – 8 km – 2.5 hrs. Email leader Paula M if coming.
URL:https://ocv.ca/event/a1b-christmas-hill-and-swan-lake/
CATEGORIES:A1b Hike
END:VEVENT
BEGIN:VEVENT
DTSTART;TZID=America/Vancouver:20260419T090000
DTEND;TZID=America/Vancouver:20260419T120000
DTSTAMP:20260425T091341
CREATED:20260320T211602Z
LAST-MODIFIED:20260320T211602Z
UID:9590-1776589200-1776600000@ocv.ca
SUMMARY:A1b Killarney Lake – Mt Work
DESCRIPTION:Meet at end of Woodridge Place. Hike is 260 m – 9 km – 3 hrs. Moderate pace. Email leader Lorraine L if coming.
URL:https://ocv.ca/event/a1b-killarney-lake-mt-work-17/
CATEGORIES:A1b Hike
END:VEVENT
BEGIN:VEVENT
DTSTART;TZID=America/Vancouver:20260420T100000
DTEND;TZID=America/Vancouver:20260420T123000
DTSTAMP:20260425T091341
CREATED:20260320T211657Z
LAST-MODIFIED:20260320T211657Z
UID:9592-1776679200-1776688200@ocv.ca
SUMMARY:A1b Mill Hill **Flower Hike**
DESCRIPTION:Meet at Mill Hill parking lot off Atkins Rd. Hike is 210 m – 5 km – 2.5 hrs. E-mail leader Wendy E if coming.
URL:https://ocv.ca/event/a1b-mill-hill-flower-hike/
CATEGORIES:A1b Hike
END:VEVENT
BEGIN:VEVENT
DTSTART;TZID=America/Vancouver:20260422T083000
DTEND;TZID=America/Vancouver:20260422T103000
DTSTAMP:20260425T091341
CREATED:20260320T211925Z
LAST-MODIFIED:20260320T211925Z
UID:9596-1776846600-1776853800@ocv.ca
SUMMARY:A1b NW Francis King Park
DESCRIPTION:Meet at Francis King parking lot. Hike is 80 m – 5 km – 2 hrs. Slow pace. Email leader Ken M if coming.
URL:https://ocv.ca/event/a1b-nw-francis-king-park-32/
CATEGORIES:A1b Hike
END:VEVENT
BEGIN:VEVENT
DTSTART;TZID=America/Vancouver:20260423T100000
DTEND;TZID=America/Vancouver:20260423T123000
DTSTAMP:20260425T091341
CREATED:20260320T212023Z
LAST-MODIFIED:20260320T213122Z
UID:9600-1776938400-1776947400@ocv.ca
SUMMARY:A1b Mystic Vale\, Finnerty Gdns\, Mt Tolmie **Flower hike**
DESCRIPTION:Meet at Gyro Park. Hike is 180 m – 9 km – 2.5 hrs. Email leader Jan M if coming.
URL:https://ocv.ca/event/a1b-mystic-vale-finnerty-gdns-mt-tolmieflower-hike/
CATEGORIES:A1b Hike
END:VEVENT
BEGIN:VEVENT
DTSTART;TZID=America/Vancouver:20260424T090000
DTEND;TZID=America/Vancouver:20260424T120000
DTSTAMP:20260425T091341
CREATED:20260320T212123Z
LAST-MODIFIED:20260320T212123Z
UID:9602-1777021200-1777032000@ocv.ca
SUMMARY:A1b John Dean Park
DESCRIPTION:Meet at TH at Cresswell Rd. Hike is 260 m – 9 km – 3 hrs. Moderate pace. Email leader Lorraine L if coming.
URL:https://ocv.ca/event/a1b-john-dean-park-8/
CATEGORIES:A1b Hike
END:VEVENT
BEGIN:VEVENT
DTSTART;TZID=America/Vancouver:20260429T100000
DTEND;TZID=America/Vancouver:20260429T130000
DTSTAMP:20260425T091341
CREATED:20260320T212506Z
LAST-MODIFIED:20260320T212506Z
UID:9611-1777456800-1777467600@ocv.ca
SUMMARY:A1b PKOLS / Mt Doug
DESCRIPTION:Meet at Mt. Doug beach/washroom parking lot. Hike is 260 m – 3 hrs. Slow pace.  Includes summit. Email leader Shirley T if coming.
URL:https://ocv.ca/event/a1b-pkols-mt-doug-10/
CATEGORIES:A1b Hike
END:VEVENT
BEGIN:VEVENT
DTSTART;TZID=America/Vancouver:20260430T100000
DTEND;TZID=America/Vancouver:20260430T123000
DTSTAMP:20260425T091341
CREATED:20260320T212622Z
LAST-MODIFIED:20260320T212622Z
UID:9614-1777543200-1777552200@ocv.ca
SUMMARY:A1b Tod Inlet\, Oak Haven Park\, Gore Park**Flower hike**
DESCRIPTION:Meet at Tod Inlet TH on Wallace Drive. Hike is 120 m – 7 km – 2.5 hrs. Email leader Jan M if coming.
URL:https://ocv.ca/event/a1b-tod-inlet-oak-haven-park-gore-parkflower-hike/
CATEGORIES:A1b Hike
END:VEVENT
BEGIN:VEVENT
DTSTART;TZID=America/Vancouver:20260501T090000
DTEND;TZID=America/Vancouver:20260501T113000
DTSTAMP:20260425T091341
CREATED:20260420T163051Z
LAST-MODIFIED:20260420T163051Z
UID:9641-1777626000-1777635000@ocv.ca
SUMMARY:A1b PKOLS / Mt Doug
DESCRIPTION:Meet at parking lot near washrooms. Hike is 180 m – 7 km – 2.5 hrs. Email leader Lorraine L if coming.
URL:https://ocv.ca/event/a1b-pkols-mt-doug-11/
CATEGORIES:A1b Hike
END:VEVENT
BEGIN:VEVENT
DTSTART;TZID=America/Vancouver:20260504T100000
DTEND;TZID=America/Vancouver:20260504T123000
DTSTAMP:20260425T091341
CREATED:20260420T163219Z
LAST-MODIFIED:20260420T220441Z
UID:9645-1777888800-1777897800@ocv.ca
SUMMARY:A1b Mt Doug
DESCRIPTION:Meet at parking lot near washrooms. Hike is 2.5 hrs. Email leader Wendy E if coming.
URL:https://ocv.ca/event/a1b-wittys-lagoon-8/
CATEGORIES:A1b Hike
END:VEVENT
BEGIN:VEVENT
DTSTART;TZID=America/Vancouver:20260506T083000
DTEND;TZID=America/Vancouver:20260506T103000
DTSTAMP:20260425T091341
CREATED:20260420T163328Z
LAST-MODIFIED:20260420T163328Z
UID:9649-1778056200-1778063400@ocv.ca
SUMMARY:A1b Killarney Lake – Mt Work
DESCRIPTION:Meet at Hartland Rd parking lot used by mountain bikers. Hike is 100 m – 5 km – 2 hrs. Slow pace. Email leader Ken M if coming.
URL:https://ocv.ca/event/a1b-killarney-lake-mt-work-18/
CATEGORIES:A1b Hike
END:VEVENT
BEGIN:VEVENT
DTSTART;TZID=America/Vancouver:20260508T090000
DTEND;TZID=America/Vancouver:20260508T120000
DTSTAMP:20260425T091341
CREATED:20260420T163521Z
LAST-MODIFIED:20260420T163521Z
UID:9651-1778230800-1778241600@ocv.ca
SUMMARY:A1b John Dean Park
DESCRIPTION:Meet at TH at Cresswell Rd. Hike is 260 m – 9.5 km – 3 hrs. Moderate pace. Email leader Lorraine L if coming.
URL:https://ocv.ca/event/a1b-john-dean-park-9/
CATEGORIES:A1b Hike
END:VEVENT
BEGIN:VEVENT
DTSTART;TZID=America/Vancouver:20260509T093000
DTEND;TZID=America/Vancouver:20260509T123000
DTSTAMP:20260425T091341
CREATED:20260420T163640Z
LAST-MODIFIED:20260420T163640Z
UID:9654-1778319000-1778329800@ocv.ca
SUMMARY:A1b Scafe Hill
DESCRIPTION:TH Bellamy Rd. Hike is 200 m – 9 km – 3 hrs. Email leader Paula M if coming.
URL:https://ocv.ca/event/a1b-scafe-hill/
CATEGORIES:A1b Hike
END:VEVENT
BEGIN:VEVENT
DTSTART;TZID=America/Vancouver:20260511T100000
DTEND;TZID=America/Vancouver:20260511T133000
DTSTAMP:20260425T091341
CREATED:20260420T163758Z
LAST-MODIFIED:20260420T163758Z
UID:9657-1778493600-1778506200@ocv.ca
SUMMARY:A/B1b Martha's Mounds - Mt Work Park
DESCRIPTION:Meet at Mt. Work Munn Rd parking lot. Hike is 290 m – 6.5 km – 3.5 hrs. Slow pace. \nEmail leader Shirley T if coming.
URL:https://ocv.ca/event/a-b1b-marthas-mounds-mt-work-park-2/
CATEGORIES:A1b Hike
END:VEVENT
BEGIN:VEVENT
DTSTART;TZID=America/Vancouver:20260512T090000
DTEND;TZID=America/Vancouver:20260512T120000
DTSTAMP:20260425T091341
CREATED:20260420T163857Z
LAST-MODIFIED:20260420T163857Z
UID:9660-1778576400-1778587200@ocv.ca
SUMMARY:A1b Stewart Mt – N Thetis Park
DESCRIPTION:Meet at Mt Work Munn Rd parking lot. Hike is 280 m – 9 km – 3 hrs. Email leader Lorraine L if coming.
URL:https://ocv.ca/event/a1b-stewart-mt-n-thetis-park-14/
CATEGORIES:A1b Hike
END:VEVENT
BEGIN:VEVENT
DTSTART;TZID=America/Vancouver:20260513T100000
DTEND;TZID=America/Vancouver:20260513T130000
DTSTAMP:20260425T091341
CREATED:20260420T164004Z
LAST-MODIFIED:20260420T164004Z
UID:9663-1778666400-1778677200@ocv.ca
SUMMARY:A1b Swan Lake & Xmas Hill
DESCRIPTION:Meet at Beckwith Park. Hike is 170 m – 9 km – 3 hrs. Email leader Jan M if coming.
URL:https://ocv.ca/event/a1b-swan-lake-xmas-hill-3/
CATEGORIES:A1b Hike
END:VEVENT
BEGIN:VEVENT
DTSTART;TZID=America/Vancouver:20260514T100000
DTEND;TZID=America/Vancouver:20260514T130000
DTSTAMP:20260425T091341
CREATED:20260420T164120Z
LAST-MODIFIED:20260420T165724Z
UID:9665-1778752800-1778763600@ocv.ca
SUMMARY:A1b Ruckle Park - Salt Spring Island
DESCRIPTION:Hikers will take the 9:00am ferry to Salt Spring Island. \nReturn on the 1:50pm ferry. Hike is 200 m – 8 km – 3 hrs. Email leader Lorraine L if coming.
URL:https://ocv.ca/event/a1b-ruckle-park-salt-spring-island-2/
CATEGORIES:A1b Hike
END:VEVENT
BEGIN:VEVENT
DTSTART;TZID=America/Vancouver:20260516T090000
DTEND;TZID=America/Vancouver:20260516T113000
DTSTAMP:20260425T091341
CREATED:20260420T164851Z
LAST-MODIFIED:20260420T164851Z
UID:9671-1778922000-1778931000@ocv.ca
SUMMARY:A1b Francis King
DESCRIPTION:Meet at Munn Rd parking lot. Hike is 180 m – 7.5 km – 2.5 hrs. Moderate pace. Email leader Lorraine L if coming.
URL:https://ocv.ca/event/a1b-francis-king-10/
CATEGORIES:A1b Hike
END:VEVENT
BEGIN:VEVENT
DTSTART;TZID=America/Vancouver:20260518T090000
DTEND;TZID=America/Vancouver:20260518T113000
DTSTAMP:20260425T091341
CREATED:20260420T165001Z
LAST-MODIFIED:20260420T165001Z
UID:9677-1779094800-1779103800@ocv.ca
SUMMARY:A1b Bear Hill
DESCRIPTION:Meet at Hamsterly Beach Parking lot. Hike is 170 m – 7 km – 2.5 hrs. Email leader Diana D if coming.
URL:https://ocv.ca/event/a1b-bear-hill-3/
CATEGORIES:A1b Hike
END:VEVENT
BEGIN:VEVENT
DTSTART;TZID=America/Vancouver:20260520T083000
DTEND;TZID=America/Vancouver:20260520T103000
DTSTAMP:20260425T091341
CREATED:20260420T165107Z
LAST-MODIFIED:20260420T165107Z
UID:9679-1779265800-1779273000@ocv.ca
SUMMARY:A1b NW Francis King Park
DESCRIPTION:Meet at Francis King parking lot. Hike is 100 m – 5 km – 2 hrs. Slow pace. Email leader Ken M if coming.
URL:https://ocv.ca/event/a1b-nw-francis-king-park-33/
CATEGORIES:A1b Hike
END:VEVENT
BEGIN:VEVENT
DTSTART;TZID=America/Vancouver:20260522T090000
DTEND;TZID=America/Vancouver:20260522T120000
DTSTAMP:20260425T091341
CREATED:20260420T165227Z
LAST-MODIFIED:20260420T165227Z
UID:9682-1779440400-1779451200@ocv.ca
SUMMARY:A1b Killarney Lake – Mt Work
DESCRIPTION:Meet at end of Woodridge Place. Hike is 260 m – 9 km – 3 hrs. Moderate pace. Email leader Lorraine L if coming.
URL:https://ocv.ca/event/a1b-killarney-lake-mt-work-19/
CATEGORIES:A1b Hike
END:VEVENT
BEGIN:VEVENT
DTSTART;TZID=America/Vancouver:20260523T090000
DTEND;TZID=America/Vancouver:20260523T123000
DTSTAMP:20260425T091341
CREATED:20260420T181156Z
LAST-MODIFIED:20260420T181156Z
UID:9726-1779526800-1779539400@ocv.ca
SUMMARY:A1b North Thetis Trails
DESCRIPTION:Meet at the end of Westoby Road. \nHike starts at 9:00. \nHike is 250m – 9.9 kms – 3.5 hrs. \nMust email Cathy G. if coming.
URL:https://ocv.ca/event/a1b-north-thetis-trails-2/
CATEGORIES:A1b Hike
END:VEVENT
BEGIN:VEVENT
DTSTART;VALUE=DATE:20260525
DTEND;VALUE=DATE:20260526
DTSTAMP:20260425T091341
CREATED:20260420T174127Z
LAST-MODIFIED:20260420T174127Z
UID:9720-1779667200-1779753599@ocv.ca
SUMMARY:A1b Galiano Island - Bodega Ridge
DESCRIPTION:Hikers will take the 10:10 ferry from Swartz Bay – return at 7:47. \nHike is 270m – 9 kms – 3.5 hrs. \nMust email Chris D. if coming.
URL:https://ocv.ca/event/a1b-galiano-island-bodega-ridge-2/
CATEGORIES:A1b Hike
END:VEVENT
BEGIN:VEVENT
DTSTART;TZID=America/Vancouver:20260527T100000
DTEND;TZID=America/Vancouver:20260527T130000
DTSTAMP:20260425T091341
CREATED:20260420T165600Z
LAST-MODIFIED:20260420T165600Z
UID:9688-1779876000-1779886800@ocv.ca
SUMMARY:A1b Goldstream Park Loop
DESCRIPTION:Meet by Goldstream Campground sign across from the Gate House. Hike is 260 m – 7 km – 3 hrs. Goldstream Falls & Hidden Springs. Email leader Diana D if coming.
URL:https://ocv.ca/event/a1b-goldstream-park-loop-2/
CATEGORIES:A1b Hike
END:VEVENT
BEGIN:VEVENT
DTSTART;TZID=America/Vancouver:20260528T100000
DTEND;TZID=America/Vancouver:20260528T133000
DTSTAMP:20260425T091341
CREATED:20260420T170234Z
LAST-MODIFIED:20260420T170234Z
UID:9694-1779962400-1779975000@ocv.ca
SUMMARY:A/B1b Jocelyn Hill - Gowlland Tod Park
DESCRIPTION:Meet at TH on Millstream Road just past Emma Dixon Rd. Hike is 290 m – 7 km – 3.5 hrs. Slow pace. Emma Dixon Trail\, Tai Chi\, Ridge Trail\, Jocelyn Hill. \nSome steep\, rocky sections. Email leader Shirley T if coming.
URL:https://ocv.ca/event/a-b1b-jocelyn-hill-gowlland-tod-park-3/
CATEGORIES:A1b Hike
END:VEVENT
BEGIN:VEVENT
DTSTART;TZID=America/Vancouver:20260529T100000
DTEND;TZID=America/Vancouver:20260529T120000
DTSTAMP:20260425T091341
CREATED:20260420T170329Z
LAST-MODIFIED:20260420T170329Z
UID:9697-1780048800-1780056000@ocv.ca
SUMMARY:A1b N Saanich Neighbourhood Trails
DESCRIPTION:Meet at Coles Bay Regional Park. Hike is 120 m – 7 km – 2 hrs. Email leader Jan M if coming.
URL:https://ocv.ca/event/a1b-n-saanich-neighbourhood-trails-9/
CATEGORIES:A1b Hike
END:VEVENT
END:VCALENDAR