BEGIN:VCALENDAR
VERSION:2.0
PRODID:-//OCV.ca - ECPv6.15.13.1//NONSGML v1.0//EN
CALSCALE:GREGORIAN
METHOD:PUBLISH
X-WR-CALNAME:OCV.ca
X-ORIGINAL-URL:https://ocv.ca
X-WR-CALDESC:Events for OCV.ca
REFRESH-INTERVAL;VALUE=DURATION:PT1H
X-Robots-Tag:noindex
X-PUBLISHED-TTL:PT1H
BEGIN:VTIMEZONE
TZID:America/Vancouver
BEGIN:DAYLIGHT
TZOFFSETFROM:-0800
TZOFFSETTO:-0700
TZNAME:PDT
DTSTART:20250309T100000
END:DAYLIGHT
BEGIN:STANDARD
TZOFFSETFROM:-0700
TZOFFSETTO:-0800
TZNAME:PST
DTSTART:20251102T090000
END:STANDARD
BEGIN:DAYLIGHT
TZOFFSETFROM:-0800
TZOFFSETTO:-0700
TZNAME:PDT
DTSTART:20260308T100000
END:DAYLIGHT
BEGIN:STANDARD
TZOFFSETFROM:-0700
TZOFFSETTO:-0800
TZNAME:PST
DTSTART:20261101T090000
END:STANDARD
BEGIN:DAYLIGHT
TZOFFSETFROM:-0800
TZOFFSETTO:-0700
TZNAME:PDT
DTSTART:20270314T100000
END:DAYLIGHT
BEGIN:STANDARD
TZOFFSETFROM:-0700
TZOFFSETTO:-0800
TZNAME:PST
DTSTART:20271107T090000
END:STANDARD
END:VTIMEZONE
BEGIN:VEVENT
DTSTART;TZID=America/Vancouver:20260202T090000
DTEND;TZID=America/Vancouver:20260202T120000
DTSTAMP:20260424T031729
CREATED:20260122T220254Z
LAST-MODIFIED:20260122T220254Z
UID:9196-1770022800-1770033600@ocv.ca
SUMMARY:A1b Stewart Mt – N Thetis Park
DESCRIPTION:Meet at Mt Work Munn Rd parking lot. Hike is 280 m – 9 km – 3 hrs. Moderate pace. Email leader Lorraine L if coming.
URL:https://ocv.ca/event/a1b-stewart-mt-n-thetis-park-11/
CATEGORIES:A1b Hike
END:VEVENT
BEGIN:VEVENT
DTSTART;TZID=America/Vancouver:20260203T093000
DTEND;TZID=America/Vancouver:20260203T120000
DTSTAMP:20260424T031729
CREATED:20260122T220358Z
LAST-MODIFIED:20260122T220358Z
UID:9198-1770111000-1770120000@ocv.ca
SUMMARY:A1b Royal Roads
DESCRIPTION:Hike is 180 m – 8.5 km – 2.5 hrs.  Email leader Lyn A if coming.
URL:https://ocv.ca/event/a1b-royal-roads-4/
CATEGORIES:A1b Hike
END:VEVENT
BEGIN:VEVENT
DTSTART;TZID=America/Vancouver:20260204T100000
DTEND;TZID=America/Vancouver:20260204T120000
DTSTAMP:20260424T031729
CREATED:20260122T220511Z
LAST-MODIFIED:20260122T220511Z
UID:9200-1770199200-1770206400@ocv.ca
SUMMARY:A1b McKenzie Bight Loop - Gowlland Tod Park
DESCRIPTION:Meet at Mt. Work parking lot on Ross-Durrance Rd. Hike is 200 m – 5.5 km – 2 hrs – slow pace. Cascade Falls along the route\, steep section. Email leader Shirley T if coming.
URL:https://ocv.ca/event/a1b-mckenzie-bight-loop-gowlland-tod-park/
CATEGORIES:A1b Hike
END:VEVENT
BEGIN:VEVENT
DTSTART;TZID=America/Vancouver:20260206T100000
DTEND;TZID=America/Vancouver:20260206T123000
DTSTAMP:20260424T031729
CREATED:20260122T220620Z
LAST-MODIFIED:20260122T220620Z
UID:9203-1770372000-1770381000@ocv.ca
SUMMARY:A1b Tod Inlet area
DESCRIPTION:Hike is 200 m – 7 km – 2.5 hrs. Email leader Jan M if coming.
URL:https://ocv.ca/event/a1b-tod-inlet-area/
CATEGORIES:A1b Hike
END:VEVENT
BEGIN:VEVENT
DTSTART;TZID=America/Vancouver:20260210T100000
DTEND;TZID=America/Vancouver:20260210T130000
DTSTAMP:20260424T031729
CREATED:20260122T220730Z
LAST-MODIFIED:20260122T220730Z
UID:9206-1770717600-1770728400@ocv.ca
SUMMARY:A1b Royal Roads
DESCRIPTION:Hike is 100 m – 3 hrs. Email leader Wendy E if coming.
URL:https://ocv.ca/event/a1b-royal-roads-5/
CATEGORIES:A1b Hike
END:VEVENT
BEGIN:VEVENT
DTSTART;TZID=America/Vancouver:20260211T083000
DTEND;TZID=America/Vancouver:20260211T103000
DTSTAMP:20260424T031729
CREATED:20260122T220843Z
LAST-MODIFIED:20260122T220843Z
UID:9208-1770798600-1770805800@ocv.ca
SUMMARY:A1b Killarney Lake – Mt Work
DESCRIPTION:Meet at Hartland Rd parking lot used by mountain bikers. Hike is 100 m – 5 km – 2 hrs. Slow pace. Email leader Ken M if coming.
URL:https://ocv.ca/event/a1b-killarney-lake-mt-work-12/
CATEGORIES:A1b Hike
END:VEVENT
BEGIN:VEVENT
DTSTART;TZID=America/Vancouver:20260213T090000
DTEND;TZID=America/Vancouver:20260213T120000
DTSTAMP:20260424T031729
CREATED:20260122T220936Z
LAST-MODIFIED:20260122T220936Z
UID:9210-1770973200-1770984000@ocv.ca
SUMMARY:A1b John Dean Park
DESCRIPTION:Meet at TH at Cresswell Rd. Hike is 280 m – 9.5 km – 3 hrs. Moderate pace. Email leader Lorraine L if coming.
URL:https://ocv.ca/event/a1b-john-dean-park-7/
CATEGORIES:A1b Hike
END:VEVENT
BEGIN:VEVENT
DTSTART;TZID=America/Vancouver:20260216T093000
DTEND;TZID=America/Vancouver:20260216T123000
DTSTAMP:20260424T031729
CREATED:20260122T221116Z
LAST-MODIFIED:20260122T221116Z
UID:9212-1771234200-1771245000@ocv.ca
SUMMARY:A1b Broadmead Loop
DESCRIPTION:Meet at Dalewood Lane off Chatterton Way. Around Rithet’s Bog to summit Boulderwood Park. Hike is 200 m – 7 km – 3 hrs – slow pace. \nEmail leader Shirley T if coming.
URL:https://ocv.ca/event/a1b-broadmead-loop/
CATEGORIES:A1b Hike
END:VEVENT
BEGIN:VEVENT
DTSTART;TZID=America/Vancouver:20260218T090000
DTEND;TZID=America/Vancouver:20260218T113000
DTSTAMP:20260424T031729
CREATED:20260122T221319Z
LAST-MODIFIED:20260122T221319Z
UID:9218-1771405200-1771414200@ocv.ca
SUMMARY:A1b Francis King
DESCRIPTION:Meet at Munn Rd parking lot. Hike is 220 m – 7.5 km – 2.5 hrs. Moderate pace. Email leader Lorraine L if coming.
URL:https://ocv.ca/event/a1b-francis-king-6/
CATEGORIES:A1b Hike
END:VEVENT
BEGIN:VEVENT
DTSTART;TZID=America/Vancouver:20260220T090000
DTEND;TZID=America/Vancouver:20260220T113000
DTSTAMP:20260424T031729
CREATED:20260122T221425Z
LAST-MODIFIED:20260122T221425Z
UID:9222-1771578000-1771587000@ocv.ca
SUMMARY:A1b PKOLS / Mt Doug
DESCRIPTION:Meet at parking lot near washrooms. Hike is 220 m – 7 km – 2.5 hrs. Email leader Lorraine L if coming.
URL:https://ocv.ca/event/a1b-pkols-mt-doug-6/
CATEGORIES:A1b Hike
END:VEVENT
BEGIN:VEVENT
DTSTART;TZID=America/Vancouver:20260222T093000
DTEND;TZID=America/Vancouver:20260222T130000
DTSTAMP:20260424T031729
CREATED:20260122T224922Z
LAST-MODIFIED:20260122T224922Z
UID:9255-1771752600-1771765200@ocv.ca
SUMMARY:A1b Horth Hill and Area
DESCRIPTION:Meet at the Horth Hill parking lot on Tatlow Road. \nHike starts at 9:30. \nHike is 260m – 9.8 kms – 3-3.5 hrs. \nMust email Cathy G. if coming.
URL:https://ocv.ca/event/a1b-horth-hill-and-area-4/
CATEGORIES:A1b Hike
END:VEVENT
BEGIN:VEVENT
DTSTART;TZID=America/Vancouver:20260223T100000
DTEND;TZID=America/Vancouver:20260223T130000
DTSTAMP:20260424T031729
CREATED:20260122T221555Z
LAST-MODIFIED:20260122T221555Z
UID:9224-1771840800-1771851600@ocv.ca
SUMMARY:A1b Mystic Vale\, Finnerty Gdns\, Mt Tolmie
DESCRIPTION:Meet at Gyro Park. Hike is 190 m – 9 km – 3 hrs. Email leader Jan M if coming.
URL:https://ocv.ca/event/a1b-mystic-vale-finnerty-gdns-mt-tolmie-3/
CATEGORIES:A1b Hike
END:VEVENT
BEGIN:VEVENT
DTSTART;TZID=America/Vancouver:20260225T083000
DTEND;TZID=America/Vancouver:20260225T103000
DTSTAMP:20260424T031729
CREATED:20260122T221953Z
LAST-MODIFIED:20260122T221953Z
UID:9230-1772008200-1772015400@ocv.ca
SUMMARY:A1b NW Francis King Park
DESCRIPTION:Meet at Francis King parking lot. Hike is 80 m – 5 km – 2 hrs. Slow pace. Email leader Ken M if coming.
URL:https://ocv.ca/event/a1b-nw-francis-king-park-30/
CATEGORIES:A1b Hike
END:VEVENT
BEGIN:VEVENT
DTSTART;TZID=America/Vancouver:20260227T090000
DTEND;TZID=America/Vancouver:20260227T120000
DTSTAMP:20260424T031729
CREATED:20260122T222051Z
LAST-MODIFIED:20260122T222051Z
UID:9232-1772182800-1772193600@ocv.ca
SUMMARY:A1b Killarney Lake – Mt Work
DESCRIPTION:Meet at end of Woodridge Place. Hike is 260 m – 9 km – 3 hrs. Moderate pace. Email leader Lorraine L if coming.
URL:https://ocv.ca/event/a1b-killarney-lake-mt-work-13/
CATEGORIES:A1b Hike
END:VEVENT
BEGIN:VEVENT
DTSTART;TZID=America/Vancouver:20260228T100000
DTEND;TZID=America/Vancouver:20260228T123000
DTSTAMP:20260424T031729
CREATED:20260122T222150Z
LAST-MODIFIED:20260122T222150Z
UID:9236-1772272800-1772281800@ocv.ca
SUMMARY:A1b Swan Lake and Christmas Hill
DESCRIPTION:Meet at Beckwith Park. Hike is 120 m – 8.5 km – 2.5 hrs. Email leader Paula M if coming.
URL:https://ocv.ca/event/a1b-swan-lake-and-christmas-hill/
CATEGORIES:A1b Hike
END:VEVENT
END:VCALENDAR