BEGIN:VCALENDAR
VERSION:2.0
PRODID:-//OCV.ca - ECPv6.15.13.1//NONSGML v1.0//EN
CALSCALE:GREGORIAN
METHOD:PUBLISH
X-WR-CALNAME:OCV.ca
X-ORIGINAL-URL:https://ocv.ca
X-WR-CALDESC:Events for OCV.ca
REFRESH-INTERVAL;VALUE=DURATION:PT1H
X-Robots-Tag:noindex
X-PUBLISHED-TTL:PT1H
BEGIN:VTIMEZONE
TZID:America/Vancouver
BEGIN:DAYLIGHT
TZOFFSETFROM:-0800
TZOFFSETTO:-0700
TZNAME:PDT
DTSTART:20240310T100000
END:DAYLIGHT
BEGIN:STANDARD
TZOFFSETFROM:-0700
TZOFFSETTO:-0800
TZNAME:PST
DTSTART:20241103T090000
END:STANDARD
BEGIN:DAYLIGHT
TZOFFSETFROM:-0800
TZOFFSETTO:-0700
TZNAME:PDT
DTSTART:20250309T100000
END:DAYLIGHT
BEGIN:STANDARD
TZOFFSETFROM:-0700
TZOFFSETTO:-0800
TZNAME:PST
DTSTART:20251102T090000
END:STANDARD
BEGIN:DAYLIGHT
TZOFFSETFROM:-0800
TZOFFSETTO:-0700
TZNAME:PDT
DTSTART:20260308T100000
END:DAYLIGHT
BEGIN:STANDARD
TZOFFSETFROM:-0700
TZOFFSETTO:-0800
TZNAME:PST
DTSTART:20261101T090000
END:STANDARD
END:VTIMEZONE
BEGIN:VEVENT
DTSTART;TZID=America/Vancouver:20251013T093000
DTEND;TZID=America/Vancouver:20251013T130000
DTSTAMP:20260424T102126
CREATED:20250924T042848Z
LAST-MODIFIED:20250924T042848Z
UID:8710-1760347800-1760360400@ocv.ca
SUMMARY:A1b Partridge Hills
DESCRIPTION:Meet at the Durrance Lake parking lot. \nHike starts at 9:30. \nHike is 270m – 7.5 kms – 3-3.5 hrs. \nMust email Cathy G. if coming.
URL:https://ocv.ca/event/a1b-partridge-hills-6/
CATEGORIES:A1b Hike
END:VEVENT
END:VCALENDAR