BEGIN:VCALENDAR
VERSION:2.0
PRODID:-//OCV.ca - ECPv6.15.13.1//NONSGML v1.0//EN
CALSCALE:GREGORIAN
METHOD:PUBLISH
X-WR-CALNAME:OCV.ca
X-ORIGINAL-URL:https://ocv.ca
X-WR-CALDESC:Events for OCV.ca
REFRESH-INTERVAL;VALUE=DURATION:PT1H
X-Robots-Tag:noindex
X-PUBLISHED-TTL:PT1H
BEGIN:VTIMEZONE
TZID:America/Vancouver
BEGIN:DAYLIGHT
TZOFFSETFROM:-0800
TZOFFSETTO:-0700
TZNAME:PDT
DTSTART:20220313T100000
END:DAYLIGHT
BEGIN:STANDARD
TZOFFSETFROM:-0700
TZOFFSETTO:-0800
TZNAME:PST
DTSTART:20221106T090000
END:STANDARD
BEGIN:DAYLIGHT
TZOFFSETFROM:-0800
TZOFFSETTO:-0700
TZNAME:PDT
DTSTART:20230312T100000
END:DAYLIGHT
BEGIN:STANDARD
TZOFFSETFROM:-0700
TZOFFSETTO:-0800
TZNAME:PST
DTSTART:20231105T090000
END:STANDARD
BEGIN:DAYLIGHT
TZOFFSETFROM:-0800
TZOFFSETTO:-0700
TZNAME:PDT
DTSTART:20240310T100000
END:DAYLIGHT
BEGIN:STANDARD
TZOFFSETFROM:-0700
TZOFFSETTO:-0800
TZNAME:PST
DTSTART:20241103T090000
END:STANDARD
BEGIN:DAYLIGHT
TZOFFSETFROM:-0800
TZOFFSETTO:-0700
TZNAME:PDT
DTSTART:20250309T100000
END:DAYLIGHT
BEGIN:STANDARD
TZOFFSETFROM:-0700
TZOFFSETTO:-0800
TZNAME:PST
DTSTART:20251102T090000
END:STANDARD
BEGIN:DAYLIGHT
TZOFFSETFROM:-0800
TZOFFSETTO:-0700
TZNAME:PDT
DTSTART:20260308T100000
END:DAYLIGHT
BEGIN:STANDARD
TZOFFSETFROM:-0700
TZOFFSETTO:-0800
TZNAME:PST
DTSTART:20261101T090000
END:STANDARD
BEGIN:DAYLIGHT
TZOFFSETFROM:-0800
TZOFFSETTO:-0700
TZNAME:PDT
DTSTART:20270314T100000
END:DAYLIGHT
BEGIN:STANDARD
TZOFFSETFROM:-0700
TZOFFSETTO:-0800
TZNAME:PST
DTSTART:20271107T090000
END:STANDARD
END:VTIMEZONE
BEGIN:VEVENT
DTSTART;TZID=America/Vancouver:20260411T100000
DTEND;TZID=America/Vancouver:20260411T123000
DTSTAMP:20260421T152946
CREATED:20260320T211008Z
LAST-MODIFIED:20260320T211008Z
UID:9575-1775901600-1775910600@ocv.ca
SUMMARY:A1a Royal Roads and Esquimalt lagoon
DESCRIPTION:Meet at Aldene Rd Parking lot. Hike is 120 m – 8.5 km – 2.5 hrs. Email leader Paula M if coming.
URL:https://ocv.ca/event/a1a-royal-roads-and-esquimalt-lagoon/
CATEGORIES:A1a Hike
END:VEVENT
BEGIN:VEVENT
DTSTART;TZID=America/Vancouver:20260404T094500
DTEND;TZID=America/Vancouver:20260404T120000
DTSTAMP:20260421T152946
CREATED:20260320T210240Z
LAST-MODIFIED:20260320T210240Z
UID:9558-1775295900-1775304000@ocv.ca
SUMMARY:A1a South Oak Bay Ramble
DESCRIPTION:Meet at Oak Bay Marina near parking lot entrance. Walk is 2 hrs. Easy pace. No prior sign-up required. Leader is Eric B.
URL:https://ocv.ca/event/a1a-south-oak-bay-ramble-2/
CATEGORIES:A1a Hike
END:VEVENT
BEGIN:VEVENT
DTSTART;TZID=America/Vancouver:20260322T094500
DTEND;TZID=America/Vancouver:20260322T120000
DTSTAMP:20260421T152946
CREATED:20260219T215438Z
LAST-MODIFIED:20260219T215438Z
UID:9431-1774172700-1774180800@ocv.ca
SUMMARY:A1a Esquimalt Lanes and waterfront
DESCRIPTION:Meet at Archie Browning Sport Centre\, Lyall Street entrance. Hike is 50 m – 8 km – 2 hrs. Moderate pace. No prior sign-up required. Leader is Eric B.
URL:https://ocv.ca/event/a1a-esquimalt-lanes-and-waterfront/
CATEGORIES:A1a Hike
END:VEVENT
BEGIN:VEVENT
DTSTART;TZID=America/Vancouver:20260214T100000
DTEND;TZID=America/Vancouver:20260214T123000
DTSTAMP:20260421T152946
CREATED:20260122T221220Z
LAST-MODIFIED:20260122T221220Z
UID:9215-1771063200-1771072200@ocv.ca
SUMMARY:A1a Esquimalt lagoon and Royal Roads
DESCRIPTION:Meet at Aldene Rd Parking lot. Hike is 120 m – 8.5 km – 2.5 hrs. Email leader Paula M if coming.
URL:https://ocv.ca/event/a1a-esquimalt-lagoon-and-royal-roads/
CATEGORIES:A1a Hike
END:VEVENT
BEGIN:VEVENT
DTSTART;TZID=America/Vancouver:20260131T100000
DTEND;TZID=America/Vancouver:20260131T123000
DTSTAMP:20260421T152946
CREATED:20251219T215427Z
LAST-MODIFIED:20251219T215427Z
UID:9107-1769853600-1769862600@ocv.ca
SUMMARY:A1a Saanich 8 Park loop
DESCRIPTION:Meet at Hyacinth Park. Hike is 100 m – 9 km – 2.5 hrs. Urban walk. Email leader Paula M if coming.
URL:https://ocv.ca/event/a1a-saanich-8-park-loop-5/
CATEGORIES:A1a Hike
END:VEVENT
BEGIN:VEVENT
DTSTART;TZID=America/Vancouver:20250601T090000
DTEND;TZID=America/Vancouver:20250601T120000
DTSTAMP:20260421T152946
CREATED:20250523T032110Z
LAST-MODIFIED:20250523T032110Z
UID:8252-1748768400-1748779200@ocv.ca
SUMMARY:A1a Hands of Time Sculptures
DESCRIPTION:Meet on Kimta Road at Catherine Street (near Spinnakers Brew Pub). Free parking all day on Sunday. \nWalk starts at 9:00. \nWalk is 2.5-3 hrs. \nIn celebration of Victoria’s 150th Anniversary\, 12 bronze sculptures were commissioned and strategically placed (hidden) throughout the downtown area. Discover all 12 sculptures and learn about their meaning to the development of Victoria. We will end in Beacon Hill Park where we will search for the Sleeping Lady. \nEmail Cathy G. if coming.
URL:https://ocv.ca/event/a1a-hands-of-time-sculptures/
CATEGORIES:A1a Hike
END:VEVENT
BEGIN:VEVENT
DTSTART;TZID=America/Vancouver:20240306T093000
DTEND;TZID=America/Vancouver:20240306T120000
DTSTAMP:20260421T152946
CREATED:20240222T040129Z
LAST-MODIFIED:20240222T040129Z
UID:6699-1709717400-1709726400@ocv.ca
SUMMARY:A1a Esquimalt Parks Walk minus High Rock
DESCRIPTION:Meet at Spinnakers Pub\, 308 Catherine St. Hike is 130m – 9.5 km – 2.5 hrs. Moderate pace. Email leader Lyn A if coming.
URL:https://ocv.ca/event/a1a-esquimalt-parks-walk-minus-high-rock/
CATEGORIES:A1a Hike
END:VEVENT
BEGIN:VEVENT
DTSTART;TZID=America/Vancouver:20240302T100000
DTEND;TZID=America/Vancouver:20240302T123000
DTSTAMP:20260421T152946
CREATED:20240222T035815Z
LAST-MODIFIED:20240222T035815Z
UID:6689-1709373600-1709382600@ocv.ca
SUMMARY:A1a Colquitz\, Layritz Hill loop
DESCRIPTION:Meet at Mann Ave crosswalk in the middle of Mann Ave. \nHike is 125 m – 7.25 km – 2.5 hrs. \nEmail leader Paula M if coming.
URL:https://ocv.ca/event/a1a-colquitz-layritz-hill-loop/
CATEGORIES:A1a Hike
END:VEVENT
BEGIN:VEVENT
DTSTART;VALUE=DATE:20240219
DTEND;VALUE=DATE:20240220
DTSTAMP:20260421T152946
CREATED:20240217T235112Z
LAST-MODIFIED:20240217T235112Z
UID:6680-1708300800-1708387199@ocv.ca
SUMMARY:A1a Bear Hill from Hamsterly Beach
DESCRIPTION:Meet at Hamsterly Beach. \nHike starts at 10:00. \nHike is 100m – 7.5 kms -moderate pace. \nEmail Paula M. if coming.
URL:https://ocv.ca/event/a1a-bear-hill-from-hamsterly-beach/
CATEGORIES:A1a Hike
END:VEVENT
BEGIN:VEVENT
DTSTART;TZID=America/Vancouver:20240120T100000
DTEND;TZID=America/Vancouver:20240120T123000
DTSTAMP:20260421T152946
CREATED:20231217T011926Z
LAST-MODIFIED:20240120T013448Z
UID:6493-1705744800-1705753800@ocv.ca
SUMMARY:**UPDATE**Hike Cancelled**A1a Layritz Hill
DESCRIPTION:This hike has been cancelled due to weather conditions.
URL:https://ocv.ca/event/a1a-layritz-hill/
CATEGORIES:A1a Hike
END:VEVENT
BEGIN:VEVENT
DTSTART;TZID=America/Vancouver:20231227T100000
DTEND;TZID=America/Vancouver:20231227T123000
DTSTAMP:20260421T152946
CREATED:20231120T022258Z
LAST-MODIFIED:20231120T023827Z
UID:6423-1703671200-1703680200@ocv.ca
SUMMARY:A1a James Bay Walk
DESCRIPTION:Meet at Corner Cook and Leonard. Parking on Leonard. Bring snack/ lunch. Hike is 120 m – 8 km – 2.5 hrs. Email leader Lorraine L if coming.
URL:https://ocv.ca/event/a1a-james-bay-walk-3/
CATEGORIES:A1a Hike
END:VEVENT
BEGIN:VEVENT
DTSTART;TZID=America/Vancouver:20231213T093000
DTEND;TZID=America/Vancouver:20231213T120000
DTSTAMP:20260421T152946
CREATED:20231120T021011Z
LAST-MODIFIED:20231120T021011Z
UID:6392-1702459800-1702468800@ocv.ca
SUMMARY:A1a Esquimalt Parks Walk
DESCRIPTION:Meet at Spinnakers Pub\, 308 Catherine St. Hike is 130m – 9.5 km – 2.5 hrs. Moderate pace. Email leader Lyn A if coming.
URL:https://ocv.ca/event/a1a-esquimalt-parks-walk-2/
CATEGORIES:A1a Hike
END:VEVENT
BEGIN:VEVENT
DTSTART;TZID=America/Vancouver:20231209T100000
DTEND;TZID=America/Vancouver:20231209T123000
DTSTAMP:20260421T152946
CREATED:20231120T020557Z
LAST-MODIFIED:20231120T020557Z
UID:6382-1702116000-1702125000@ocv.ca
SUMMARY:A1a South Oak Bay Ramble
DESCRIPTION:Meet leader at Oak Bay Marina parking lot near Beach Drive. Hike is 2.5 hrs. Email leader Eric B if coming.
URL:https://ocv.ca/event/a1a-south-oak-bay-ramble/
CATEGORIES:A1a Hike
END:VEVENT
END:VCALENDAR