BEGIN:VCALENDAR
VERSION:2.0
PRODID:-//OCV.ca - ECPv6.15.13.1//NONSGML v1.0//EN
CALSCALE:GREGORIAN
METHOD:PUBLISH
X-ORIGINAL-URL:https://ocv.ca
X-WR-CALDESC:Events for OCV.ca
REFRESH-INTERVAL;VALUE=DURATION:PT1H
X-Robots-Tag:noindex
X-PUBLISHED-TTL:PT1H
BEGIN:VTIMEZONE
TZID:America/Vancouver
BEGIN:DAYLIGHT
TZOFFSETFROM:-0800
TZOFFSETTO:-0700
TZNAME:PDT
DTSTART:20240310T100000
END:DAYLIGHT
BEGIN:STANDARD
TZOFFSETFROM:-0700
TZOFFSETTO:-0800
TZNAME:PST
DTSTART:20241103T090000
END:STANDARD
BEGIN:DAYLIGHT
TZOFFSETFROM:-0800
TZOFFSETTO:-0700
TZNAME:PDT
DTSTART:20250309T100000
END:DAYLIGHT
BEGIN:STANDARD
TZOFFSETFROM:-0700
TZOFFSETTO:-0800
TZNAME:PST
DTSTART:20251102T090000
END:STANDARD
BEGIN:DAYLIGHT
TZOFFSETFROM:-0800
TZOFFSETTO:-0700
TZNAME:PDT
DTSTART:20260308T100000
END:DAYLIGHT
BEGIN:STANDARD
TZOFFSETFROM:-0700
TZOFFSETTO:-0800
TZNAME:PST
DTSTART:20261101T090000
END:STANDARD
END:VTIMEZONE
BEGIN:VEVENT
DTSTART;VALUE=DATE:20250722
DTEND;VALUE=DATE:20250723
DTSTAMP:20260423T001228
CREATED:20250621T211442Z
LAST-MODIFIED:20250621T211442Z
UID:8337-1753142400-1753228799@ocv.ca
SUMMARY:A/B2b Saturna Island Coast Trail
DESCRIPTION:Contact leader for ferry information. \nMust email Denise T. if coming.
URL:https://ocv.ca/event/a-b2b-saturna-island-coast-trail/
CATEGORIES:A/B2b Hike
END:VEVENT
BEGIN:VEVENT
DTSTART;VALUE=DATE:20250727
DTEND;VALUE=DATE:20250728
DTSTAMP:20260423T001228
CREATED:20250621T212253Z
LAST-MODIFIED:20250622T025219Z
UID:8343-1753574400-1753660799@ocv.ca
SUMMARY:A/B2b Goldstream Park Explore
DESCRIPTION:Meet at the Goldstream Park Group Campsite. \nHike starts at 9:00. \nHike is 300m – 10kms. \nHike explores the 1890’s copper/gold mine shafts\, 1967 flying Fireman waterbomber crash site (engines & parts of the fuselage) – access to some sites off trail. \nMust email Joe M. if coming.
URL:https://ocv.ca/event/a-b2b-goldstream-park-explore/
CATEGORIES:A/B2b Hike
END:VEVENT
END:VCALENDAR