BEGIN:VCALENDAR
VERSION:2.0
PRODID:-//OCV.ca - ECPv6.15.13.1//NONSGML v1.0//EN
CALSCALE:GREGORIAN
METHOD:PUBLISH
X-WR-CALNAME:OCV.ca
X-ORIGINAL-URL:https://ocv.ca
X-WR-CALDESC:Events for OCV.ca
REFRESH-INTERVAL;VALUE=DURATION:PT1H
X-Robots-Tag:noindex
X-PUBLISHED-TTL:PT1H
BEGIN:VTIMEZONE
TZID:America/Vancouver
BEGIN:DAYLIGHT
TZOFFSETFROM:-0800
TZOFFSETTO:-0700
TZNAME:PDT
DTSTART:20230312T100000
END:DAYLIGHT
BEGIN:STANDARD
TZOFFSETFROM:-0700
TZOFFSETTO:-0800
TZNAME:PST
DTSTART:20231105T090000
END:STANDARD
BEGIN:DAYLIGHT
TZOFFSETFROM:-0800
TZOFFSETTO:-0700
TZNAME:PDT
DTSTART:20240310T100000
END:DAYLIGHT
BEGIN:STANDARD
TZOFFSETFROM:-0700
TZOFFSETTO:-0800
TZNAME:PST
DTSTART:20241103T090000
END:STANDARD
BEGIN:DAYLIGHT
TZOFFSETFROM:-0800
TZOFFSETTO:-0700
TZNAME:PDT
DTSTART:20250309T100000
END:DAYLIGHT
BEGIN:STANDARD
TZOFFSETFROM:-0700
TZOFFSETTO:-0800
TZNAME:PST
DTSTART:20251102T090000
END:STANDARD
END:VTIMEZONE
BEGIN:VEVENT
DTSTART;TZID=America/Vancouver:20240826T093000
DTEND;TZID=America/Vancouver:20240826T130000
DTSTAMP:20260423T122414
CREATED:20240724T004217Z
LAST-MODIFIED:20240724T004217Z
UID:7166-1724664600-1724677200@ocv.ca
SUMMARY:A/B1b Gowlland Tod Park - Jocelyn Hill Loop
DESCRIPTION:Meet at TH on Millstream Road just past Emma Dixon Rd. Hike is 290 m – 6 km – 3.5 hrs. Some steep rocky bits. Emma Dixon Trail\, Tai Chi\, Ridge Trail\, Jocelyn Hill. Slow pace. Email leader Shirley T if coming.
URL:https://ocv.ca/event/a-b1b-gowlland-tod-park-jocelyn-hill-loop-3/
CATEGORIES:A/B1b Hike
END:VEVENT
END:VCALENDAR